BEGIN:VCALENDAR
VERSION:2.0
PRODID:-//Congregation Kol Ami - ECPv6.15.20//NONSGML v1.0//EN
CALSCALE:GREGORIAN
METHOD:PUBLISH
X-WR-CALNAME:Congregation Kol Ami
X-ORIGINAL-URL:https://kolami-tx.org/wp
X-WR-CALDESC:Events for Congregation Kol Ami
REFRESH-INTERVAL;VALUE=DURATION:PT1H
X-Robots-Tag:noindex
X-PUBLISHED-TTL:PT1H
BEGIN:VTIMEZONE
TZID:America/Chicago
BEGIN:DAYLIGHT
TZOFFSETFROM:-0600
TZOFFSETTO:-0500
TZNAME:CDT
DTSTART:20260308T080000
END:DAYLIGHT
BEGIN:STANDARD
TZOFFSETFROM:-0500
TZOFFSETTO:-0600
TZNAME:CST
DTSTART:20261101T070000
END:STANDARD
BEGIN:DAYLIGHT
TZOFFSETFROM:-0600
TZOFFSETTO:-0500
TZNAME:CDT
DTSTART:20270314T080000
END:DAYLIGHT
BEGIN:STANDARD
TZOFFSETFROM:-0500
TZOFFSETTO:-0600
TZNAME:CST
DTSTART:20271107T070000
END:STANDARD
BEGIN:DAYLIGHT
TZOFFSETFROM:-0600
TZOFFSETTO:-0500
TZNAME:CDT
DTSTART:20280312T080000
END:DAYLIGHT
BEGIN:STANDARD
TZOFFSETFROM:-0500
TZOFFSETTO:-0600
TZNAME:CST
DTSTART:20281105T070000
END:STANDARD
END:VTIMEZONE
BEGIN:VEVENT
DTSTART;VALUE=DATE:20270208
DTEND;VALUE=DATE:20270209
DTSTAMP:20260425T064243
CREATED:20251229T162218Z
LAST-MODIFIED:20251229T162218Z
UID:10006166-1802044800-1802131199@kolami-tx.org
SUMMARY:1st of Adar I\, 5787
DESCRIPTION:Share this:\n				Share on Facebook (Opens in new window)\n				Facebook\n			\n				Share on X (Opens in new window)\n				X\n			\n				Email a link to a friend (Opens in new window)\n				Email\n			\n				Print (Opens in new window)\n				Print\n			Like this:Like Loading...
URL:https://kolami-tx.org/wp/event/1st-of-adar-i-5787/
END:VEVENT
BEGIN:VEVENT
DTSTART;VALUE=DATE:20270208
DTEND;VALUE=DATE:20270209
DTSTAMP:20260425T064243
CREATED:20251229T162218Z
LAST-MODIFIED:20251229T162218Z
UID:10006167-1802044800-1802131199@kolami-tx.org
SUMMARY:🌒 Rosh Chodesh Adar I
DESCRIPTION:Start of month of Adar I (on leap years) on the Hebrew calendar. Adar I (אֲדָר א׳) is the 6th month of the civil Hebrew year and the 12th month of the biblical Hebrew year. It has 30 days\, occurs only on leap years\, and corresponds to February or March on the Gregorian calendar. רֹאשׁ חוֹדֶשׁ\, transliterated Rosh Chodesh or Rosh Hodesh\, is a minor holiday that occurs at the beginning of every month in the Hebrew calendar. It is marked by the birth of a new moon\nTorah: Numbers 28:1-15\nhttps://hebcal.com/h/rosh-chodesh-adar-i-2027?uc=ical-flower-mound-2027 \nShare this:\n				Share on Facebook (Opens in new window)\n				Facebook\n			\n				Share on X (Opens in new window)\n				X\n			\n				Email a link to a friend (Opens in new window)\n				Email\n			\n				Print (Opens in new window)\n				Print\n			Like this:Like Loading...
URL:https://kolami-tx.org/wp/event/%f0%9f%8c%92-rosh-chodesh-adar-i-2/
CATEGORIES:Holiday
END:VEVENT
END:VCALENDAR