BEGIN:VCALENDAR
VERSION:2.0
PRODID:-//Congregation Kol Ami - ECPv6.15.20//NONSGML v1.0//EN
CALSCALE:GREGORIAN
METHOD:PUBLISH
X-ORIGINAL-URL:https://kolami-tx.org/wp
X-WR-CALDESC:Events for Congregation Kol Ami
REFRESH-INTERVAL;VALUE=DURATION:PT1H
X-Robots-Tag:noindex
X-PUBLISHED-TTL:PT1H
BEGIN:VTIMEZONE
TZID:America/Chicago
BEGIN:DAYLIGHT
TZOFFSETFROM:-0600
TZOFFSETTO:-0500
TZNAME:CDT
DTSTART:20260308T080000
END:DAYLIGHT
BEGIN:STANDARD
TZOFFSETFROM:-0500
TZOFFSETTO:-0600
TZNAME:CST
DTSTART:20261101T070000
END:STANDARD
BEGIN:DAYLIGHT
TZOFFSETFROM:-0600
TZOFFSETTO:-0500
TZNAME:CDT
DTSTART:20270314T080000
END:DAYLIGHT
BEGIN:STANDARD
TZOFFSETFROM:-0500
TZOFFSETTO:-0600
TZNAME:CST
DTSTART:20271107T070000
END:STANDARD
BEGIN:DAYLIGHT
TZOFFSETFROM:-0600
TZOFFSETTO:-0500
TZNAME:CDT
DTSTART:20280312T080000
END:DAYLIGHT
BEGIN:STANDARD
TZOFFSETFROM:-0500
TZOFFSETTO:-0600
TZNAME:CST
DTSTART:20281105T070000
END:STANDARD
END:VTIMEZONE
BEGIN:VEVENT
DTSTART;VALUE=DATE:20270901
DTEND;VALUE=DATE:20270902
DTSTAMP:20260424T090623
CREATED:20251229T163325Z
LAST-MODIFIED:20251229T163325Z
UID:10006505-1819756800-1819843199@kolami-tx.org
SUMMARY:✡️ Yom Kippur Katan
DESCRIPTION:Minor Day of Atonement on the day preceeding Rosh Chodesh Elul \nShare this:\n				Share on Facebook (Opens in new window)\n				Facebook\n			\n				Share on X (Opens in new window)\n				X\n			\n				Email a link to a friend (Opens in new window)\n				Email\n			\n				Print (Opens in new window)\n				Print\n			Like this:Like Loading...
URL:https://kolami-tx.org/wp/event/%e2%9c%a1%ef%b8%8f-yom-kippur-katan-8/
CATEGORIES:Holiday
END:VEVENT
BEGIN:VEVENT
DTSTART;VALUE=DATE:20270902
DTEND;VALUE=DATE:20270903
DTSTAMP:20260424T090623
CREATED:20251229T163325Z
LAST-MODIFIED:20251229T163325Z
UID:10006504-1819843200-1819929599@kolami-tx.org
SUMMARY:🌒 Rosh Chodesh Elul
DESCRIPTION:Start of month of Elul on the Hebrew calendar. Elul (אֱלוּל) is the 12th month of the civil Hebrew year (13th on leap years) and the 6th month of the biblical Hebrew year. It has 29 days and corresponds to August or September on the Gregorian calendar. רֹאשׁ חוֹדֶשׁ\, transliterated Rosh Chodesh or Rosh Hodesh\, is a minor holiday that occurs at the beginning of every month in the Hebrew calendar. It is marked by the birth of a new moon\nTorah: Numbers 28:1-15\nhttps://hebcal.com/h/rosh-chodesh-elul-2027?uc=ical-flower-mound-2027 \nShare this:\n				Share on Facebook (Opens in new window)\n				Facebook\n			\n				Share on X (Opens in new window)\n				X\n			\n				Email a link to a friend (Opens in new window)\n				Email\n			\n				Print (Opens in new window)\n				Print\n			Like this:Like Loading...
URL:https://kolami-tx.org/wp/event/%f0%9f%8c%92-rosh-chodesh-elul-8/
CATEGORIES:Holiday
END:VEVENT
BEGIN:VEVENT
DTSTART;VALUE=DATE:20270903
DTEND;VALUE=DATE:20270904
DTSTAMP:20260424T090623
CREATED:20251229T163308Z
LAST-MODIFIED:20251229T163308Z
UID:10006500-1819929600-1820015999@kolami-tx.org
SUMMARY:🌒 Rosh Chodesh Elul
DESCRIPTION:Start of month of Elul on the Hebrew calendar. Elul (אֱלוּל) is the 12th month of the civil Hebrew year (13th on leap years) and the 6th month of the biblical Hebrew year. It has 29 days and corresponds to August or September on the Gregorian calendar. רֹאשׁ חוֹדֶשׁ\, transliterated Rosh Chodesh or Rosh Hodesh\, is a minor holiday that occurs at the beginning of every month in the Hebrew calendar. It is marked by the birth of a new moon\nTorah: Numbers 28:1-15\nhttps://hebcal.com/h/rosh-chodesh-elul-2027?uc=ical-flower-mound-2027 \nShare this:\n				Share on Facebook (Opens in new window)\n				Facebook\n			\n				Share on X (Opens in new window)\n				X\n			\n				Email a link to a friend (Opens in new window)\n				Email\n			\n				Print (Opens in new window)\n				Print\n			Like this:Like Loading...
URL:https://kolami-tx.org/wp/event/%f0%9f%8c%92-rosh-chodesh-elul-7/
CATEGORIES:Holiday
END:VEVENT
BEGIN:VEVENT
DTSTART;VALUE=DATE:20270903
DTEND;VALUE=DATE:20270904
DTSTAMP:20260424T090623
CREATED:20251229T163325Z
LAST-MODIFIED:20251229T163325Z
UID:10006501-1819929600-1820015999@kolami-tx.org
SUMMARY:🐑 Rosh Hashana LaBehemot
DESCRIPTION:New Year for Tithing Animals\nhttps://hebcal.com/h/rosh-hashana-labehemot-2027?uc=ical-flower-mound-2027 \nShare this:\n				Share on Facebook (Opens in new window)\n				Facebook\n			\n				Share on X (Opens in new window)\n				X\n			\n				Email a link to a friend (Opens in new window)\n				Email\n			\n				Print (Opens in new window)\n				Print\n			Like this:Like Loading...
URL:https://kolami-tx.org/wp/event/%f0%9f%90%91-rosh-hashana-labehemot-4/
CATEGORIES:Holiday
END:VEVENT
BEGIN:VEVENT
DTSTART;TZID=America/Chicago:20270903T193200
DTEND;TZID=America/Chicago:20270903T193200
DTSTAMP:20260424T090623
CREATED:20251229T163325Z
LAST-MODIFIED:20251229T163325Z
UID:10006508-1819999920-1819999920@kolami-tx.org
SUMMARY:🕯️ Candle lighting
DESCRIPTION:Parashat Shoftim \nShare this:\n				Share on Facebook (Opens in new window)\n				Facebook\n			\n				Share on X (Opens in new window)\n				X\n			\n				Email a link to a friend (Opens in new window)\n				Email\n			\n				Print (Opens in new window)\n				Print\n			Like this:Like Loading...
URL:https://kolami-tx.org/wp/event/%f0%9f%95%af%ef%b8%8f-candle-lighting-224/
LOCATION:Flower Mound
CATEGORIES:Holiday
END:VEVENT
BEGIN:VEVENT
DTSTART;TZID=America/Chicago:20270904T202700
DTEND;TZID=America/Chicago:20270904T202700
DTSTAMP:20260424T090623
CREATED:20251229T163339Z
LAST-MODIFIED:20251229T163339Z
UID:10006511-1820089620-1820089620@kolami-tx.org
SUMMARY:✨ Havdalah
DESCRIPTION:Share this:\n				Share on Facebook (Opens in new window)\n				Facebook\n			\n				Share on X (Opens in new window)\n				X\n			\n				Email a link to a friend (Opens in new window)\n				Email\n			\n				Print (Opens in new window)\n				Print\n			Like this:Like Loading...
URL:https://kolami-tx.org/wp/event/%e2%9c%a8-havdalah-196/
LOCATION:Flower Mound
CATEGORIES:Holiday
END:VEVENT
BEGIN:VEVENT
DTSTART;TZID=America/Chicago:20270910T192300
DTEND;TZID=America/Chicago:20270910T192300
DTSTAMP:20260424T090623
CREATED:20251229T163339Z
LAST-MODIFIED:20251229T163339Z
UID:10006513-1820604180-1820604180@kolami-tx.org
SUMMARY:🕯️ Candle lighting
DESCRIPTION:Parashat Ki Teitzei \nShare this:\n				Share on Facebook (Opens in new window)\n				Facebook\n			\n				Share on X (Opens in new window)\n				X\n			\n				Email a link to a friend (Opens in new window)\n				Email\n			\n				Print (Opens in new window)\n				Print\n			Like this:Like Loading...
URL:https://kolami-tx.org/wp/event/%f0%9f%95%af%ef%b8%8f-candle-lighting-225/
LOCATION:Flower Mound
CATEGORIES:Holiday
END:VEVENT
BEGIN:VEVENT
DTSTART;TZID=America/Chicago:20270911T201700
DTEND;TZID=America/Chicago:20270911T201700
DTSTAMP:20260424T090623
CREATED:20251229T163339Z
LAST-MODIFIED:20251229T163339Z
UID:10006516-1820693820-1820693820@kolami-tx.org
SUMMARY:✨ Havdalah
DESCRIPTION:Share this:\n				Share on Facebook (Opens in new window)\n				Facebook\n			\n				Share on X (Opens in new window)\n				X\n			\n				Email a link to a friend (Opens in new window)\n				Email\n			\n				Print (Opens in new window)\n				Print\n			Like this:Like Loading...
URL:https://kolami-tx.org/wp/event/%e2%9c%a8-havdalah-197/
LOCATION:Flower Mound
CATEGORIES:Holiday
END:VEVENT
BEGIN:VEVENT
DTSTART;TZID=America/Chicago:20270917T191300
DTEND;TZID=America/Chicago:20270917T191300
DTSTAMP:20260424T090623
CREATED:20251229T163339Z
LAST-MODIFIED:20251229T163339Z
UID:10006519-1821208380-1821208380@kolami-tx.org
SUMMARY:🕯️ Candle lighting
DESCRIPTION:Parashat Ki Tavo \nShare this:\n				Share on Facebook (Opens in new window)\n				Facebook\n			\n				Share on X (Opens in new window)\n				X\n			\n				Email a link to a friend (Opens in new window)\n				Email\n			\n				Print (Opens in new window)\n				Print\n			Like this:Like Loading...
URL:https://kolami-tx.org/wp/event/%f0%9f%95%af%ef%b8%8f-candle-lighting-226/
LOCATION:Flower Mound
CATEGORIES:Holiday
END:VEVENT
BEGIN:VEVENT
DTSTART;TZID=America/Chicago:20270918T200700
DTEND;TZID=America/Chicago:20270918T200700
DTSTAMP:20260424T090623
CREATED:20251229T163352Z
LAST-MODIFIED:20251229T163352Z
UID:10006521-1821298020-1821298020@kolami-tx.org
SUMMARY:✨ Havdalah
DESCRIPTION:Share this:\n				Share on Facebook (Opens in new window)\n				Facebook\n			\n				Share on X (Opens in new window)\n				X\n			\n				Email a link to a friend (Opens in new window)\n				Email\n			\n				Print (Opens in new window)\n				Print\n			Like this:Like Loading...
URL:https://kolami-tx.org/wp/event/%e2%9c%a8-havdalah-198/
LOCATION:Flower Mound
CATEGORIES:Holiday
END:VEVENT
BEGIN:VEVENT
DTSTART;TZID=America/Chicago:20270924T190400
DTEND;TZID=America/Chicago:20270924T190400
DTSTAMP:20260424T090623
CREATED:20251229T163352Z
LAST-MODIFIED:20251229T163352Z
UID:10006523-1821812640-1821812640@kolami-tx.org
SUMMARY:🕯️ Candle lighting
DESCRIPTION:Parashat Nitzavim-Vayeilech \nShare this:\n				Share on Facebook (Opens in new window)\n				Facebook\n			\n				Share on X (Opens in new window)\n				X\n			\n				Email a link to a friend (Opens in new window)\n				Email\n			\n				Print (Opens in new window)\n				Print\n			Like this:Like Loading...
URL:https://kolami-tx.org/wp/event/%f0%9f%95%af%ef%b8%8f-candle-lighting-227/
LOCATION:Flower Mound
CATEGORIES:Holiday
END:VEVENT
BEGIN:VEVENT
DTSTART;VALUE=DATE:20270925
DTEND;VALUE=DATE:20270926
DTSTAMP:20260424T090623
CREATED:20251229T163352Z
LAST-MODIFIED:20251229T163352Z
UID:10006525-1821830400-1821916799@kolami-tx.org
SUMMARY:🕍 Leil Selichot
DESCRIPTION:Prayers for forgiveness in preparation for the High Holidays\nhttps://hebcal.com/h/leil-selichot-2027?uc=ical-flower-mound-2027 \nShare this:\n				Share on Facebook (Opens in new window)\n				Facebook\n			\n				Share on X (Opens in new window)\n				X\n			\n				Email a link to a friend (Opens in new window)\n				Email\n			\n				Print (Opens in new window)\n				Print\n			Like this:Like Loading...
URL:https://kolami-tx.org/wp/event/%f0%9f%95%8d-leil-selichot-4/
CATEGORIES:Holiday
END:VEVENT
BEGIN:VEVENT
DTSTART;TZID=America/Chicago:20270925T195800
DTEND;TZID=America/Chicago:20270925T195800
DTSTAMP:20260424T090623
CREATED:20251229T163352Z
LAST-MODIFIED:20251229T163352Z
UID:10006527-1821902280-1821902280@kolami-tx.org
SUMMARY:✨ Havdalah
DESCRIPTION:Share this:\n				Share on Facebook (Opens in new window)\n				Facebook\n			\n				Share on X (Opens in new window)\n				X\n			\n				Email a link to a friend (Opens in new window)\n				Email\n			\n				Print (Opens in new window)\n				Print\n			Like this:Like Loading...
URL:https://kolami-tx.org/wp/event/%e2%9c%a8-havdalah-199/
LOCATION:Flower Mound
CATEGORIES:Holiday
END:VEVENT
BEGIN:VEVENT
DTSTART;VALUE=DATE:20271001
DTEND;VALUE=DATE:20271002
DTSTAMP:20260424T090623
CREATED:20251229T163352Z
LAST-MODIFIED:20251229T163352Z
UID:10006529-1822348800-1822435199@kolami-tx.org
SUMMARY:🍏🍯 Erev Rosh Hashana
DESCRIPTION:The Jewish New Year. Also spelled Rosh Hashanah\nhttps://hebcal.com/h/rosh-hashana-2027?uc=ical-flower-mound-2027 \nShare this:\n				Share on Facebook (Opens in new window)\n				Facebook\n			\n				Share on X (Opens in new window)\n				X\n			\n				Email a link to a friend (Opens in new window)\n				Email\n			\n				Print (Opens in new window)\n				Print\n			Like this:Like Loading...
URL:https://kolami-tx.org/wp/event/%f0%9f%8d%8f%f0%9f%8d%af-erev-rosh-hashana-4/
CATEGORIES:Holiday
END:VEVENT
BEGIN:VEVENT
DTSTART;TZID=America/Chicago:20271001T185400
DTEND;TZID=America/Chicago:20271001T185400
DTSTAMP:20260424T090623
CREATED:20251229T163352Z
LAST-MODIFIED:20251229T163352Z
UID:10006530-1822416840-1822416840@kolami-tx.org
SUMMARY:🕯️ Candle lighting
DESCRIPTION:Share this:\n				Share on Facebook (Opens in new window)\n				Facebook\n			\n				Share on X (Opens in new window)\n				X\n			\n				Email a link to a friend (Opens in new window)\n				Email\n			\n				Print (Opens in new window)\n				Print\n			Like this:Like Loading...
URL:https://kolami-tx.org/wp/event/%f0%9f%95%af%ef%b8%8f-candle-lighting-228/
LOCATION:Flower Mound
CATEGORIES:Holiday
END:VEVENT
BEGIN:VEVENT
DTSTART;VALUE=DATE:20271002
DTEND;VALUE=DATE:20271003
DTSTAMP:20260424T090623
CREATED:20251229T163407Z
LAST-MODIFIED:20251229T163407Z
UID:10006532-1822435200-1822521599@kolami-tx.org
SUMMARY:🍏🍯 Rosh Hashana 5788
DESCRIPTION:The Jewish New Year. Also spelled Rosh Hashanah\nTorah: Genesis 21:1-34; Numbers 29:1-6\nHaftarah: I Samuel 1:1-2:10\nhttps://hebcal.com/h/rosh-hashana-2027?uc=ical-flower-mound-2027 \nShare this:\n				Share on Facebook (Opens in new window)\n				Facebook\n			\n				Share on X (Opens in new window)\n				X\n			\n				Email a link to a friend (Opens in new window)\n				Email\n			\n				Print (Opens in new window)\n				Print\n			Like this:Like Loading...
URL:https://kolami-tx.org/wp/event/%f0%9f%8d%8f%f0%9f%8d%af-rosh-hashana-5788/
CATEGORIES:Holiday
END:VEVENT
BEGIN:VEVENT
DTSTART;TZID=America/Chicago:20271002T194800
DTEND;TZID=America/Chicago:20271002T194800
DTSTAMP:20260424T090623
CREATED:20251229T163407Z
LAST-MODIFIED:20251229T163407Z
UID:10006533-1822506480-1822506480@kolami-tx.org
SUMMARY:🕯️ Candle lighting
DESCRIPTION:Share this:\n				Share on Facebook (Opens in new window)\n				Facebook\n			\n				Share on X (Opens in new window)\n				X\n			\n				Email a link to a friend (Opens in new window)\n				Email\n			\n				Print (Opens in new window)\n				Print\n			Like this:Like Loading...
URL:https://kolami-tx.org/wp/event/%f0%9f%95%af%ef%b8%8f-candle-lighting-229/
LOCATION:Flower Mound
CATEGORIES:Holiday
END:VEVENT
BEGIN:VEVENT
DTSTART;VALUE=DATE:20271003
DTEND;VALUE=DATE:20271004
DTSTAMP:20260424T090623
CREATED:20251229T163407Z
LAST-MODIFIED:20251229T163407Z
UID:10006537-1822521600-1822607999@kolami-tx.org
SUMMARY:🍏🍯 Rosh Hashana II
DESCRIPTION:The Jewish New Year. Also spelled Rosh Hashanah\nTorah: Genesis 22:1-24; Numbers 29:1-6\nHaftarah: Jeremiah 31:2-20\nhttps://hebcal.com/h/rosh-hashana-2027?uc=ical-flower-mound-2027 \nShare this:\n				Share on Facebook (Opens in new window)\n				Facebook\n			\n				Share on X (Opens in new window)\n				X\n			\n				Email a link to a friend (Opens in new window)\n				Email\n			\n				Print (Opens in new window)\n				Print\n			Like this:Like Loading...
URL:https://kolami-tx.org/wp/event/%f0%9f%8d%8f%f0%9f%8d%af-rosh-hashana-ii-4/
CATEGORIES:Holiday
END:VEVENT
BEGIN:VEVENT
DTSTART;TZID=America/Chicago:20271003T194700
DTEND;TZID=America/Chicago:20271003T194700
DTSTAMP:20260424T090623
CREATED:20251229T163407Z
LAST-MODIFIED:20251229T163407Z
UID:10006539-1822592820-1822592820@kolami-tx.org
SUMMARY:✨ Havdalah
DESCRIPTION:Share this:\n				Share on Facebook (Opens in new window)\n				Facebook\n			\n				Share on X (Opens in new window)\n				X\n			\n				Email a link to a friend (Opens in new window)\n				Email\n			\n				Print (Opens in new window)\n				Print\n			Like this:Like Loading...
URL:https://kolami-tx.org/wp/event/%e2%9c%a8-havdalah-200/
LOCATION:Flower Mound
CATEGORIES:Holiday
END:VEVENT
BEGIN:VEVENT
DTSTART;VALUE=DATE:20271004
DTEND;VALUE=DATE:20271005
DTSTAMP:20260424T090623
CREATED:20251229T163407Z
LAST-MODIFIED:20251229T163407Z
UID:10006534-1822608000-1822694399@kolami-tx.org
SUMMARY:✡️ Tzom Gedaliah
DESCRIPTION:Fast of the Seventh Month. Commemorates the assassination of the Jewish governor of Judah\nTorah: Exodus 32:11-14\, 34:1-10\nhttps://hebcal.com/h/tzom-gedaliah-2027?uc=ical-flower-mound-2027 \nShare this:\n				Share on Facebook (Opens in new window)\n				Facebook\n			\n				Share on X (Opens in new window)\n				X\n			\n				Email a link to a friend (Opens in new window)\n				Email\n			\n				Print (Opens in new window)\n				Print\n			Like this:Like Loading...
URL:https://kolami-tx.org/wp/event/%e2%9c%a1%ef%b8%8f-tzom-gedaliah/
CATEGORIES:Holiday
END:VEVENT
BEGIN:VEVENT
DTSTART;TZID=America/Chicago:20271008T184500
DTEND;TZID=America/Chicago:20271008T184500
DTSTAMP:20260424T090623
CREATED:20251229T163419Z
LAST-MODIFIED:20251229T163419Z
UID:10006542-1823021100-1823021100@kolami-tx.org
SUMMARY:🕯️ Candle lighting
DESCRIPTION:Parashat Ha’azinu \nShare this:\n				Share on Facebook (Opens in new window)\n				Facebook\n			\n				Share on X (Opens in new window)\n				X\n			\n				Email a link to a friend (Opens in new window)\n				Email\n			\n				Print (Opens in new window)\n				Print\n			Like this:Like Loading...
URL:https://kolami-tx.org/wp/event/%f0%9f%95%af%ef%b8%8f-candle-lighting-230/
LOCATION:Flower Mound
CATEGORIES:Holiday
END:VEVENT
BEGIN:VEVENT
DTSTART;VALUE=DATE:20271009
DTEND;VALUE=DATE:20271010
DTSTAMP:20260424T090623
CREATED:20251229T163419Z
LAST-MODIFIED:20251229T163419Z
UID:10006544-1823040000-1823126399@kolami-tx.org
SUMMARY:🕍 Shabbat Shuva
DESCRIPTION:Shabbat of Returning. Shabbat that occurs during the Ten Days of Repentance between Rosh Hashanah and Yom Kippur\nHaftarah: Hosea 14:2-10; Micah 7:18-20; Joel 2:15-27\nhttps://hebcal.com/h/shabbat-shuva-2027?uc=ical-flower-mound-2027 \nShare this:\n				Share on Facebook (Opens in new window)\n				Facebook\n			\n				Share on X (Opens in new window)\n				X\n			\n				Email a link to a friend (Opens in new window)\n				Email\n			\n				Print (Opens in new window)\n				Print\n			Like this:Like Loading...
URL:https://kolami-tx.org/wp/event/%f0%9f%95%8d-shabbat-shuva-4/
CATEGORIES:Holiday
END:VEVENT
BEGIN:VEVENT
DTSTART;TZID=America/Chicago:20271009T193900
DTEND;TZID=America/Chicago:20271009T193900
DTSTAMP:20260424T090623
CREATED:20251229T163419Z
LAST-MODIFIED:20251229T163419Z
UID:10006546-1823110740-1823110740@kolami-tx.org
SUMMARY:✨ Havdalah
DESCRIPTION:Share this:\n				Share on Facebook (Opens in new window)\n				Facebook\n			\n				Share on X (Opens in new window)\n				X\n			\n				Email a link to a friend (Opens in new window)\n				Email\n			\n				Print (Opens in new window)\n				Print\n			Like this:Like Loading...
URL:https://kolami-tx.org/wp/event/%e2%9c%a8-havdalah-201/
LOCATION:Flower Mound
CATEGORIES:Holiday
END:VEVENT
BEGIN:VEVENT
DTSTART;VALUE=DATE:20271010
DTEND;VALUE=DATE:20271011
DTSTAMP:20260424T090623
CREATED:20251229T163420Z
LAST-MODIFIED:20251229T163420Z
UID:10006548-1823126400-1823212799@kolami-tx.org
SUMMARY:✡️ Erev Yom Kippur
DESCRIPTION:Evening of Yom Kippur (Day of Atonement)\, which includes the Kol Nidre service. The Yom Kippur fast begins at sundown and continues for 25 hours\nhttps://hebcal.com/h/yom-kippur-2027?uc=ical-flower-mound-2027 \nShare this:\n				Share on Facebook (Opens in new window)\n				Facebook\n			\n				Share on X (Opens in new window)\n				X\n			\n				Email a link to a friend (Opens in new window)\n				Email\n			\n				Print (Opens in new window)\n				Print\n			Like this:Like Loading...
URL:https://kolami-tx.org/wp/event/%e2%9c%a1%ef%b8%8f-erev-yom-kippur-4/
CATEGORIES:Holiday
END:VEVENT
BEGIN:VEVENT
DTSTART;TZID=America/Chicago:20271010T184300
DTEND;TZID=America/Chicago:20271010T184300
DTSTAMP:20260424T090623
CREATED:20251229T163420Z
LAST-MODIFIED:20251229T163420Z
UID:10006549-1823193780-1823193780@kolami-tx.org
SUMMARY:🕯️ Candle lighting
DESCRIPTION:Share this:\n				Share on Facebook (Opens in new window)\n				Facebook\n			\n				Share on X (Opens in new window)\n				X\n			\n				Email a link to a friend (Opens in new window)\n				Email\n			\n				Print (Opens in new window)\n				Print\n			Like this:Like Loading...
URL:https://kolami-tx.org/wp/event/%f0%9f%95%af%ef%b8%8f-candle-lighting-231/
LOCATION:Flower Mound
CATEGORIES:Holiday
END:VEVENT
BEGIN:VEVENT
DTSTART;VALUE=DATE:20271011
DTEND;VALUE=DATE:20271012
DTSTAMP:20260424T090623
CREATED:20251229T163433Z
LAST-MODIFIED:20251229T163433Z
UID:10006551-1823212800-1823299199@kolami-tx.org
SUMMARY:✡️ Yom Kippur
DESCRIPTION:Day of Atonement. The holiest day of the year in Judaism\, traditionally observed with a 25-hour period of fasting and intensive prayer\nTorah: Leviticus 16:1-34; Numbers 29:7-11\nHaftarah: Isaiah 57:14-58:14\nhttps://hebcal.com/h/yom-kippur-2027?uc=ical-flower-mound-2027 \nShare this:\n				Share on Facebook (Opens in new window)\n				Facebook\n			\n				Share on X (Opens in new window)\n				X\n			\n				Email a link to a friend (Opens in new window)\n				Email\n			\n				Print (Opens in new window)\n				Print\n			Like this:Like Loading...
URL:https://kolami-tx.org/wp/event/%e2%9c%a1%ef%b8%8f-yom-kippur-4/
CATEGORIES:Holiday
END:VEVENT
BEGIN:VEVENT
DTSTART;TZID=America/Chicago:20271011T193700
DTEND;TZID=America/Chicago:20271011T193700
DTSTAMP:20260424T090623
CREATED:20251229T163433Z
LAST-MODIFIED:20251229T163433Z
UID:10006553-1823283420-1823283420@kolami-tx.org
SUMMARY:✨ Havdalah
DESCRIPTION:Share this:\n				Share on Facebook (Opens in new window)\n				Facebook\n			\n				Share on X (Opens in new window)\n				X\n			\n				Email a link to a friend (Opens in new window)\n				Email\n			\n				Print (Opens in new window)\n				Print\n			Like this:Like Loading...
URL:https://kolami-tx.org/wp/event/%e2%9c%a8-havdalah-202/
LOCATION:Flower Mound
CATEGORIES:Holiday
END:VEVENT
BEGIN:VEVENT
DTSTART;VALUE=DATE:20271015
DTEND;VALUE=DATE:20271016
DTSTAMP:20260424T090623
CREATED:20251229T163433Z
LAST-MODIFIED:20251229T163433Z
UID:10006555-1823558400-1823644799@kolami-tx.org
SUMMARY:🌿🍋 Erev Sukkot
DESCRIPTION:Feast of Booths. Also called the Feast of Tabernacles\, the seven-day holiday is one of the Three Pilgrimage Festivals (Hebrew: שלוש רגלים\, shalosh regalim)\nhttps://hebcal.com/h/sukkot-2027?uc=ical-flower-mound-2027 \nShare this:\n				Share on Facebook (Opens in new window)\n				Facebook\n			\n				Share on X (Opens in new window)\n				X\n			\n				Email a link to a friend (Opens in new window)\n				Email\n			\n				Print (Opens in new window)\n				Print\n			Like this:Like Loading...
URL:https://kolami-tx.org/wp/event/%f0%9f%8c%bf%f0%9f%8d%8b-erev-sukkot-4/
CATEGORIES:Holiday
END:VEVENT
BEGIN:VEVENT
DTSTART;TZID=America/Chicago:20271015T183700
DTEND;TZID=America/Chicago:20271015T183700
DTSTAMP:20260424T090623
CREATED:20251229T163433Z
LAST-MODIFIED:20251229T163433Z
UID:10006556-1823625420-1823625420@kolami-tx.org
SUMMARY:🕯️ Candle lighting
DESCRIPTION:Share this:\n				Share on Facebook (Opens in new window)\n				Facebook\n			\n				Share on X (Opens in new window)\n				X\n			\n				Email a link to a friend (Opens in new window)\n				Email\n			\n				Print (Opens in new window)\n				Print\n			Like this:Like Loading...
URL:https://kolami-tx.org/wp/event/%f0%9f%95%af%ef%b8%8f-candle-lighting-232/
LOCATION:Flower Mound
CATEGORIES:Holiday
END:VEVENT
BEGIN:VEVENT
DTSTART;VALUE=DATE:20271016
DTEND;VALUE=DATE:20271017
DTSTAMP:20260424T090623
CREATED:20251229T163433Z
LAST-MODIFIED:20251229T163433Z
UID:10006558-1823644800-1823731199@kolami-tx.org
SUMMARY:🌿🍋 Sukkot I
DESCRIPTION:Feast of Booths. Also called the Feast of Tabernacles\, the seven-day holiday is one of the Three Pilgrimage Festivals (Hebrew: שלוש רגלים\, shalosh regalim)\nTorah: Leviticus 22:26-23:44; Numbers 29:12-16\nHaftarah: Zechariah 14:1-21\nhttps://hebcal.com/h/sukkot-2027?uc=ical-flower-mound-2027 \nShare this:\n				Share on Facebook (Opens in new window)\n				Facebook\n			\n				Share on X (Opens in new window)\n				X\n			\n				Email a link to a friend (Opens in new window)\n				Email\n			\n				Print (Opens in new window)\n				Print\n			Like this:Like Loading...
URL:https://kolami-tx.org/wp/event/%f0%9f%8c%bf%f0%9f%8d%8b-sukkot-i-4/
CATEGORIES:Holiday
END:VEVENT
END:VCALENDAR