BEGIN:VCALENDAR
VERSION:2.0
PRODID:-//Congregation Kol Ami - ECPv6.15.20//NONSGML v1.0//EN
CALSCALE:GREGORIAN
METHOD:PUBLISH
X-ORIGINAL-URL:https://kolami-tx.org/wp
X-WR-CALDESC:Events for Congregation Kol Ami
REFRESH-INTERVAL;VALUE=DURATION:PT1H
X-Robots-Tag:noindex
X-PUBLISHED-TTL:PT1H
BEGIN:VTIMEZONE
TZID:America/Chicago
BEGIN:DAYLIGHT
TZOFFSETFROM:-0600
TZOFFSETTO:-0500
TZNAME:CDT
DTSTART:20260308T080000
END:DAYLIGHT
BEGIN:STANDARD
TZOFFSETFROM:-0500
TZOFFSETTO:-0600
TZNAME:CST
DTSTART:20261101T070000
END:STANDARD
BEGIN:DAYLIGHT
TZOFFSETFROM:-0600
TZOFFSETTO:-0500
TZNAME:CDT
DTSTART:20270314T080000
END:DAYLIGHT
BEGIN:STANDARD
TZOFFSETFROM:-0500
TZOFFSETTO:-0600
TZNAME:CST
DTSTART:20271107T070000
END:STANDARD
BEGIN:DAYLIGHT
TZOFFSETFROM:-0600
TZOFFSETTO:-0500
TZNAME:CDT
DTSTART:20280312T080000
END:DAYLIGHT
BEGIN:STANDARD
TZOFFSETFROM:-0500
TZOFFSETTO:-0600
TZNAME:CST
DTSTART:20281105T070000
END:STANDARD
END:VTIMEZONE
BEGIN:VEVENT
DTSTART;TZID=America/Chicago:20271023T192300
DTEND;TZID=America/Chicago:20271023T192300
DTSTAMP:20260424T155907
CREATED:20251229T163504Z
LAST-MODIFIED:20251229T163504Z
UID:10006574-1824319380-1824319380@kolami-tx.org
SUMMARY:🕯️ Candle lighting
DESCRIPTION:Share this:\n				Share on Facebook (Opens in new window)\n				Facebook\n			\n				Share on X (Opens in new window)\n				X\n			\n				Email a link to a friend (Opens in new window)\n				Email\n			\n				Print (Opens in new window)\n				Print\n			Like this:Like Loading...
URL:https://kolami-tx.org/wp/event/%f0%9f%95%af%ef%b8%8f-candle-lighting-235/
LOCATION:Flower Mound
CATEGORIES:Holiday
END:VEVENT
BEGIN:VEVENT
DTSTART;VALUE=DATE:20271024
DTEND;VALUE=DATE:20271025
DTSTAMP:20260424T155909
CREATED:20251229T163504Z
LAST-MODIFIED:20251229T163504Z
UID:10006575-1824336000-1824422399@kolami-tx.org
SUMMARY:✡️ Simchat Torah
DESCRIPTION:Day of Celebrating the Torah. Celebration marking the conclusion of the annual cycle of public Torah readings\, and the beginning of a new cycle\nTorah: Deuteronomy 33:1-34:12; Genesis 1:1-2:3; Numbers 29:35-30:1\nHaftarah: Joshua 1:1-18\nhttps://hebcal.com/h/simchat-torah-2027?uc=ical-flower-mound-2027 \nShare this:\n				Share on Facebook (Opens in new window)\n				Facebook\n			\n				Share on X (Opens in new window)\n				X\n			\n				Email a link to a friend (Opens in new window)\n				Email\n			\n				Print (Opens in new window)\n				Print\n			Like this:Like Loading...
URL:https://kolami-tx.org/wp/event/%e2%9c%a1%ef%b8%8f-simchat-torah-4/
CATEGORIES:Holiday
END:VEVENT
BEGIN:VEVENT
DTSTART;TZID=America/Chicago:20271024T192200
DTEND;TZID=America/Chicago:20271024T192200
DTSTAMP:20260424T155909
CREATED:20251229T163505Z
LAST-MODIFIED:20251229T163505Z
UID:10006580-1824405720-1824405720@kolami-tx.org
SUMMARY:✨ Havdalah
DESCRIPTION:Share this:\n				Share on Facebook (Opens in new window)\n				Facebook\n			\n				Share on X (Opens in new window)\n				X\n			\n				Email a link to a friend (Opens in new window)\n				Email\n			\n				Print (Opens in new window)\n				Print\n			Like this:Like Loading...
URL:https://kolami-tx.org/wp/event/%e2%9c%a8-havdalah-204/
LOCATION:Flower Mound
CATEGORIES:Holiday
END:VEVENT
BEGIN:VEVENT
DTSTART;TZID=America/Chicago:20271029T182100
DTEND;TZID=America/Chicago:20271029T182100
DTSTAMP:20260424T155909
CREATED:20251229T163520Z
LAST-MODIFIED:20251229T163520Z
UID:10006582-1824834060-1824834060@kolami-tx.org
SUMMARY:🕯️ Candle lighting
DESCRIPTION:Parashat Bereshit \nShare this:\n				Share on Facebook (Opens in new window)\n				Facebook\n			\n				Share on X (Opens in new window)\n				X\n			\n				Email a link to a friend (Opens in new window)\n				Email\n			\n				Print (Opens in new window)\n				Print\n			Like this:Like Loading...
URL:https://kolami-tx.org/wp/event/%f0%9f%95%af%ef%b8%8f-candle-lighting-236/
LOCATION:Flower Mound
CATEGORIES:Holiday
END:VEVENT
BEGIN:VEVENT
DTSTART;TZID=America/Chicago:20271030T191600
DTEND;TZID=America/Chicago:20271030T191600
DTSTAMP:20260424T155909
CREATED:20251229T163521Z
LAST-MODIFIED:20251229T163521Z
UID:10006587-1824923760-1824923760@kolami-tx.org
SUMMARY:✨ Havdalah
DESCRIPTION:Share this:\n				Share on Facebook (Opens in new window)\n				Facebook\n			\n				Share on X (Opens in new window)\n				X\n			\n				Email a link to a friend (Opens in new window)\n				Email\n			\n				Print (Opens in new window)\n				Print\n			Like this:Like Loading...
URL:https://kolami-tx.org/wp/event/%e2%9c%a8-havdalah-205/
LOCATION:Flower Mound
CATEGORIES:Holiday
END:VEVENT
BEGIN:VEVENT
DTSTART;VALUE=DATE:20271031
DTEND;VALUE=DATE:20271101
DTSTAMP:20260424T155909
CREATED:20251229T163520Z
LAST-MODIFIED:20251229T163520Z
UID:10006586-1824940800-1825027199@kolami-tx.org
SUMMARY:🌒 Rosh Chodesh Cheshvan
DESCRIPTION:Start of month of Cheshvan on the Hebrew calendar. חֶשְׁוָן (transliterated Cheshvan or Heshvan) is the 2nd month of the civil Hebrew year and the 8th month of the biblical Hebrew year. It has 29 or 30 days and corresponds to October or November on the Gregorian calendar. רֹאשׁ חוֹדֶשׁ\, transliterated Rosh Chodesh or Rosh Hodesh\, is a minor holiday that occurs at the beginning of every month in the Hebrew calendar. It is marked by the birth of a new moon\nTorah: Numbers 28:1-15\nhttps://hebcal.com/h/rosh-chodesh-cheshvan-2027?uc=ical-flower-mound-2027 \nShare this:\n				Share on Facebook (Opens in new window)\n				Facebook\n			\n				Share on X (Opens in new window)\n				X\n			\n				Email a link to a friend (Opens in new window)\n				Email\n			\n				Print (Opens in new window)\n				Print\n			Like this:Like Loading...
URL:https://kolami-tx.org/wp/event/%f0%9f%8c%92-rosh-chodesh-cheshvan-7/
CATEGORIES:Holiday
END:VEVENT
BEGIN:VEVENT
DTSTART;VALUE=DATE:20271101
DTEND;VALUE=DATE:20271102
DTSTAMP:20260424T155909
CREATED:20251229T163521Z
LAST-MODIFIED:20251229T163521Z
UID:10006590-1825027200-1825113599@kolami-tx.org
SUMMARY:🌒 Rosh Chodesh Cheshvan
DESCRIPTION:Start of month of Cheshvan on the Hebrew calendar. חֶשְׁוָן (transliterated Cheshvan or Heshvan) is the 2nd month of the civil Hebrew year and the 8th month of the biblical Hebrew year. It has 29 or 30 days and corresponds to October or November on the Gregorian calendar. רֹאשׁ חוֹדֶשׁ\, transliterated Rosh Chodesh or Rosh Hodesh\, is a minor holiday that occurs at the beginning of every month in the Hebrew calendar. It is marked by the birth of a new moon\nTorah: Numbers 28:1-15\nhttps://hebcal.com/h/rosh-chodesh-cheshvan-2027?uc=ical-flower-mound-2027 \nShare this:\n				Share on Facebook (Opens in new window)\n				Facebook\n			\n				Share on X (Opens in new window)\n				X\n			\n				Email a link to a friend (Opens in new window)\n				Email\n			\n				Print (Opens in new window)\n				Print\n			Like this:Like Loading...
URL:https://kolami-tx.org/wp/event/%f0%9f%8c%92-rosh-chodesh-cheshvan-8/
CATEGORIES:Holiday
END:VEVENT
BEGIN:VEVENT
DTSTART;TZID=America/Chicago:20271105T181500
DTEND;TZID=America/Chicago:20271105T181500
DTSTAMP:20260424T155909
CREATED:20251229T163534Z
LAST-MODIFIED:20251229T163534Z
UID:10006591-1825438500-1825438500@kolami-tx.org
SUMMARY:🕯️ Candle lighting
DESCRIPTION:Parashat Noach \nShare this:\n				Share on Facebook (Opens in new window)\n				Facebook\n			\n				Share on X (Opens in new window)\n				X\n			\n				Email a link to a friend (Opens in new window)\n				Email\n			\n				Print (Opens in new window)\n				Print\n			Like this:Like Loading...
URL:https://kolami-tx.org/wp/event/%f0%9f%95%af%ef%b8%8f-candle-lighting-237/
LOCATION:Flower Mound
CATEGORIES:Holiday
END:VEVENT
BEGIN:VEVENT
DTSTART;TZID=America/Chicago:20271106T191100
DTEND;TZID=America/Chicago:20271106T191100
DTSTAMP:20260424T155909
CREATED:20251229T163535Z
LAST-MODIFIED:20251229T163535Z
UID:10006595-1825528260-1825528260@kolami-tx.org
SUMMARY:✨ Havdalah
DESCRIPTION:Share this:\n				Share on Facebook (Opens in new window)\n				Facebook\n			\n				Share on X (Opens in new window)\n				X\n			\n				Email a link to a friend (Opens in new window)\n				Email\n			\n				Print (Opens in new window)\n				Print\n			Like this:Like Loading...
URL:https://kolami-tx.org/wp/event/%e2%9c%a8-havdalah-206/
LOCATION:Flower Mound
CATEGORIES:Holiday
END:VEVENT
BEGIN:VEVENT
DTSTART;TZID=America/Chicago:20271112T171000
DTEND;TZID=America/Chicago:20271112T171000
DTSTAMP:20260424T155909
CREATED:20251229T163535Z
LAST-MODIFIED:20251229T163535Z
UID:10006597-1826039400-1826039400@kolami-tx.org
SUMMARY:🕯️ Candle lighting
DESCRIPTION:Parashat Lech-Lecha \nShare this:\n				Share on Facebook (Opens in new window)\n				Facebook\n			\n				Share on X (Opens in new window)\n				X\n			\n				Email a link to a friend (Opens in new window)\n				Email\n			\n				Print (Opens in new window)\n				Print\n			Like this:Like Loading...
URL:https://kolami-tx.org/wp/event/%f0%9f%95%af%ef%b8%8f-candle-lighting-238/
LOCATION:Flower Mound
CATEGORIES:Holiday
END:VEVENT
BEGIN:VEVENT
DTSTART;TZID=America/Chicago:20271113T180600
DTEND;TZID=America/Chicago:20271113T180600
DTSTAMP:20260424T155909
CREATED:20251229T163535Z
LAST-MODIFIED:20251229T163535Z
UID:10006600-1826129160-1826129160@kolami-tx.org
SUMMARY:✨ Havdalah
DESCRIPTION:Share this:\n				Share on Facebook (Opens in new window)\n				Facebook\n			\n				Share on X (Opens in new window)\n				X\n			\n				Email a link to a friend (Opens in new window)\n				Email\n			\n				Print (Opens in new window)\n				Print\n			Like this:Like Loading...
URL:https://kolami-tx.org/wp/event/%e2%9c%a8-havdalah-207/
LOCATION:Flower Mound
CATEGORIES:Holiday
END:VEVENT
BEGIN:VEVENT
DTSTART;TZID=America/Chicago:20271119T170600
DTEND;TZID=America/Chicago:20271119T170600
DTSTAMP:20260424T155909
CREATED:20251229T163548Z
LAST-MODIFIED:20251229T163548Z
UID:10006601-1826643960-1826643960@kolami-tx.org
SUMMARY:🕯️ Candle lighting
DESCRIPTION:Parashat Vayera \nShare this:\n				Share on Facebook (Opens in new window)\n				Facebook\n			\n				Share on X (Opens in new window)\n				X\n			\n				Email a link to a friend (Opens in new window)\n				Email\n			\n				Print (Opens in new window)\n				Print\n			Like this:Like Loading...
URL:https://kolami-tx.org/wp/event/%f0%9f%95%af%ef%b8%8f-candle-lighting-239/
LOCATION:Flower Mound
CATEGORIES:Holiday
END:VEVENT
BEGIN:VEVENT
DTSTART;TZID=America/Chicago:20271120T180300
DTEND;TZID=America/Chicago:20271120T180300
DTSTAMP:20260424T155909
CREATED:20251229T163548Z
LAST-MODIFIED:20251229T163548Z
UID:10006605-1826733780-1826733780@kolami-tx.org
SUMMARY:✨ Havdalah
DESCRIPTION:Share this:\n				Share on Facebook (Opens in new window)\n				Facebook\n			\n				Share on X (Opens in new window)\n				X\n			\n				Email a link to a friend (Opens in new window)\n				Email\n			\n				Print (Opens in new window)\n				Print\n			Like this:Like Loading...
URL:https://kolami-tx.org/wp/event/%e2%9c%a8-havdalah-208/
LOCATION:Flower Mound
CATEGORIES:Holiday
END:VEVENT
BEGIN:VEVENT
DTSTART;TZID=America/Chicago:20271126T170400
DTEND;TZID=America/Chicago:20271126T170400
DTSTAMP:20260424T155909
CREATED:20251229T163548Z
LAST-MODIFIED:20251229T163548Z
UID:10006607-1827248640-1827248640@kolami-tx.org
SUMMARY:🕯️ Candle lighting
DESCRIPTION:Parashat Chayei Sara \nShare this:\n				Share on Facebook (Opens in new window)\n				Facebook\n			\n				Share on X (Opens in new window)\n				X\n			\n				Email a link to a friend (Opens in new window)\n				Email\n			\n				Print (Opens in new window)\n				Print\n			Like this:Like Loading...
URL:https://kolami-tx.org/wp/event/%f0%9f%95%af%ef%b8%8f-candle-lighting-240/
LOCATION:Flower Mound
CATEGORIES:Holiday
END:VEVENT
BEGIN:VEVENT
DTSTART;TZID=America/Chicago:20271127T180100
DTEND;TZID=America/Chicago:20271127T180100
DTSTAMP:20260424T155909
CREATED:20251229T163604Z
LAST-MODIFIED:20251229T163604Z
UID:10006611-1827338460-1827338460@kolami-tx.org
SUMMARY:✨ Havdalah
DESCRIPTION:Share this:\n				Share on Facebook (Opens in new window)\n				Facebook\n			\n				Share on X (Opens in new window)\n				X\n			\n				Email a link to a friend (Opens in new window)\n				Email\n			\n				Print (Opens in new window)\n				Print\n			Like this:Like Loading...
URL:https://kolami-tx.org/wp/event/%e2%9c%a8-havdalah-209/
LOCATION:Flower Mound
CATEGORIES:Holiday
END:VEVENT
BEGIN:VEVENT
DTSTART;VALUE=DATE:20271129
DTEND;VALUE=DATE:20271130
DTSTAMP:20260424T155909
CREATED:20251229T163604Z
LAST-MODIFIED:20251229T163604Z
UID:10006615-1827446400-1827532799@kolami-tx.org
SUMMARY:✡️ Yom Kippur Katan
DESCRIPTION:Minor Day of Atonement on the day preceeding Rosh Chodesh Kislev \nShare this:\n				Share on Facebook (Opens in new window)\n				Facebook\n			\n				Share on X (Opens in new window)\n				X\n			\n				Email a link to a friend (Opens in new window)\n				Email\n			\n				Print (Opens in new window)\n				Print\n			Like this:Like Loading...
URL:https://kolami-tx.org/wp/event/%e2%9c%a1%ef%b8%8f-yom-kippur-katan-9/
CATEGORIES:Holiday
END:VEVENT
BEGIN:VEVENT
DTSTART;VALUE=DATE:20271129
DTEND;VALUE=DATE:20271130
DTSTAMP:20260424T155909
CREATED:20251229T163604Z
LAST-MODIFIED:20251229T163604Z
UID:10006613-1827446400-1827532799@kolami-tx.org
SUMMARY:✡️ Sigd
DESCRIPTION:Ethiopian Jewish holiday occurring 50 days after Yom Kippur\nhttps://hebcal.com/h/sigd-2027?uc=ical-flower-mound-2027 \nShare this:\n				Share on Facebook (Opens in new window)\n				Facebook\n			\n				Share on X (Opens in new window)\n				X\n			\n				Email a link to a friend (Opens in new window)\n				Email\n			\n				Print (Opens in new window)\n				Print\n			Like this:Like Loading...
URL:https://kolami-tx.org/wp/event/%e2%9c%a1%ef%b8%8f-sigd-4/
CATEGORIES:Holiday
END:VEVENT
BEGIN:VEVENT
DTSTART;VALUE=DATE:20271130
DTEND;VALUE=DATE:20271201
DTSTAMP:20260424T155909
CREATED:20251229T163604Z
LAST-MODIFIED:20251229T163604Z
UID:10006619-1827532800-1827619199@kolami-tx.org
SUMMARY:🌒 Rosh Chodesh Kislev
DESCRIPTION:Start of month of Kislev on the Hebrew calendar. Kislev (כִּסְלֵו) is the 3rd month of the civil Hebrew year and the 9th month of the biblical Hebrew year. It has 30 or 29 days and corresponds to November or December on the Gregorian calendar. רֹאשׁ חוֹדֶשׁ\, transliterated Rosh Chodesh or Rosh Hodesh\, is a minor holiday that occurs at the beginning of every month in the Hebrew calendar. It is marked by the birth of a new moon\nTorah: Numbers 28:1-15\nhttps://hebcal.com/h/rosh-chodesh-kislev-2027?uc=ical-flower-mound-2027 \nShare this:\n				Share on Facebook (Opens in new window)\n				Facebook\n			\n				Share on X (Opens in new window)\n				X\n			\n				Email a link to a friend (Opens in new window)\n				Email\n			\n				Print (Opens in new window)\n				Print\n			Like this:Like Loading...
URL:https://kolami-tx.org/wp/event/%f0%9f%8c%92-rosh-chodesh-kislev-6/
CATEGORIES:Holiday
END:VEVENT
BEGIN:VEVENT
DTSTART;VALUE=DATE:20271201
DTEND;VALUE=DATE:20271202
DTSTAMP:20260424T155909
CREATED:20251229T163604Z
LAST-MODIFIED:20251229T163604Z
UID:10006618-1827619200-1827705599@kolami-tx.org
SUMMARY:🌒 Rosh Chodesh Kislev
DESCRIPTION:Start of month of Kislev on the Hebrew calendar. Kislev (כִּסְלֵו) is the 3rd month of the civil Hebrew year and the 9th month of the biblical Hebrew year. It has 30 or 29 days and corresponds to November or December on the Gregorian calendar. רֹאשׁ חוֹדֶשׁ\, transliterated Rosh Chodesh or Rosh Hodesh\, is a minor holiday that occurs at the beginning of every month in the Hebrew calendar. It is marked by the birth of a new moon\nTorah: Numbers 28:1-15\nhttps://hebcal.com/h/rosh-chodesh-kislev-2027?uc=ical-flower-mound-2027 \nShare this:\n				Share on Facebook (Opens in new window)\n				Facebook\n			\n				Share on X (Opens in new window)\n				X\n			\n				Email a link to a friend (Opens in new window)\n				Email\n			\n				Print (Opens in new window)\n				Print\n			Like this:Like Loading...
URL:https://kolami-tx.org/wp/event/%f0%9f%8c%92-rosh-chodesh-kislev-5/
CATEGORIES:Holiday
END:VEVENT
BEGIN:VEVENT
DTSTART;TZID=America/Chicago:20271203T170300
DTEND;TZID=America/Chicago:20271203T170300
DTSTAMP:20260424T155909
CREATED:20251229T163616Z
LAST-MODIFIED:20251229T163616Z
UID:10006622-1827853380-1827853380@kolami-tx.org
SUMMARY:🕯️ Candle lighting
DESCRIPTION:Parashat Toldot \nShare this:\n				Share on Facebook (Opens in new window)\n				Facebook\n			\n				Share on X (Opens in new window)\n				X\n			\n				Email a link to a friend (Opens in new window)\n				Email\n			\n				Print (Opens in new window)\n				Print\n			Like this:Like Loading...
URL:https://kolami-tx.org/wp/event/%f0%9f%95%af%ef%b8%8f-candle-lighting-241/
LOCATION:Flower Mound
CATEGORIES:Holiday
END:VEVENT
BEGIN:VEVENT
DTSTART;TZID=America/Chicago:20271204T180100
DTEND;TZID=America/Chicago:20271204T180100
DTSTAMP:20260424T155909
CREATED:20251229T163616Z
LAST-MODIFIED:20251229T163616Z
UID:10006625-1827943260-1827943260@kolami-tx.org
SUMMARY:✨ Havdalah
DESCRIPTION:Share this:\n				Share on Facebook (Opens in new window)\n				Facebook\n			\n				Share on X (Opens in new window)\n				X\n			\n				Email a link to a friend (Opens in new window)\n				Email\n			\n				Print (Opens in new window)\n				Print\n			Like this:Like Loading...
URL:https://kolami-tx.org/wp/event/%e2%9c%a8-havdalah-210/
LOCATION:Flower Mound
CATEGORIES:Holiday
END:VEVENT
BEGIN:VEVENT
DTSTART;TZID=America/Chicago:20271210T170300
DTEND;TZID=America/Chicago:20271210T170300
DTSTAMP:20260424T155909
CREATED:20251229T163616Z
LAST-MODIFIED:20251229T163616Z
UID:10006627-1828458180-1828458180@kolami-tx.org
SUMMARY:🕯️ Candle lighting
DESCRIPTION:Parashat Vayetzei \nShare this:\n				Share on Facebook (Opens in new window)\n				Facebook\n			\n				Share on X (Opens in new window)\n				X\n			\n				Email a link to a friend (Opens in new window)\n				Email\n			\n				Print (Opens in new window)\n				Print\n			Like this:Like Loading...
URL:https://kolami-tx.org/wp/event/%f0%9f%95%af%ef%b8%8f-candle-lighting-242/
LOCATION:Flower Mound
CATEGORIES:Holiday
END:VEVENT
BEGIN:VEVENT
DTSTART;TZID=America/Chicago:20271211T180200
DTEND;TZID=America/Chicago:20271211T180200
DTSTAMP:20260424T155909
CREATED:20251229T163617Z
LAST-MODIFIED:20251229T163617Z
UID:10006630-1828548120-1828548120@kolami-tx.org
SUMMARY:✨ Havdalah
DESCRIPTION:Share this:\n				Share on Facebook (Opens in new window)\n				Facebook\n			\n				Share on X (Opens in new window)\n				X\n			\n				Email a link to a friend (Opens in new window)\n				Email\n			\n				Print (Opens in new window)\n				Print\n			Like this:Like Loading...
URL:https://kolami-tx.org/wp/event/%e2%9c%a8-havdalah-211/
LOCATION:Flower Mound
CATEGORIES:Holiday
END:VEVENT
BEGIN:VEVENT
DTSTART;TZID=America/Chicago:20271217T170500
DTEND;TZID=America/Chicago:20271217T170500
DTSTAMP:20260424T155909
CREATED:20251229T163635Z
LAST-MODIFIED:20251229T163635Z
UID:10006632-1829063100-1829063100@kolami-tx.org
SUMMARY:🕯️ Candle lighting
DESCRIPTION:Parashat Vayishlach \nShare this:\n				Share on Facebook (Opens in new window)\n				Facebook\n			\n				Share on X (Opens in new window)\n				X\n			\n				Email a link to a friend (Opens in new window)\n				Email\n			\n				Print (Opens in new window)\n				Print\n			Like this:Like Loading...
URL:https://kolami-tx.org/wp/event/%f0%9f%95%af%ef%b8%8f-candle-lighting-243/
LOCATION:Flower Mound
CATEGORIES:Holiday
END:VEVENT
BEGIN:VEVENT
DTSTART;TZID=America/Chicago:20271218T180400
DTEND;TZID=America/Chicago:20271218T180400
DTSTAMP:20260424T155909
CREATED:20251229T163635Z
LAST-MODIFIED:20251229T163635Z
UID:10006635-1829153040-1829153040@kolami-tx.org
SUMMARY:✨ Havdalah
DESCRIPTION:Share this:\n				Share on Facebook (Opens in new window)\n				Facebook\n			\n				Share on X (Opens in new window)\n				X\n			\n				Email a link to a friend (Opens in new window)\n				Email\n			\n				Print (Opens in new window)\n				Print\n			Like this:Like Loading...
URL:https://kolami-tx.org/wp/event/%e2%9c%a8-havdalah-212/
LOCATION:Flower Mound
CATEGORIES:Holiday
END:VEVENT
BEGIN:VEVENT
DTSTART;TZID=America/Chicago:20271224T170900
DTEND;TZID=America/Chicago:20271224T170900
DTSTAMP:20260424T155909
CREATED:20251229T163635Z
LAST-MODIFIED:20251229T163635Z
UID:10006637-1829668140-1829668140@kolami-tx.org
SUMMARY:🕎1️⃣ Chanukah: 1 Candle
DESCRIPTION:Hanukkah\, the Jewish festival of rededication. Also known as the Festival of Lights\, the eight-day festival is observed by lighting the candles of a hanukkiah (menorah)\nhttps://hebcal.com/h/chanukah-2027?uc=ical-flower-mound-2027 \nShare this:\n				Share on Facebook (Opens in new window)\n				Facebook\n			\n				Share on X (Opens in new window)\n				X\n			\n				Email a link to a friend (Opens in new window)\n				Email\n			\n				Print (Opens in new window)\n				Print\n			Like this:Like Loading...
URL:https://kolami-tx.org/wp/event/%f0%9f%95%8e1%ef%b8%8f%e2%83%a3-chanukah-1-candle-4/
LOCATION:Flower Mound
CATEGORIES:Holiday
END:VEVENT
BEGIN:VEVENT
DTSTART;TZID=America/Chicago:20271224T170900
DTEND;TZID=America/Chicago:20271224T170900
DTSTAMP:20260424T155909
CREATED:20251229T163636Z
LAST-MODIFIED:20251229T163636Z
UID:10006638-1829668140-1829668140@kolami-tx.org
SUMMARY:🕯️ Candle lighting
DESCRIPTION:Parashat Vayeshev \nShare this:\n				Share on Facebook (Opens in new window)\n				Facebook\n			\n				Share on X (Opens in new window)\n				X\n			\n				Email a link to a friend (Opens in new window)\n				Email\n			\n				Print (Opens in new window)\n				Print\n			Like this:Like Loading...
URL:https://kolami-tx.org/wp/event/%f0%9f%95%af%ef%b8%8f-candle-lighting-244/
LOCATION:Flower Mound
CATEGORIES:Holiday
END:VEVENT
BEGIN:VEVENT
DTSTART;TZID=America/Chicago:20271225T180800
DTEND;TZID=America/Chicago:20271225T180800
DTSTAMP:20260424T155909
CREATED:20251229T163651Z
LAST-MODIFIED:20251229T163651Z
UID:10006642-1829758080-1829758080@kolami-tx.org
SUMMARY:🕎2️⃣ Chanukah: 2 Candles
DESCRIPTION:Hanukkah\, the Jewish festival of rededication. Also known as the Festival of Lights\, the eight-day festival is observed by lighting the candles of a hanukkiah (menorah)\nhttps://hebcal.com/h/chanukah-2027?uc=ical-flower-mound-2027 \nShare this:\n				Share on Facebook (Opens in new window)\n				Facebook\n			\n				Share on X (Opens in new window)\n				X\n			\n				Email a link to a friend (Opens in new window)\n				Email\n			\n				Print (Opens in new window)\n				Print\n			Like this:Like Loading...
URL:https://kolami-tx.org/wp/event/%f0%9f%95%8e2%ef%b8%8f%e2%83%a3-chanukah-2-candles-4/
LOCATION:Flower Mound
CATEGORIES:Holiday
END:VEVENT
BEGIN:VEVENT
DTSTART;TZID=America/Chicago:20271225T180800
DTEND;TZID=America/Chicago:20271225T180800
DTSTAMP:20260424T155909
CREATED:20251229T163651Z
LAST-MODIFIED:20251229T163651Z
UID:10006643-1829758080-1829758080@kolami-tx.org
SUMMARY:✨ Havdalah
DESCRIPTION:Share this:\n				Share on Facebook (Opens in new window)\n				Facebook\n			\n				Share on X (Opens in new window)\n				X\n			\n				Email a link to a friend (Opens in new window)\n				Email\n			\n				Print (Opens in new window)\n				Print\n			Like this:Like Loading...
URL:https://kolami-tx.org/wp/event/%e2%9c%a8-havdalah-213/
LOCATION:Flower Mound
CATEGORIES:Holiday
END:VEVENT
BEGIN:VEVENT
DTSTART;TZID=America/Chicago:20271226T174800
DTEND;TZID=America/Chicago:20271226T174800
DTSTAMP:20260424T155909
CREATED:20251229T163651Z
LAST-MODIFIED:20251229T163651Z
UID:10006645-1829843280-1829843280@kolami-tx.org
SUMMARY:🕎3️⃣ Chanukah: 3 Candles
DESCRIPTION:Hanukkah\, the Jewish festival of rededication. Also known as the Festival of Lights\, the eight-day festival is observed by lighting the candles of a hanukkiah (menorah)\nhttps://hebcal.com/h/chanukah-2027?uc=ical-flower-mound-2027 \nShare this:\n				Share on Facebook (Opens in new window)\n				Facebook\n			\n				Share on X (Opens in new window)\n				X\n			\n				Email a link to a friend (Opens in new window)\n				Email\n			\n				Print (Opens in new window)\n				Print\n			Like this:Like Loading...
URL:https://kolami-tx.org/wp/event/%f0%9f%95%8e3%ef%b8%8f%e2%83%a3-chanukah-3-candles-4/
LOCATION:Flower Mound
CATEGORIES:Holiday
END:VEVENT
END:VCALENDAR