BEGIN:VCALENDAR
VERSION:2.0
PRODID:-//Congregation Kol Ami - ECPv6.15.20//NONSGML v1.0//EN
CALSCALE:GREGORIAN
METHOD:PUBLISH
X-ORIGINAL-URL:https://kolami-tx.org/wp
X-WR-CALDESC:Events for Congregation Kol Ami
REFRESH-INTERVAL;VALUE=DURATION:PT1H
X-Robots-Tag:noindex
X-PUBLISHED-TTL:PT1H
BEGIN:VTIMEZONE
TZID:America/Chicago
BEGIN:DAYLIGHT
TZOFFSETFROM:-0600
TZOFFSETTO:-0500
TZNAME:CDT
DTSTART:20260308T080000
END:DAYLIGHT
BEGIN:STANDARD
TZOFFSETFROM:-0500
TZOFFSETTO:-0600
TZNAME:CST
DTSTART:20261101T070000
END:STANDARD
BEGIN:DAYLIGHT
TZOFFSETFROM:-0600
TZOFFSETTO:-0500
TZNAME:CDT
DTSTART:20270314T080000
END:DAYLIGHT
BEGIN:STANDARD
TZOFFSETFROM:-0500
TZOFFSETTO:-0600
TZNAME:CST
DTSTART:20271107T070000
END:STANDARD
BEGIN:DAYLIGHT
TZOFFSETFROM:-0600
TZOFFSETTO:-0500
TZNAME:CDT
DTSTART:20280312T080000
END:DAYLIGHT
BEGIN:STANDARD
TZOFFSETFROM:-0500
TZOFFSETTO:-0600
TZNAME:CST
DTSTART:20281105T070000
END:STANDARD
END:VTIMEZONE
BEGIN:VEVENT
DTSTART;TZID=America/Chicago:20270515T210200
DTEND;TZID=America/Chicago:20270515T210200
DTSTAMP:20260422T005023
CREATED:20251229T162801Z
LAST-MODIFIED:20251229T162801Z
UID:10006334-1810414920-1810414920@kolami-tx.org
SUMMARY:✨ Havdalah
DESCRIPTION:Share this:\n				Share on Facebook (Opens in new window)\n				Facebook\n			\n				Share on X (Opens in new window)\n				X\n			\n				Email a link to a friend (Opens in new window)\n				Email\n			\n				Print (Opens in new window)\n				Print\n			Like this:Like Loading...
URL:https://kolami-tx.org/wp/event/%e2%9c%a8-havdalah-180/
LOCATION:Flower Mound
CATEGORIES:Holiday
END:VEVENT
BEGIN:VEVENT
DTSTART;VALUE=DATE:20270521
DTEND;VALUE=DATE:20270522
DTSTAMP:20260422T005023
CREATED:20251229T162820Z
LAST-MODIFIED:20251229T162820Z
UID:10006346-1810857600-1810943999@kolami-tx.org
SUMMARY:✡️ Pesach Sheni
DESCRIPTION:Second Passover\, one month after Passover\nhttps://hebcal.com/h/pesach-sheni-2027?uc=ical-flower-mound-2027 \nShare this:\n				Share on Facebook (Opens in new window)\n				Facebook\n			\n				Share on X (Opens in new window)\n				X\n			\n				Email a link to a friend (Opens in new window)\n				Email\n			\n				Print (Opens in new window)\n				Print\n			Like this:Like Loading...
URL:https://kolami-tx.org/wp/event/%e2%9c%a1%ef%b8%8f-pesach-sheni-4/
CATEGORIES:Holiday
END:VEVENT
BEGIN:VEVENT
DTSTART;TZID=America/Chicago:20270521T200600
DTEND;TZID=America/Chicago:20270521T200600
DTSTAMP:20260422T005023
CREATED:20251229T162820Z
LAST-MODIFIED:20251229T162820Z
UID:10006348-1810929960-1810929960@kolami-tx.org
SUMMARY:🕯️ Candle lighting
DESCRIPTION:Parashat Behar \nShare this:\n				Share on Facebook (Opens in new window)\n				Facebook\n			\n				Share on X (Opens in new window)\n				X\n			\n				Email a link to a friend (Opens in new window)\n				Email\n			\n				Print (Opens in new window)\n				Print\n			Like this:Like Loading...
URL:https://kolami-tx.org/wp/event/%f0%9f%95%af%ef%b8%8f-candle-lighting-208/
LOCATION:Flower Mound
CATEGORIES:Holiday
END:VEVENT
BEGIN:VEVENT
DTSTART;TZID=America/Chicago:20270522T210700
DTEND;TZID=America/Chicago:20270522T210700
DTSTAMP:20260422T005023
CREATED:20251229T162838Z
LAST-MODIFIED:20251229T162838Z
UID:10006353-1811020020-1811020020@kolami-tx.org
SUMMARY:✨ Havdalah
DESCRIPTION:Share this:\n				Share on Facebook (Opens in new window)\n				Facebook\n			\n				Share on X (Opens in new window)\n				X\n			\n				Email a link to a friend (Opens in new window)\n				Email\n			\n				Print (Opens in new window)\n				Print\n			Like this:Like Loading...
URL:https://kolami-tx.org/wp/event/%e2%9c%a8-havdalah-181/
LOCATION:Flower Mound
CATEGORIES:Holiday
END:VEVENT
BEGIN:VEVENT
DTSTART;VALUE=DATE:20270525
DTEND;VALUE=DATE:20270526
DTSTAMP:20260422T005023
CREATED:20251229T162838Z
LAST-MODIFIED:20251229T162838Z
UID:10006357-1811203200-1811289599@kolami-tx.org
SUMMARY:🔥 Lag BaOmer
DESCRIPTION:33rd day of counting the Omer. The holiday is a temporary break from the semi-mourning period the counting of the Omer. Practices include lighting bonfires\, getting haircuts\, and Jewish weddings\nhttps://hebcal.com/h/lag-baomer-2027?uc=ical-flower-mound-2027 \nShare this:\n				Share on Facebook (Opens in new window)\n				Facebook\n			\n				Share on X (Opens in new window)\n				X\n			\n				Email a link to a friend (Opens in new window)\n				Email\n			\n				Print (Opens in new window)\n				Print\n			Like this:Like Loading...
URL:https://kolami-tx.org/wp/event/%f0%9f%94%a5-lag-baomer-4/
CATEGORIES:Holiday
END:VEVENT
BEGIN:VEVENT
DTSTART;TZID=America/Chicago:20270528T201100
DTEND;TZID=America/Chicago:20270528T201100
DTSTAMP:20260422T005023
CREATED:20251229T162911Z
LAST-MODIFIED:20251229T162911Z
UID:10006371-1811535060-1811535060@kolami-tx.org
SUMMARY:🕯️ Candle lighting
DESCRIPTION:Parashat Bechukotai \nShare this:\n				Share on Facebook (Opens in new window)\n				Facebook\n			\n				Share on X (Opens in new window)\n				X\n			\n				Email a link to a friend (Opens in new window)\n				Email\n			\n				Print (Opens in new window)\n				Print\n			Like this:Like Loading...
URL:https://kolami-tx.org/wp/event/%f0%9f%95%af%ef%b8%8f-candle-lighting-209/
LOCATION:Flower Mound
CATEGORIES:Holiday
END:VEVENT
BEGIN:VEVENT
DTSTART;TZID=America/Chicago:20270529T211200
DTEND;TZID=America/Chicago:20270529T211200
DTSTAMP:20260422T005023
CREATED:20251229T162912Z
LAST-MODIFIED:20251229T162912Z
UID:10006372-1811625120-1811625120@kolami-tx.org
SUMMARY:✨ Havdalah
DESCRIPTION:Share this:\n				Share on Facebook (Opens in new window)\n				Facebook\n			\n				Share on X (Opens in new window)\n				X\n			\n				Email a link to a friend (Opens in new window)\n				Email\n			\n				Print (Opens in new window)\n				Print\n			Like this:Like Loading...
URL:https://kolami-tx.org/wp/event/%e2%9c%a8-havdalah-182/
LOCATION:Flower Mound
CATEGORIES:Holiday
END:VEVENT
BEGIN:VEVENT
DTSTART;VALUE=DATE:20270603
DTEND;VALUE=DATE:20270604
DTSTAMP:20260422T005023
CREATED:20251229T162931Z
LAST-MODIFIED:20251229T162931Z
UID:10006386-1811980800-1812067199@kolami-tx.org
SUMMARY:✡️ Yom Kippur Katan
DESCRIPTION:Minor Day of Atonement on the day preceeding Rosh Chodesh Sivan \nShare this:\n				Share on Facebook (Opens in new window)\n				Facebook\n			\n				Share on X (Opens in new window)\n				X\n			\n				Email a link to a friend (Opens in new window)\n				Email\n			\n				Print (Opens in new window)\n				Print\n			Like this:Like Loading...
URL:https://kolami-tx.org/wp/event/%e2%9c%a1%ef%b8%8f-yom-kippur-katan-5/
CATEGORIES:Holiday
END:VEVENT
BEGIN:VEVENT
DTSTART;VALUE=DATE:20270604
DTEND;VALUE=DATE:20270605
DTSTAMP:20260422T005023
CREATED:20251229T162931Z
LAST-MODIFIED:20251229T162931Z
UID:10006385-1812067200-1812153599@kolami-tx.org
SUMMARY:🇮🇱 Yom Yerushalayim
DESCRIPTION:Jerusalem Day. Commemorates the re-unification of Jerusalem in 1967\nhttps://hebcal.com/h/yom-yerushalayim-2027?uc=ical-flower-mound-2027 \nShare this:\n				Share on Facebook (Opens in new window)\n				Facebook\n			\n				Share on X (Opens in new window)\n				X\n			\n				Email a link to a friend (Opens in new window)\n				Email\n			\n				Print (Opens in new window)\n				Print\n			Like this:Like Loading...
URL:https://kolami-tx.org/wp/event/%f0%9f%87%ae%f0%9f%87%b1-yom-yerushalayim-4/
CATEGORIES:Holiday
END:VEVENT
BEGIN:VEVENT
DTSTART;TZID=America/Chicago:20270604T201500
DTEND;TZID=America/Chicago:20270604T201500
DTSTAMP:20260422T005023
CREATED:20251229T162951Z
LAST-MODIFIED:20251229T162951Z
UID:10006391-1812140100-1812140100@kolami-tx.org
SUMMARY:🕯️ Candle lighting
DESCRIPTION:Parashat Bamidbar \nShare this:\n				Share on Facebook (Opens in new window)\n				Facebook\n			\n				Share on X (Opens in new window)\n				X\n			\n				Email a link to a friend (Opens in new window)\n				Email\n			\n				Print (Opens in new window)\n				Print\n			Like this:Like Loading...
URL:https://kolami-tx.org/wp/event/%f0%9f%95%af%ef%b8%8f-candle-lighting-210/
LOCATION:Flower Mound
CATEGORIES:Holiday
END:VEVENT
BEGIN:VEVENT
DTSTART;TZID=America/Chicago:20270605T211700
DTEND;TZID=America/Chicago:20270605T211700
DTSTAMP:20260422T005023
CREATED:20251229T162951Z
LAST-MODIFIED:20251229T162951Z
UID:10006392-1812230220-1812230220@kolami-tx.org
SUMMARY:✨ Havdalah
DESCRIPTION:Share this:\n				Share on Facebook (Opens in new window)\n				Facebook\n			\n				Share on X (Opens in new window)\n				X\n			\n				Email a link to a friend (Opens in new window)\n				Email\n			\n				Print (Opens in new window)\n				Print\n			Like this:Like Loading...
URL:https://kolami-tx.org/wp/event/%e2%9c%a8-havdalah-183/
LOCATION:Flower Mound
CATEGORIES:Holiday
END:VEVENT
BEGIN:VEVENT
DTSTART;VALUE=DATE:20270606
DTEND;VALUE=DATE:20270607
DTSTAMP:20260422T005023
CREATED:20251229T162951Z
LAST-MODIFIED:20251229T162951Z
UID:10006394-1812240000-1812326399@kolami-tx.org
SUMMARY:🌒 Rosh Chodesh Sivan
DESCRIPTION:Start of month of Sivan on the Hebrew calendar. Sivan (סִיוָן) is the 9th month of the civil Hebrew year (10th on leap years) and the 3rd month of the biblical Hebrew year. It has 30 days and corresponds to May or June on the Gregorian calendar. רֹאשׁ חוֹדֶשׁ\, transliterated Rosh Chodesh or Rosh Hodesh\, is a minor holiday that occurs at the beginning of every month in the Hebrew calendar. It is marked by the birth of a new moon\nTorah: Numbers 28:1-15\nhttps://hebcal.com/h/rosh-chodesh-sivan-2027?uc=ical-flower-mound-2027 \nShare this:\n				Share on Facebook (Opens in new window)\n				Facebook\n			\n				Share on X (Opens in new window)\n				X\n			\n				Email a link to a friend (Opens in new window)\n				Email\n			\n				Print (Opens in new window)\n				Print\n			Like this:Like Loading...
URL:https://kolami-tx.org/wp/event/%f0%9f%8c%92-rosh-chodesh-sivan-4/
CATEGORIES:Holiday
END:VEVENT
BEGIN:VEVENT
DTSTART;VALUE=DATE:20270610
DTEND;VALUE=DATE:20270611
DTSTAMP:20260422T005023
CREATED:20251229T163018Z
LAST-MODIFIED:20251229T163018Z
UID:10006403-1812585600-1812671999@kolami-tx.org
SUMMARY:⛰️🌸 Erev Shavuot
DESCRIPTION:Festival of Weeks. Commemorates the giving of the Torah at Mount Sinai\nhttps://hebcal.com/h/shavuot-2027?uc=ical-flower-mound-2027 \nShare this:\n				Share on Facebook (Opens in new window)\n				Facebook\n			\n				Share on X (Opens in new window)\n				X\n			\n				Email a link to a friend (Opens in new window)\n				Email\n			\n				Print (Opens in new window)\n				Print\n			Like this:Like Loading...
URL:https://kolami-tx.org/wp/event/%e2%9b%b0%ef%b8%8f%f0%9f%8c%b8-erev-shavuot-4/
CATEGORIES:Holiday
END:VEVENT
BEGIN:VEVENT
DTSTART;TZID=America/Chicago:20270610T201800
DTEND;TZID=America/Chicago:20270610T201800
DTSTAMP:20260422T005023
CREATED:20251229T163018Z
LAST-MODIFIED:20251229T163018Z
UID:10006407-1812658680-1812658680@kolami-tx.org
SUMMARY:🕯️ Candle lighting
DESCRIPTION:Share this:\n				Share on Facebook (Opens in new window)\n				Facebook\n			\n				Share on X (Opens in new window)\n				X\n			\n				Email a link to a friend (Opens in new window)\n				Email\n			\n				Print (Opens in new window)\n				Print\n			Like this:Like Loading...
URL:https://kolami-tx.org/wp/event/%f0%9f%95%af%ef%b8%8f-candle-lighting-211/
LOCATION:Flower Mound
CATEGORIES:Holiday
END:VEVENT
BEGIN:VEVENT
DTSTART;VALUE=DATE:20270611
DTEND;VALUE=DATE:20270612
DTSTAMP:20260422T005023
CREATED:20251229T162952Z
LAST-MODIFIED:20251229T162952Z
UID:10006400-1812672000-1812758399@kolami-tx.org
SUMMARY:⛰️🌸 Shavuot I
DESCRIPTION:Festival of Weeks. Commemorates the giving of the Torah at Mount Sinai\nTorah: Exodus 19:1-20:23; Numbers 28:26-31\nHaftarah: Ezekiel 1:1-28\, 3:12\nhttps://hebcal.com/h/shavuot-2027?uc=ical-flower-mound-2027 \nShare this:\n				Share on Facebook (Opens in new window)\n				Facebook\n			\n				Share on X (Opens in new window)\n				X\n			\n				Email a link to a friend (Opens in new window)\n				Email\n			\n				Print (Opens in new window)\n				Print\n			Like this:Like Loading...
URL:https://kolami-tx.org/wp/event/%e2%9b%b0%ef%b8%8f%f0%9f%8c%b8-shavuot-i-4/
CATEGORIES:Holiday
END:VEVENT
BEGIN:VEVENT
DTSTART;TZID=America/Chicago:20270611T201900
DTEND;TZID=America/Chicago:20270611T201900
DTSTAMP:20260422T005023
CREATED:20251229T163018Z
LAST-MODIFIED:20251229T163018Z
UID:10006408-1812745140-1812745140@kolami-tx.org
SUMMARY:🕯️ Candle lighting
DESCRIPTION:Share this:\n				Share on Facebook (Opens in new window)\n				Facebook\n			\n				Share on X (Opens in new window)\n				X\n			\n				Email a link to a friend (Opens in new window)\n				Email\n			\n				Print (Opens in new window)\n				Print\n			Like this:Like Loading...
URL:https://kolami-tx.org/wp/event/%f0%9f%95%af%ef%b8%8f-candle-lighting-212/
LOCATION:Flower Mound
CATEGORIES:Holiday
END:VEVENT
BEGIN:VEVENT
DTSTART;VALUE=DATE:20270612
DTEND;VALUE=DATE:20270613
DTSTAMP:20260422T005023
CREATED:20251229T163018Z
LAST-MODIFIED:20251229T163018Z
UID:10006410-1812758400-1812844799@kolami-tx.org
SUMMARY:⛰️🌸 Shavuot II
DESCRIPTION:Festival of Weeks. Commemorates the giving of the Torah at Mount Sinai\nTorah: Deuteronomy 14:22-16:17; Numbers 28:26-31; Ruth 1:1-4:22\nHaftarah: Habakkuk 3:1-19\nHaftarah for Sephardim: Habakkuk 2:20-3:19\nhttps://hebcal.com/h/shavuot-2027?uc=ical-flower-mound-2027 \nShare this:\n				Share on Facebook (Opens in new window)\n				Facebook\n			\n				Share on X (Opens in new window)\n				X\n			\n				Email a link to a friend (Opens in new window)\n				Email\n			\n				Print (Opens in new window)\n				Print\n			Like this:Like Loading...
URL:https://kolami-tx.org/wp/event/%e2%9b%b0%ef%b8%8f%f0%9f%8c%b8-shavuot-ii-4/
CATEGORIES:Holiday
END:VEVENT
BEGIN:VEVENT
DTSTART;TZID=America/Chicago:20270612T212000
DTEND;TZID=America/Chicago:20270612T212000
DTSTAMP:20260422T005023
CREATED:20251229T163034Z
LAST-MODIFIED:20251229T163034Z
UID:10006412-1812835200-1812835200@kolami-tx.org
SUMMARY:✨ Havdalah
DESCRIPTION:Share this:\n				Share on Facebook (Opens in new window)\n				Facebook\n			\n				Share on X (Opens in new window)\n				X\n			\n				Email a link to a friend (Opens in new window)\n				Email\n			\n				Print (Opens in new window)\n				Print\n			Like this:Like Loading...
URL:https://kolami-tx.org/wp/event/%e2%9c%a8-havdalah-184/
LOCATION:Flower Mound
CATEGORIES:Holiday
END:VEVENT
BEGIN:VEVENT
DTSTART;TZID=America/Chicago:20270618T202100
DTEND;TZID=America/Chicago:20270618T202100
DTSTAMP:20260422T005023
CREATED:20251229T163034Z
LAST-MODIFIED:20251229T163034Z
UID:10006414-1813350060-1813350060@kolami-tx.org
SUMMARY:🕯️ Candle lighting
DESCRIPTION:Parashat Nasso \nShare this:\n				Share on Facebook (Opens in new window)\n				Facebook\n			\n				Share on X (Opens in new window)\n				X\n			\n				Email a link to a friend (Opens in new window)\n				Email\n			\n				Print (Opens in new window)\n				Print\n			Like this:Like Loading...
URL:https://kolami-tx.org/wp/event/%f0%9f%95%af%ef%b8%8f-candle-lighting-213/
LOCATION:Flower Mound
CATEGORIES:Holiday
END:VEVENT
BEGIN:VEVENT
DTSTART;TZID=America/Chicago:20270619T212300
DTEND;TZID=America/Chicago:20270619T212300
DTSTAMP:20260422T005023
CREATED:20251229T163035Z
LAST-MODIFIED:20251229T163035Z
UID:10006417-1813440180-1813440180@kolami-tx.org
SUMMARY:✨ Havdalah
DESCRIPTION:Share this:\n				Share on Facebook (Opens in new window)\n				Facebook\n			\n				Share on X (Opens in new window)\n				X\n			\n				Email a link to a friend (Opens in new window)\n				Email\n			\n				Print (Opens in new window)\n				Print\n			Like this:Like Loading...
URL:https://kolami-tx.org/wp/event/%e2%9c%a8-havdalah-185/
LOCATION:Flower Mound
CATEGORIES:Holiday
END:VEVENT
BEGIN:VEVENT
DTSTART;TZID=America/Chicago:20270625T202200
DTEND;TZID=America/Chicago:20270625T202200
DTSTAMP:20260422T005023
CREATED:20251229T163035Z
LAST-MODIFIED:20251229T163035Z
UID:10006419-1813954920-1813954920@kolami-tx.org
SUMMARY:🕯️ Candle lighting
DESCRIPTION:Parashat Beha’alotcha \nShare this:\n				Share on Facebook (Opens in new window)\n				Facebook\n			\n				Share on X (Opens in new window)\n				X\n			\n				Email a link to a friend (Opens in new window)\n				Email\n			\n				Print (Opens in new window)\n				Print\n			Like this:Like Loading...
URL:https://kolami-tx.org/wp/event/%f0%9f%95%af%ef%b8%8f-candle-lighting-214/
LOCATION:Flower Mound
CATEGORIES:Holiday
END:VEVENT
BEGIN:VEVENT
DTSTART;TZID=America/Chicago:20270626T212400
DTEND;TZID=America/Chicago:20270626T212400
DTSTAMP:20260422T005023
CREATED:20251229T163059Z
LAST-MODIFIED:20251229T163059Z
UID:10006422-1814045040-1814045040@kolami-tx.org
SUMMARY:✨ Havdalah
DESCRIPTION:Share this:\n				Share on Facebook (Opens in new window)\n				Facebook\n			\n				Share on X (Opens in new window)\n				X\n			\n				Email a link to a friend (Opens in new window)\n				Email\n			\n				Print (Opens in new window)\n				Print\n			Like this:Like Loading...
URL:https://kolami-tx.org/wp/event/%e2%9c%a8-havdalah-186/
LOCATION:Flower Mound
CATEGORIES:Holiday
END:VEVENT
BEGIN:VEVENT
DTSTART;TZID=America/Chicago:20270702T202200
DTEND;TZID=America/Chicago:20270702T202200
DTSTAMP:20260422T005023
CREATED:20251229T163059Z
LAST-MODIFIED:20251229T163059Z
UID:10006424-1814559720-1814559720@kolami-tx.org
SUMMARY:🕯️ Candle lighting
DESCRIPTION:Parashat Sh’lach \nShare this:\n				Share on Facebook (Opens in new window)\n				Facebook\n			\n				Share on X (Opens in new window)\n				X\n			\n				Email a link to a friend (Opens in new window)\n				Email\n			\n				Print (Opens in new window)\n				Print\n			Like this:Like Loading...
URL:https://kolami-tx.org/wp/event/%f0%9f%95%af%ef%b8%8f-candle-lighting-215/
LOCATION:Flower Mound
CATEGORIES:Holiday
END:VEVENT
BEGIN:VEVENT
DTSTART;TZID=America/Chicago:20270703T212400
DTEND;TZID=America/Chicago:20270703T212400
DTSTAMP:20260422T005023
CREATED:20251229T163059Z
LAST-MODIFIED:20251229T163059Z
UID:10006428-1814649840-1814649840@kolami-tx.org
SUMMARY:✨ Havdalah
DESCRIPTION:Share this:\n				Share on Facebook (Opens in new window)\n				Facebook\n			\n				Share on X (Opens in new window)\n				X\n			\n				Email a link to a friend (Opens in new window)\n				Email\n			\n				Print (Opens in new window)\n				Print\n			Like this:Like Loading...
URL:https://kolami-tx.org/wp/event/%e2%9c%a8-havdalah-187/
LOCATION:Flower Mound
CATEGORIES:Holiday
END:VEVENT
BEGIN:VEVENT
DTSTART;VALUE=DATE:20270704
DTEND;VALUE=DATE:20270705
DTSTAMP:20260422T005023
CREATED:20251229T163120Z
LAST-MODIFIED:20251229T163120Z
UID:10006431-1814659200-1814745599@kolami-tx.org
SUMMARY:✡️ Yom Kippur Katan
DESCRIPTION:Minor Day of Atonement on the day preceeding Rosh Chodesh Tamuz \nShare this:\n				Share on Facebook (Opens in new window)\n				Facebook\n			\n				Share on X (Opens in new window)\n				X\n			\n				Email a link to a friend (Opens in new window)\n				Email\n			\n				Print (Opens in new window)\n				Print\n			Like this:Like Loading...
URL:https://kolami-tx.org/wp/event/%e2%9c%a1%ef%b8%8f-yom-kippur-katan-6/
CATEGORIES:Holiday
END:VEVENT
BEGIN:VEVENT
DTSTART;VALUE=DATE:20270705
DTEND;VALUE=DATE:20270706
DTSTAMP:20260422T005023
CREATED:20251229T163120Z
LAST-MODIFIED:20251229T163120Z
UID:10006434-1814745600-1814831999@kolami-tx.org
SUMMARY:🌒 Rosh Chodesh Tamuz
DESCRIPTION:Start of month of Tammuz on the Hebrew calendar. תַּמּוּז (transliterated Tamuz or Tammuz) is the 10th month of the civil Hebrew year (11th on leap years) and the 4th month of the biblical Hebrew year. It has 29 days and corresponds to June or July on the Gregorian calendar. רֹאשׁ חוֹדֶשׁ\, transliterated Rosh Chodesh or Rosh Hodesh\, is a minor holiday that occurs at the beginning of every month in the Hebrew calendar. It is marked by the birth of a new moon\nTorah: Numbers 28:1-15\nhttps://hebcal.com/h/rosh-chodesh-tamuz-2027?uc=ical-flower-mound-2027 \nShare this:\n				Share on Facebook (Opens in new window)\n				Facebook\n			\n				Share on X (Opens in new window)\n				X\n			\n				Email a link to a friend (Opens in new window)\n				Email\n			\n				Print (Opens in new window)\n				Print\n			Like this:Like Loading...
URL:https://kolami-tx.org/wp/event/%f0%9f%8c%92-rosh-chodesh-tamuz-10/
CATEGORIES:Holiday
END:VEVENT
BEGIN:VEVENT
DTSTART;VALUE=DATE:20270706
DTEND;VALUE=DATE:20270707
DTSTAMP:20260422T005023
CREATED:20251229T163120Z
LAST-MODIFIED:20251229T163120Z
UID:10006433-1814832000-1814918399@kolami-tx.org
SUMMARY:🌒 Rosh Chodesh Tamuz
DESCRIPTION:Start of month of Tammuz on the Hebrew calendar. תַּמּוּז (transliterated Tamuz or Tammuz) is the 10th month of the civil Hebrew year (11th on leap years) and the 4th month of the biblical Hebrew year. It has 29 days and corresponds to June or July on the Gregorian calendar. רֹאשׁ חוֹדֶשׁ\, transliterated Rosh Chodesh or Rosh Hodesh\, is a minor holiday that occurs at the beginning of every month in the Hebrew calendar. It is marked by the birth of a new moon\nTorah: Numbers 28:1-15\nhttps://hebcal.com/h/rosh-chodesh-tamuz-2027?uc=ical-flower-mound-2027 \nShare this:\n				Share on Facebook (Opens in new window)\n				Facebook\n			\n				Share on X (Opens in new window)\n				X\n			\n				Email a link to a friend (Opens in new window)\n				Email\n			\n				Print (Opens in new window)\n				Print\n			Like this:Like Loading...
URL:https://kolami-tx.org/wp/event/%f0%9f%8c%92-rosh-chodesh-tamuz-9/
CATEGORIES:Holiday
END:VEVENT
BEGIN:VEVENT
DTSTART;TZID=America/Chicago:20270709T202100
DTEND;TZID=America/Chicago:20270709T202100
DTSTAMP:20260422T005023
CREATED:20251229T163120Z
LAST-MODIFIED:20251229T163120Z
UID:10006438-1815164460-1815164460@kolami-tx.org
SUMMARY:🕯️ Candle lighting
DESCRIPTION:Parashat Korach \nShare this:\n				Share on Facebook (Opens in new window)\n				Facebook\n			\n				Share on X (Opens in new window)\n				X\n			\n				Email a link to a friend (Opens in new window)\n				Email\n			\n				Print (Opens in new window)\n				Print\n			Like this:Like Loading...
URL:https://kolami-tx.org/wp/event/%f0%9f%95%af%ef%b8%8f-candle-lighting-216/
LOCATION:Flower Mound
CATEGORIES:Holiday
END:VEVENT
BEGIN:VEVENT
DTSTART;TZID=America/Chicago:20270710T212200
DTEND;TZID=America/Chicago:20270710T212200
DTSTAMP:20260422T005023
CREATED:20251229T163139Z
LAST-MODIFIED:20251229T163139Z
UID:10006441-1815254520-1815254520@kolami-tx.org
SUMMARY:✨ Havdalah
DESCRIPTION:Share this:\n				Share on Facebook (Opens in new window)\n				Facebook\n			\n				Share on X (Opens in new window)\n				X\n			\n				Email a link to a friend (Opens in new window)\n				Email\n			\n				Print (Opens in new window)\n				Print\n			Like this:Like Loading...
URL:https://kolami-tx.org/wp/event/%e2%9c%a8-havdalah-188/
LOCATION:Flower Mound
CATEGORIES:Holiday
END:VEVENT
BEGIN:VEVENT
DTSTART;TZID=America/Chicago:20270716T201900
DTEND;TZID=America/Chicago:20270716T201900
DTSTAMP:20260422T005023
CREATED:20251229T163139Z
LAST-MODIFIED:20251229T163139Z
UID:10006445-1815769140-1815769140@kolami-tx.org
SUMMARY:🕯️ Candle lighting
DESCRIPTION:Parashat Chukat-Balak \nShare this:\n				Share on Facebook (Opens in new window)\n				Facebook\n			\n				Share on X (Opens in new window)\n				X\n			\n				Email a link to a friend (Opens in new window)\n				Email\n			\n				Print (Opens in new window)\n				Print\n			Like this:Like Loading...
URL:https://kolami-tx.org/wp/event/%f0%9f%95%af%ef%b8%8f-candle-lighting-217/
LOCATION:Flower Mound
CATEGORIES:Holiday
END:VEVENT
END:VCALENDAR