BEGIN:VCALENDAR
VERSION:2.0
PRODID:-//Congregation Kol Ami - ECPv6.15.20//NONSGML v1.0//EN
CALSCALE:GREGORIAN
METHOD:PUBLISH
X-WR-CALNAME:Congregation Kol Ami
X-ORIGINAL-URL:https://kolami-tx.org/wp
X-WR-CALDESC:Events for Congregation Kol Ami
REFRESH-INTERVAL;VALUE=DURATION:PT1H
X-Robots-Tag:noindex
X-PUBLISHED-TTL:PT1H
BEGIN:VTIMEZONE
TZID:America/Chicago
BEGIN:DAYLIGHT
TZOFFSETFROM:-0600
TZOFFSETTO:-0500
TZNAME:CDT
DTSTART:20260308T080000
END:DAYLIGHT
BEGIN:STANDARD
TZOFFSETFROM:-0500
TZOFFSETTO:-0600
TZNAME:CST
DTSTART:20261101T070000
END:STANDARD
BEGIN:DAYLIGHT
TZOFFSETFROM:-0600
TZOFFSETTO:-0500
TZNAME:CDT
DTSTART:20270314T080000
END:DAYLIGHT
BEGIN:STANDARD
TZOFFSETFROM:-0500
TZOFFSETTO:-0600
TZNAME:CST
DTSTART:20271107T070000
END:STANDARD
BEGIN:DAYLIGHT
TZOFFSETFROM:-0600
TZOFFSETTO:-0500
TZNAME:CDT
DTSTART:20280312T080000
END:DAYLIGHT
BEGIN:STANDARD
TZOFFSETFROM:-0500
TZOFFSETTO:-0600
TZNAME:CST
DTSTART:20281105T070000
END:STANDARD
END:VTIMEZONE
BEGIN:VEVENT
DTSTART;VALUE=DATE:20270722
DTEND;VALUE=DATE:20270723
DTSTAMP:20260424T072213
CREATED:20251229T163140Z
LAST-MODIFIED:20251229T163140Z
UID:10006449-1816214400-1816300799@kolami-tx.org
SUMMARY:✡️ Tzom Tammuz
DESCRIPTION:Fast commemorating breaching of the walls of Jerusalem before the destruction of the Second Temple\nTorah: Exodus 32:11-14\, 34:1-10\nhttps://hebcal.com/h/tzom-tammuz-2027?uc=ical-flower-mound-2027 \nShare this:\n				Share on Facebook (Opens in new window)\n				Facebook\n			\n				Share on X (Opens in new window)\n				X\n			\n				Email a link to a friend (Opens in new window)\n				Email\n			\n				Print (Opens in new window)\n				Print\n			Like this:Like Loading...
URL:https://kolami-tx.org/wp/event/%e2%9c%a1%ef%b8%8f-tzom-tammuz-2/
CATEGORIES:Holiday
END:VEVENT
BEGIN:VEVENT
DTSTART;TZID=America/Chicago:20270723T201500
DTEND;TZID=America/Chicago:20270723T201500
DTSTAMP:20260424T072213
CREATED:20251229T163157Z
LAST-MODIFIED:20251229T163157Z
UID:10006454-1816373700-1816373700@kolami-tx.org
SUMMARY:🕯️ Candle lighting
DESCRIPTION:Parashat Pinchas \nShare this:\n				Share on Facebook (Opens in new window)\n				Facebook\n			\n				Share on X (Opens in new window)\n				X\n			\n				Email a link to a friend (Opens in new window)\n				Email\n			\n				Print (Opens in new window)\n				Print\n			Like this:Like Loading...
URL:https://kolami-tx.org/wp/event/%f0%9f%95%af%ef%b8%8f-candle-lighting-218/
LOCATION:Flower Mound
CATEGORIES:Holiday
END:VEVENT
BEGIN:VEVENT
DTSTART;TZID=America/Chicago:20270724T211400
DTEND;TZID=America/Chicago:20270724T211400
DTSTAMP:20260424T072213
CREATED:20251229T163157Z
LAST-MODIFIED:20251229T163157Z
UID:10006455-1816463640-1816463640@kolami-tx.org
SUMMARY:✨ Havdalah
DESCRIPTION:Share this:\n				Share on Facebook (Opens in new window)\n				Facebook\n			\n				Share on X (Opens in new window)\n				X\n			\n				Email a link to a friend (Opens in new window)\n				Email\n			\n				Print (Opens in new window)\n				Print\n			Like this:Like Loading...
URL:https://kolami-tx.org/wp/event/%e2%9c%a8-havdalah-190/
LOCATION:Flower Mound
CATEGORIES:Holiday
END:VEVENT
BEGIN:VEVENT
DTSTART;TZID=America/Chicago:20270730T201000
DTEND;TZID=America/Chicago:20270730T201000
DTSTAMP:20260424T072213
CREATED:20251229T163157Z
LAST-MODIFIED:20251229T163157Z
UID:10006457-1816978200-1816978200@kolami-tx.org
SUMMARY:🕯️ Candle lighting
DESCRIPTION:Parashat Matot-Masei \nShare this:\n				Share on Facebook (Opens in new window)\n				Facebook\n			\n				Share on X (Opens in new window)\n				X\n			\n				Email a link to a friend (Opens in new window)\n				Email\n			\n				Print (Opens in new window)\n				Print\n			Like this:Like Loading...
URL:https://kolami-tx.org/wp/event/%f0%9f%95%af%ef%b8%8f-candle-lighting-219/
LOCATION:Flower Mound
CATEGORIES:Holiday
END:VEVENT
BEGIN:VEVENT
DTSTART;TZID=America/Chicago:20270731T210800
DTEND;TZID=America/Chicago:20270731T210800
DTSTAMP:20260424T072213
CREATED:20251229T163218Z
LAST-MODIFIED:20251229T163218Z
UID:10006461-1817068080-1817068080@kolami-tx.org
SUMMARY:✨ Havdalah
DESCRIPTION:Share this:\n				Share on Facebook (Opens in new window)\n				Facebook\n			\n				Share on X (Opens in new window)\n				X\n			\n				Email a link to a friend (Opens in new window)\n				Email\n			\n				Print (Opens in new window)\n				Print\n			Like this:Like Loading...
URL:https://kolami-tx.org/wp/event/%e2%9c%a8-havdalah-191/
LOCATION:Flower Mound
CATEGORIES:Holiday
END:VEVENT
BEGIN:VEVENT
DTSTART;VALUE=DATE:20270803
DTEND;VALUE=DATE:20270804
DTSTAMP:20260424T072213
CREATED:20251229T163218Z
LAST-MODIFIED:20251229T163218Z
UID:10006464-1817251200-1817337599@kolami-tx.org
SUMMARY:✡️ Yom Kippur Katan
DESCRIPTION:Minor Day of Atonement on the day preceeding Rosh Chodesh Av \nShare this:\n				Share on Facebook (Opens in new window)\n				Facebook\n			\n				Share on X (Opens in new window)\n				X\n			\n				Email a link to a friend (Opens in new window)\n				Email\n			\n				Print (Opens in new window)\n				Print\n			Like this:Like Loading...
URL:https://kolami-tx.org/wp/event/%e2%9c%a1%ef%b8%8f-yom-kippur-katan-7/
CATEGORIES:Holiday
END:VEVENT
BEGIN:VEVENT
DTSTART;VALUE=DATE:20270804
DTEND;VALUE=DATE:20270805
DTSTAMP:20260424T072213
CREATED:20251229T163218Z
LAST-MODIFIED:20251229T163218Z
UID:10006467-1817337600-1817423999@kolami-tx.org
SUMMARY:🌒 Rosh Chodesh Av
DESCRIPTION:Start of month of Av on the Hebrew calendar. Av (אָב) is the 11th month of the civil Hebrew year (12th on leap years) and the 5th month of the biblical Hebrew year. It has 30 days and corresponds to July or August on the Gregorian calendar. רֹאשׁ חוֹדֶשׁ\, transliterated Rosh Chodesh or Rosh Hodesh\, is a minor holiday that occurs at the beginning of every month in the Hebrew calendar. It is marked by the birth of a new moon\nTorah: Numbers 28:1-15\nhttps://hebcal.com/h/rosh-chodesh-av-2027?uc=ical-flower-mound-2027 \nShare this:\n				Share on Facebook (Opens in new window)\n				Facebook\n			\n				Share on X (Opens in new window)\n				X\n			\n				Email a link to a friend (Opens in new window)\n				Email\n			\n				Print (Opens in new window)\n				Print\n			Like this:Like Loading...
URL:https://kolami-tx.org/wp/event/%f0%9f%8c%92-rosh-chodesh-av-4/
CATEGORIES:Holiday
END:VEVENT
BEGIN:VEVENT
DTSTART;TZID=America/Chicago:20270806T200400
DTEND;TZID=America/Chicago:20270806T200400
DTSTAMP:20260424T072213
CREATED:20251229T163218Z
LAST-MODIFIED:20251229T163218Z
UID:10006470-1817582640-1817582640@kolami-tx.org
SUMMARY:🕯️ Candle lighting
DESCRIPTION:Parashat Devarim \nShare this:\n				Share on Facebook (Opens in new window)\n				Facebook\n			\n				Share on X (Opens in new window)\n				X\n			\n				Email a link to a friend (Opens in new window)\n				Email\n			\n				Print (Opens in new window)\n				Print\n			Like this:Like Loading...
URL:https://kolami-tx.org/wp/event/%f0%9f%95%af%ef%b8%8f-candle-lighting-220/
LOCATION:Flower Mound
CATEGORIES:Holiday
END:VEVENT
BEGIN:VEVENT
DTSTART;VALUE=DATE:20270807
DTEND;VALUE=DATE:20270808
DTSTAMP:20260424T072213
CREATED:20251229T163233Z
LAST-MODIFIED:20251229T163233Z
UID:10006471-1817596800-1817683199@kolami-tx.org
SUMMARY:🕍 Shabbat Chazon
DESCRIPTION:Shabbat of Prophecy/Shabbat of Vision. Shabbat before Tish’a B’Av\nhttps://hebcal.com/h/shabbat-chazon-2027?uc=ical-flower-mound-2027 \nShare this:\n				Share on Facebook (Opens in new window)\n				Facebook\n			\n				Share on X (Opens in new window)\n				X\n			\n				Email a link to a friend (Opens in new window)\n				Email\n			\n				Print (Opens in new window)\n				Print\n			Like this:Like Loading...
URL:https://kolami-tx.org/wp/event/%f0%9f%95%8d-shabbat-chazon-4/
CATEGORIES:Holiday
END:VEVENT
BEGIN:VEVENT
DTSTART;TZID=America/Chicago:20270807T210200
DTEND;TZID=America/Chicago:20270807T210200
DTSTAMP:20260424T072213
CREATED:20251229T163233Z
LAST-MODIFIED:20251229T163233Z
UID:10006473-1817672520-1817672520@kolami-tx.org
SUMMARY:✨ Havdalah
DESCRIPTION:Share this:\n				Share on Facebook (Opens in new window)\n				Facebook\n			\n				Share on X (Opens in new window)\n				X\n			\n				Email a link to a friend (Opens in new window)\n				Email\n			\n				Print (Opens in new window)\n				Print\n			Like this:Like Loading...
URL:https://kolami-tx.org/wp/event/%e2%9c%a8-havdalah-192/
LOCATION:Flower Mound
CATEGORIES:Holiday
END:VEVENT
BEGIN:VEVENT
DTSTART;VALUE=DATE:20270811
DTEND;VALUE=DATE:20270812
DTSTAMP:20260424T072213
CREATED:20251229T163233Z
LAST-MODIFIED:20251229T163233Z
UID:10006475-1817942400-1818028799@kolami-tx.org
SUMMARY:✡️ Erev Tish’a B’Av
DESCRIPTION:The Ninth of Av. Fast commemorating the destruction of the two Temples\nTorah: Lamentations 1:1-5:22\nhttps://hebcal.com/h/tisha-bav-2027?uc=ical-flower-mound-2027 \nShare this:\n				Share on Facebook (Opens in new window)\n				Facebook\n			\n				Share on X (Opens in new window)\n				X\n			\n				Email a link to a friend (Opens in new window)\n				Email\n			\n				Print (Opens in new window)\n				Print\n			Like this:Like Loading...
URL:https://kolami-tx.org/wp/event/%e2%9c%a1%ef%b8%8f-erev-tisha-bav-4/
CATEGORIES:Holiday
END:VEVENT
BEGIN:VEVENT
DTSTART;VALUE=DATE:20270812
DTEND;VALUE=DATE:20270813
DTSTAMP:20260424T072213
CREATED:20251229T163233Z
LAST-MODIFIED:20251229T163233Z
UID:10006478-1818028800-1818115199@kolami-tx.org
SUMMARY:✡️ Tish’a B’Av
DESCRIPTION:The Ninth of Av. Fast commemorating the destruction of the two Temples\nTorah: Deuteronomy 4:25-40; Lamentations 1:1-5:22\nHaftarah: Jeremiah 8:13-9:23\nhttps://hebcal.com/h/tisha-bav-2027?uc=ical-flower-mound-2027 \nShare this:\n				Share on Facebook (Opens in new window)\n				Facebook\n			\n				Share on X (Opens in new window)\n				X\n			\n				Email a link to a friend (Opens in new window)\n				Email\n			\n				Print (Opens in new window)\n				Print\n			Like this:Like Loading...
URL:https://kolami-tx.org/wp/event/%e2%9c%a1%ef%b8%8f-tisha-bav-4/
CATEGORIES:Holiday
END:VEVENT
BEGIN:VEVENT
DTSTART;TZID=America/Chicago:20270813T195700
DTEND;TZID=America/Chicago:20270813T195700
DTSTAMP:20260424T072213
CREATED:20251229T163249Z
LAST-MODIFIED:20251229T163249Z
UID:10006481-1818187020-1818187020@kolami-tx.org
SUMMARY:🕯️ Candle lighting
DESCRIPTION:Parashat Vaetchanan \nShare this:\n				Share on Facebook (Opens in new window)\n				Facebook\n			\n				Share on X (Opens in new window)\n				X\n			\n				Email a link to a friend (Opens in new window)\n				Email\n			\n				Print (Opens in new window)\n				Print\n			Like this:Like Loading...
URL:https://kolami-tx.org/wp/event/%f0%9f%95%af%ef%b8%8f-candle-lighting-221/
LOCATION:Flower Mound
CATEGORIES:Holiday
END:VEVENT
BEGIN:VEVENT
DTSTART;VALUE=DATE:20270814
DTEND;VALUE=DATE:20270815
DTSTAMP:20260424T072213
CREATED:20251229T163250Z
LAST-MODIFIED:20251229T163250Z
UID:10006483-1818201600-1818287999@kolami-tx.org
SUMMARY:🕍 Shabbat Nachamu
DESCRIPTION:Shabbat after Tish’a B’Av (Shabbat of Consolation). The first of seven Shabbatot leading up to Rosh Hashanah. Named after the Haftarah (from Isaiah 40) which begins with the verse נַחֲמוּ נַחֲמוּ\, עַמִּי (“Comfort\, oh comfort my people”)\nhttps://hebcal.com/h/shabbat-nachamu-2027?uc=ical-flower-mound-2027 \nShare this:\n				Share on Facebook (Opens in new window)\n				Facebook\n			\n				Share on X (Opens in new window)\n				X\n			\n				Email a link to a friend (Opens in new window)\n				Email\n			\n				Print (Opens in new window)\n				Print\n			Like this:Like Loading...
URL:https://kolami-tx.org/wp/event/%f0%9f%95%8d-shabbat-nachamu-4/
CATEGORIES:Holiday
END:VEVENT
BEGIN:VEVENT
DTSTART;TZID=America/Chicago:20270814T205400
DTEND;TZID=America/Chicago:20270814T205400
DTSTAMP:20260424T072213
CREATED:20251229T163250Z
LAST-MODIFIED:20251229T163250Z
UID:10006485-1818276840-1818276840@kolami-tx.org
SUMMARY:✨ Havdalah
DESCRIPTION:Share this:\n				Share on Facebook (Opens in new window)\n				Facebook\n			\n				Share on X (Opens in new window)\n				X\n			\n				Email a link to a friend (Opens in new window)\n				Email\n			\n				Print (Opens in new window)\n				Print\n			Like this:Like Loading...
URL:https://kolami-tx.org/wp/event/%e2%9c%a8-havdalah-193/
LOCATION:Flower Mound
CATEGORIES:Holiday
END:VEVENT
BEGIN:VEVENT
DTSTART;VALUE=DATE:20270818
DTEND;VALUE=DATE:20270819
DTSTAMP:20260424T072213
CREATED:20251229T163250Z
LAST-MODIFIED:20251229T163250Z
UID:10006487-1818547200-1818633599@kolami-tx.org
SUMMARY:❤️ Tu B’Av
DESCRIPTION:Minor Jewish holiday of love. Observed on the 15th day of the Hebrew month of Av\nhttps://hebcal.com/h/tu-bav-2027?uc=ical-flower-mound-2027 \nShare this:\n				Share on Facebook (Opens in new window)\n				Facebook\n			\n				Share on X (Opens in new window)\n				X\n			\n				Email a link to a friend (Opens in new window)\n				Email\n			\n				Print (Opens in new window)\n				Print\n			Like this:Like Loading...
URL:https://kolami-tx.org/wp/event/%e2%9d%a4%ef%b8%8f-tu-bav-4/
CATEGORIES:Holiday
END:VEVENT
BEGIN:VEVENT
DTSTART;TZID=America/Chicago:20270820T195000
DTEND;TZID=America/Chicago:20270820T195000
DTSTAMP:20260424T072213
CREATED:20251229T163250Z
LAST-MODIFIED:20251229T163250Z
UID:10006489-1818791400-1818791400@kolami-tx.org
SUMMARY:🕯️ Candle lighting
DESCRIPTION:Parashat Eikev \nShare this:\n				Share on Facebook (Opens in new window)\n				Facebook\n			\n				Share on X (Opens in new window)\n				X\n			\n				Email a link to a friend (Opens in new window)\n				Email\n			\n				Print (Opens in new window)\n				Print\n			Like this:Like Loading...
URL:https://kolami-tx.org/wp/event/%f0%9f%95%af%ef%b8%8f-candle-lighting-222/
LOCATION:Flower Mound
CATEGORIES:Holiday
END:VEVENT
BEGIN:VEVENT
DTSTART;TZID=America/Chicago:20270821T204500
DTEND;TZID=America/Chicago:20270821T204500
DTSTAMP:20260424T072213
CREATED:20251229T163307Z
LAST-MODIFIED:20251229T163307Z
UID:10006492-1818881100-1818881100@kolami-tx.org
SUMMARY:✨ Havdalah
DESCRIPTION:Share this:\n				Share on Facebook (Opens in new window)\n				Facebook\n			\n				Share on X (Opens in new window)\n				X\n			\n				Email a link to a friend (Opens in new window)\n				Email\n			\n				Print (Opens in new window)\n				Print\n			Like this:Like Loading...
URL:https://kolami-tx.org/wp/event/%e2%9c%a8-havdalah-194/
LOCATION:Flower Mound
CATEGORIES:Holiday
END:VEVENT
BEGIN:VEVENT
DTSTART;TZID=America/Chicago:20270827T194100
DTEND;TZID=America/Chicago:20270827T194100
DTSTAMP:20260424T072213
CREATED:20251229T163307Z
LAST-MODIFIED:20251229T163307Z
UID:10006494-1819395660-1819395660@kolami-tx.org
SUMMARY:🕯️ Candle lighting
DESCRIPTION:Parashat Re’eh \nShare this:\n				Share on Facebook (Opens in new window)\n				Facebook\n			\n				Share on X (Opens in new window)\n				X\n			\n				Email a link to a friend (Opens in new window)\n				Email\n			\n				Print (Opens in new window)\n				Print\n			Like this:Like Loading...
URL:https://kolami-tx.org/wp/event/%f0%9f%95%af%ef%b8%8f-candle-lighting-223/
LOCATION:Flower Mound
CATEGORIES:Holiday
END:VEVENT
BEGIN:VEVENT
DTSTART;TZID=America/Chicago:20270828T203600
DTEND;TZID=America/Chicago:20270828T203600
DTSTAMP:20260424T072213
CREATED:20251229T163308Z
LAST-MODIFIED:20251229T163308Z
UID:10006498-1819485360-1819485360@kolami-tx.org
SUMMARY:✨ Havdalah
DESCRIPTION:Share this:\n				Share on Facebook (Opens in new window)\n				Facebook\n			\n				Share on X (Opens in new window)\n				X\n			\n				Email a link to a friend (Opens in new window)\n				Email\n			\n				Print (Opens in new window)\n				Print\n			Like this:Like Loading...
URL:https://kolami-tx.org/wp/event/%e2%9c%a8-havdalah-195/
LOCATION:Flower Mound
CATEGORIES:Holiday
END:VEVENT
BEGIN:VEVENT
DTSTART;VALUE=DATE:20270901
DTEND;VALUE=DATE:20270902
DTSTAMP:20260424T072213
CREATED:20251229T163325Z
LAST-MODIFIED:20251229T163325Z
UID:10006505-1819756800-1819843199@kolami-tx.org
SUMMARY:✡️ Yom Kippur Katan
DESCRIPTION:Minor Day of Atonement on the day preceeding Rosh Chodesh Elul \nShare this:\n				Share on Facebook (Opens in new window)\n				Facebook\n			\n				Share on X (Opens in new window)\n				X\n			\n				Email a link to a friend (Opens in new window)\n				Email\n			\n				Print (Opens in new window)\n				Print\n			Like this:Like Loading...
URL:https://kolami-tx.org/wp/event/%e2%9c%a1%ef%b8%8f-yom-kippur-katan-8/
CATEGORIES:Holiday
END:VEVENT
BEGIN:VEVENT
DTSTART;VALUE=DATE:20270902
DTEND;VALUE=DATE:20270903
DTSTAMP:20260424T072213
CREATED:20251229T163325Z
LAST-MODIFIED:20251229T163325Z
UID:10006504-1819843200-1819929599@kolami-tx.org
SUMMARY:🌒 Rosh Chodesh Elul
DESCRIPTION:Start of month of Elul on the Hebrew calendar. Elul (אֱלוּל) is the 12th month of the civil Hebrew year (13th on leap years) and the 6th month of the biblical Hebrew year. It has 29 days and corresponds to August or September on the Gregorian calendar. רֹאשׁ חוֹדֶשׁ\, transliterated Rosh Chodesh or Rosh Hodesh\, is a minor holiday that occurs at the beginning of every month in the Hebrew calendar. It is marked by the birth of a new moon\nTorah: Numbers 28:1-15\nhttps://hebcal.com/h/rosh-chodesh-elul-2027?uc=ical-flower-mound-2027 \nShare this:\n				Share on Facebook (Opens in new window)\n				Facebook\n			\n				Share on X (Opens in new window)\n				X\n			\n				Email a link to a friend (Opens in new window)\n				Email\n			\n				Print (Opens in new window)\n				Print\n			Like this:Like Loading...
URL:https://kolami-tx.org/wp/event/%f0%9f%8c%92-rosh-chodesh-elul-8/
CATEGORIES:Holiday
END:VEVENT
BEGIN:VEVENT
DTSTART;VALUE=DATE:20270903
DTEND;VALUE=DATE:20270904
DTSTAMP:20260424T072213
CREATED:20251229T163308Z
LAST-MODIFIED:20251229T163308Z
UID:10006500-1819929600-1820015999@kolami-tx.org
SUMMARY:🌒 Rosh Chodesh Elul
DESCRIPTION:Start of month of Elul on the Hebrew calendar. Elul (אֱלוּל) is the 12th month of the civil Hebrew year (13th on leap years) and the 6th month of the biblical Hebrew year. It has 29 days and corresponds to August or September on the Gregorian calendar. רֹאשׁ חוֹדֶשׁ\, transliterated Rosh Chodesh or Rosh Hodesh\, is a minor holiday that occurs at the beginning of every month in the Hebrew calendar. It is marked by the birth of a new moon\nTorah: Numbers 28:1-15\nhttps://hebcal.com/h/rosh-chodesh-elul-2027?uc=ical-flower-mound-2027 \nShare this:\n				Share on Facebook (Opens in new window)\n				Facebook\n			\n				Share on X (Opens in new window)\n				X\n			\n				Email a link to a friend (Opens in new window)\n				Email\n			\n				Print (Opens in new window)\n				Print\n			Like this:Like Loading...
URL:https://kolami-tx.org/wp/event/%f0%9f%8c%92-rosh-chodesh-elul-7/
CATEGORIES:Holiday
END:VEVENT
BEGIN:VEVENT
DTSTART;VALUE=DATE:20270903
DTEND;VALUE=DATE:20270904
DTSTAMP:20260424T072213
CREATED:20251229T163325Z
LAST-MODIFIED:20251229T163325Z
UID:10006501-1819929600-1820015999@kolami-tx.org
SUMMARY:🐑 Rosh Hashana LaBehemot
DESCRIPTION:New Year for Tithing Animals\nhttps://hebcal.com/h/rosh-hashana-labehemot-2027?uc=ical-flower-mound-2027 \nShare this:\n				Share on Facebook (Opens in new window)\n				Facebook\n			\n				Share on X (Opens in new window)\n				X\n			\n				Email a link to a friend (Opens in new window)\n				Email\n			\n				Print (Opens in new window)\n				Print\n			Like this:Like Loading...
URL:https://kolami-tx.org/wp/event/%f0%9f%90%91-rosh-hashana-labehemot-4/
CATEGORIES:Holiday
END:VEVENT
BEGIN:VEVENT
DTSTART;TZID=America/Chicago:20270903T193200
DTEND;TZID=America/Chicago:20270903T193200
DTSTAMP:20260424T072213
CREATED:20251229T163325Z
LAST-MODIFIED:20251229T163325Z
UID:10006508-1819999920-1819999920@kolami-tx.org
SUMMARY:🕯️ Candle lighting
DESCRIPTION:Parashat Shoftim \nShare this:\n				Share on Facebook (Opens in new window)\n				Facebook\n			\n				Share on X (Opens in new window)\n				X\n			\n				Email a link to a friend (Opens in new window)\n				Email\n			\n				Print (Opens in new window)\n				Print\n			Like this:Like Loading...
URL:https://kolami-tx.org/wp/event/%f0%9f%95%af%ef%b8%8f-candle-lighting-224/
LOCATION:Flower Mound
CATEGORIES:Holiday
END:VEVENT
BEGIN:VEVENT
DTSTART;TZID=America/Chicago:20270904T202700
DTEND;TZID=America/Chicago:20270904T202700
DTSTAMP:20260424T072213
CREATED:20251229T163339Z
LAST-MODIFIED:20251229T163339Z
UID:10006511-1820089620-1820089620@kolami-tx.org
SUMMARY:✨ Havdalah
DESCRIPTION:Share this:\n				Share on Facebook (Opens in new window)\n				Facebook\n			\n				Share on X (Opens in new window)\n				X\n			\n				Email a link to a friend (Opens in new window)\n				Email\n			\n				Print (Opens in new window)\n				Print\n			Like this:Like Loading...
URL:https://kolami-tx.org/wp/event/%e2%9c%a8-havdalah-196/
LOCATION:Flower Mound
CATEGORIES:Holiday
END:VEVENT
BEGIN:VEVENT
DTSTART;TZID=America/Chicago:20270910T192300
DTEND;TZID=America/Chicago:20270910T192300
DTSTAMP:20260424T072213
CREATED:20251229T163339Z
LAST-MODIFIED:20251229T163339Z
UID:10006513-1820604180-1820604180@kolami-tx.org
SUMMARY:🕯️ Candle lighting
DESCRIPTION:Parashat Ki Teitzei \nShare this:\n				Share on Facebook (Opens in new window)\n				Facebook\n			\n				Share on X (Opens in new window)\n				X\n			\n				Email a link to a friend (Opens in new window)\n				Email\n			\n				Print (Opens in new window)\n				Print\n			Like this:Like Loading...
URL:https://kolami-tx.org/wp/event/%f0%9f%95%af%ef%b8%8f-candle-lighting-225/
LOCATION:Flower Mound
CATEGORIES:Holiday
END:VEVENT
BEGIN:VEVENT
DTSTART;TZID=America/Chicago:20270911T201700
DTEND;TZID=America/Chicago:20270911T201700
DTSTAMP:20260424T072213
CREATED:20251229T163339Z
LAST-MODIFIED:20251229T163339Z
UID:10006516-1820693820-1820693820@kolami-tx.org
SUMMARY:✨ Havdalah
DESCRIPTION:Share this:\n				Share on Facebook (Opens in new window)\n				Facebook\n			\n				Share on X (Opens in new window)\n				X\n			\n				Email a link to a friend (Opens in new window)\n				Email\n			\n				Print (Opens in new window)\n				Print\n			Like this:Like Loading...
URL:https://kolami-tx.org/wp/event/%e2%9c%a8-havdalah-197/
LOCATION:Flower Mound
CATEGORIES:Holiday
END:VEVENT
BEGIN:VEVENT
DTSTART;TZID=America/Chicago:20270917T191300
DTEND;TZID=America/Chicago:20270917T191300
DTSTAMP:20260424T072213
CREATED:20251229T163339Z
LAST-MODIFIED:20251229T163339Z
UID:10006519-1821208380-1821208380@kolami-tx.org
SUMMARY:🕯️ Candle lighting
DESCRIPTION:Parashat Ki Tavo \nShare this:\n				Share on Facebook (Opens in new window)\n				Facebook\n			\n				Share on X (Opens in new window)\n				X\n			\n				Email a link to a friend (Opens in new window)\n				Email\n			\n				Print (Opens in new window)\n				Print\n			Like this:Like Loading...
URL:https://kolami-tx.org/wp/event/%f0%9f%95%af%ef%b8%8f-candle-lighting-226/
LOCATION:Flower Mound
CATEGORIES:Holiday
END:VEVENT
BEGIN:VEVENT
DTSTART;TZID=America/Chicago:20270918T200700
DTEND;TZID=America/Chicago:20270918T200700
DTSTAMP:20260424T072213
CREATED:20251229T163352Z
LAST-MODIFIED:20251229T163352Z
UID:10006521-1821298020-1821298020@kolami-tx.org
SUMMARY:✨ Havdalah
DESCRIPTION:Share this:\n				Share on Facebook (Opens in new window)\n				Facebook\n			\n				Share on X (Opens in new window)\n				X\n			\n				Email a link to a friend (Opens in new window)\n				Email\n			\n				Print (Opens in new window)\n				Print\n			Like this:Like Loading...
URL:https://kolami-tx.org/wp/event/%e2%9c%a8-havdalah-198/
LOCATION:Flower Mound
CATEGORIES:Holiday
END:VEVENT
END:VCALENDAR