BEGIN:VCALENDAR
VERSION:2.0
PRODID:-//Congregation Kol Ami - ECPv6.15.20//NONSGML v1.0//EN
CALSCALE:GREGORIAN
METHOD:PUBLISH
X-WR-CALNAME:Congregation Kol Ami
X-ORIGINAL-URL:https://kolami-tx.org/wp
X-WR-CALDESC:Events for Congregation Kol Ami
REFRESH-INTERVAL;VALUE=DURATION:PT1H
X-Robots-Tag:noindex
X-PUBLISHED-TTL:PT1H
BEGIN:VTIMEZONE
TZID:America/Chicago
BEGIN:DAYLIGHT
TZOFFSETFROM:-0600
TZOFFSETTO:-0500
TZNAME:CDT
DTSTART:20260308T080000
END:DAYLIGHT
BEGIN:STANDARD
TZOFFSETFROM:-0500
TZOFFSETTO:-0600
TZNAME:CST
DTSTART:20261101T070000
END:STANDARD
BEGIN:DAYLIGHT
TZOFFSETFROM:-0600
TZOFFSETTO:-0500
TZNAME:CDT
DTSTART:20270314T080000
END:DAYLIGHT
BEGIN:STANDARD
TZOFFSETFROM:-0500
TZOFFSETTO:-0600
TZNAME:CST
DTSTART:20271107T070000
END:STANDARD
BEGIN:DAYLIGHT
TZOFFSETFROM:-0600
TZOFFSETTO:-0500
TZNAME:CDT
DTSTART:20280312T080000
END:DAYLIGHT
BEGIN:STANDARD
TZOFFSETFROM:-0500
TZOFFSETTO:-0600
TZNAME:CST
DTSTART:20281105T070000
END:STANDARD
END:VTIMEZONE
BEGIN:VEVENT
DTSTART;TZID=America/Chicago:20270416T194100
DTEND;TZID=America/Chicago:20270416T194100
DTSTAMP:20260421T200331
CREATED:20251229T162443Z
LAST-MODIFIED:20251229T162443Z
UID:10006247-1807904460-1807904460@kolami-tx.org
SUMMARY:🕯️ Candle lighting
DESCRIPTION:Parashat Metzora \nShare this:\n				Share on Facebook (Opens in new window)\n				Facebook\n			\n				Share on X (Opens in new window)\n				X\n			\n				Email a link to a friend (Opens in new window)\n				Email\n			\n				Print (Opens in new window)\n				Print\n			Like this:Like Loading...
URL:https://kolami-tx.org/wp/event/%f0%9f%95%af%ef%b8%8f-candle-lighting-199/
LOCATION:Flower Mound
CATEGORIES:Holiday
END:VEVENT
BEGIN:VEVENT
DTSTART;VALUE=DATE:20270417
DTEND;VALUE=DATE:20270418
DTSTAMP:20260421T200331
CREATED:20251229T162444Z
LAST-MODIFIED:20251229T162444Z
UID:10006249-1807920000-1808006399@kolami-tx.org
SUMMARY:🕍 Shabbat HaGadol
DESCRIPTION:Shabbat before Pesach (The Great Shabbat)\nHaftarah: Malachi 3:4-24\nhttps://hebcal.com/h/shabbat-hagadol-2027?uc=ical-flower-mound-2027 \nShare this:\n				Share on Facebook (Opens in new window)\n				Facebook\n			\n				Share on X (Opens in new window)\n				X\n			\n				Email a link to a friend (Opens in new window)\n				Email\n			\n				Print (Opens in new window)\n				Print\n			Like this:Like Loading...
URL:https://kolami-tx.org/wp/event/%f0%9f%95%8d-shabbat-hagadol-4/
CATEGORIES:Holiday
END:VEVENT
BEGIN:VEVENT
DTSTART;VALUE=DATE:20270417
DTEND;VALUE=DATE:20270418
DTSTAMP:20260421T200331
CREATED:20251229T162444Z
LAST-MODIFIED:20251229T162444Z
UID:10006250-1807920000-1808006399@kolami-tx.org
SUMMARY:🇮🇱 Yom HaAliyah
DESCRIPTION:Recognizes Aliyah\, immigration to the Jewish State of Israel\nhttps://hebcal.com/h/yom-haaliyah-2027?uc=ical-flower-mound-2027 \nShare this:\n				Share on Facebook (Opens in new window)\n				Facebook\n			\n				Share on X (Opens in new window)\n				X\n			\n				Email a link to a friend (Opens in new window)\n				Email\n			\n				Print (Opens in new window)\n				Print\n			Like this:Like Loading...
URL:https://kolami-tx.org/wp/event/%f0%9f%87%ae%f0%9f%87%b1-yom-haaliyah-4/
CATEGORIES:Holiday
END:VEVENT
BEGIN:VEVENT
DTSTART;TZID=America/Chicago:20270417T203800
DTEND;TZID=America/Chicago:20270417T203800
DTSTAMP:20260421T200331
CREATED:20251229T162507Z
LAST-MODIFIED:20251229T162507Z
UID:10006252-1807994280-1807994280@kolami-tx.org
SUMMARY:✨ Havdalah
DESCRIPTION:Share this:\n				Share on Facebook (Opens in new window)\n				Facebook\n			\n				Share on X (Opens in new window)\n				X\n			\n				Email a link to a friend (Opens in new window)\n				Email\n			\n				Print (Opens in new window)\n				Print\n			Like this:Like Loading...
URL:https://kolami-tx.org/wp/event/%e2%9c%a8-havdalah-175/
LOCATION:Flower Mound
CATEGORIES:Holiday
END:VEVENT
BEGIN:VEVENT
DTSTART;VALUE=DATE:20270421
DTEND;VALUE=DATE:20270422
DTSTAMP:20260421T200332
CREATED:20251229T162507Z
LAST-MODIFIED:20251229T162507Z
UID:10006254-1808265600-1808351999@kolami-tx.org
SUMMARY:🫓🍷 Erev Pesach
DESCRIPTION:Passover\, the Feast of Unleavened Bread. Also called Chag HaMatzot (the Festival of Matzah)\, it commemorates the Exodus and freedom of the Israelites from ancient Egypt\nhttps://hebcal.com/h/pesach-2027?uc=ical-flower-mound-2027 \nShare this:\n				Share on Facebook (Opens in new window)\n				Facebook\n			\n				Share on X (Opens in new window)\n				X\n			\n				Email a link to a friend (Opens in new window)\n				Email\n			\n				Print (Opens in new window)\n				Print\n			Like this:Like Loading...
URL:https://kolami-tx.org/wp/event/%f0%9f%ab%93%f0%9f%8d%b7-erev-pesach-4/
CATEGORIES:Holiday
END:VEVENT
BEGIN:VEVENT
DTSTART;VALUE=DATE:20270421
DTEND;VALUE=DATE:20270422
DTSTAMP:20260421T200332
CREATED:20251229T162508Z
LAST-MODIFIED:20251229T162508Z
UID:10006256-1808265600-1808351999@kolami-tx.org
SUMMARY:✡️ Ta’anit Bechorot
DESCRIPTION:Fast of the First Born\nhttps://hebcal.com/h/taanit-bechorot-2027?uc=ical-flower-mound-2027 \nShare this:\n				Share on Facebook (Opens in new window)\n				Facebook\n			\n				Share on X (Opens in new window)\n				X\n			\n				Email a link to a friend (Opens in new window)\n				Email\n			\n				Print (Opens in new window)\n				Print\n			Like this:Like Loading...
URL:https://kolami-tx.org/wp/event/%e2%9c%a1%ef%b8%8f-taanit-bechorot-2/
CATEGORIES:Holiday
END:VEVENT
BEGIN:VEVENT
DTSTART;TZID=America/Chicago:20270421T194400
DTEND;TZID=America/Chicago:20270421T194400
DTSTAMP:20260421T200332
CREATED:20251229T162508Z
LAST-MODIFIED:20251229T162508Z
UID:10006259-1808336640-1808336640@kolami-tx.org
SUMMARY:🕯️ Candle lighting
DESCRIPTION:Share this:\n				Share on Facebook (Opens in new window)\n				Facebook\n			\n				Share on X (Opens in new window)\n				X\n			\n				Email a link to a friend (Opens in new window)\n				Email\n			\n				Print (Opens in new window)\n				Print\n			Like this:Like Loading...
URL:https://kolami-tx.org/wp/event/%f0%9f%95%af%ef%b8%8f-candle-lighting-200/
LOCATION:Flower Mound
CATEGORIES:Holiday
END:VEVENT
BEGIN:VEVENT
DTSTART;VALUE=DATE:20270422
DTEND;VALUE=DATE:20270423
DTSTAMP:20260421T200332
CREATED:20251229T162508Z
LAST-MODIFIED:20251229T162508Z
UID:10006258-1808352000-1808438399@kolami-tx.org
SUMMARY:🫓🍷 Pesach I
DESCRIPTION:Passover\, the Feast of Unleavened Bread. Also called Chag HaMatzot (the Festival of Matzah)\, it commemorates the Exodus and freedom of the Israelites from ancient Egypt\nTorah: Exodus 12:21-51; Numbers 28:16-25\nHaftarah: Joshua 3:5-7\, 5:2-6:1\, 6:27\nHaftarah for Sephardim: Joshua 5:2-6:1\, 6:27\nhttps://hebcal.com/h/pesach-2027?uc=ical-flower-mound-2027 \nShare this:\n				Share on Facebook (Opens in new window)\n				Facebook\n			\n				Share on X (Opens in new window)\n				X\n			\n				Email a link to a friend (Opens in new window)\n				Email\n			\n				Print (Opens in new window)\n				Print\n			Like this:Like Loading...
URL:https://kolami-tx.org/wp/event/%f0%9f%ab%93%f0%9f%8d%b7-pesach-i-4/
CATEGORIES:Holiday
END:VEVENT
BEGIN:VEVENT
DTSTART;TZID=America/Chicago:20270422T204200
DTEND;TZID=America/Chicago:20270422T204200
DTSTAMP:20260421T200332
CREATED:20251229T162509Z
LAST-MODIFIED:20251229T162509Z
UID:10006260-1808426520-1808426520@kolami-tx.org
SUMMARY:🕯️ Candle lighting
DESCRIPTION:Share this:\n				Share on Facebook (Opens in new window)\n				Facebook\n			\n				Share on X (Opens in new window)\n				X\n			\n				Email a link to a friend (Opens in new window)\n				Email\n			\n				Print (Opens in new window)\n				Print\n			Like this:Like Loading...
URL:https://kolami-tx.org/wp/event/%f0%9f%95%af%ef%b8%8f-candle-lighting-201/
LOCATION:Flower Mound
CATEGORIES:Holiday
END:VEVENT
BEGIN:VEVENT
DTSTART;VALUE=DATE:20270423
DTEND;VALUE=DATE:20270424
DTSTAMP:20260421T200332
CREATED:20251229T162530Z
LAST-MODIFIED:20251229T162530Z
UID:10006262-1808438400-1808524799@kolami-tx.org
SUMMARY:🫓 Pesach II
DESCRIPTION:Passover\, the Feast of Unleavened Bread. Also called Chag HaMatzot (the Festival of Matzah)\, it commemorates the Exodus and freedom of the Israelites from ancient Egypt\nTorah: Leviticus 22:26-23:44; Numbers 28:16-25\nHaftarah: II Kings 23:1-9\, 23:21-25\nhttps://hebcal.com/h/pesach-2027?uc=ical-flower-mound-2027 \nShare this:\n				Share on Facebook (Opens in new window)\n				Facebook\n			\n				Share on X (Opens in new window)\n				X\n			\n				Email a link to a friend (Opens in new window)\n				Email\n			\n				Print (Opens in new window)\n				Print\n			Like this:Like Loading...
URL:https://kolami-tx.org/wp/event/%f0%9f%ab%93-pesach-ii-4/
CATEGORIES:Holiday
END:VEVENT
BEGIN:VEVENT
DTSTART;TZID=America/Chicago:20270423T194600
DTEND;TZID=America/Chicago:20270423T194600
DTSTAMP:20260421T200332
CREATED:20251229T162530Z
LAST-MODIFIED:20251229T162530Z
UID:10006264-1808509560-1808509560@kolami-tx.org
SUMMARY:🕯️ Candle lighting
DESCRIPTION:Share this:\n				Share on Facebook (Opens in new window)\n				Facebook\n			\n				Share on X (Opens in new window)\n				X\n			\n				Email a link to a friend (Opens in new window)\n				Email\n			\n				Print (Opens in new window)\n				Print\n			Like this:Like Loading...
URL:https://kolami-tx.org/wp/event/%f0%9f%95%af%ef%b8%8f-candle-lighting-202/
LOCATION:Flower Mound
CATEGORIES:Holiday
END:VEVENT
BEGIN:VEVENT
DTSTART;VALUE=DATE:20270424
DTEND;VALUE=DATE:20270425
DTSTAMP:20260421T200332
CREATED:20251229T162550Z
LAST-MODIFIED:20251229T162550Z
UID:10006272-1808524800-1808611199@kolami-tx.org
SUMMARY:🫓 Pesach III (CH’’M)
DESCRIPTION:Passover\, the Feast of Unleavened Bread. Also called Chag HaMatzot (the Festival of Matzah)\, it commemorates the Exodus and freedom of the Israelites from ancient Egypt\nTorah: Exodus 33:12-34:26; Numbers 28:19-25; Song of Songs 1:1-8:14\nHaftarah: Ezekiel 37:1-14\nhttps://hebcal.com/h/pesach-2027?uc=ical-flower-mound-2027 \nShare this:\n				Share on Facebook (Opens in new window)\n				Facebook\n			\n				Share on X (Opens in new window)\n				X\n			\n				Email a link to a friend (Opens in new window)\n				Email\n			\n				Print (Opens in new window)\n				Print\n			Like this:Like Loading...
URL:https://kolami-tx.org/wp/event/%f0%9f%ab%93-pesach-iii-chm-4/
CATEGORIES:Holiday
END:VEVENT
BEGIN:VEVENT
DTSTART;TZID=America/Chicago:20270424T204400
DTEND;TZID=America/Chicago:20270424T204400
DTSTAMP:20260421T200332
CREATED:20251229T162550Z
LAST-MODIFIED:20251229T162550Z
UID:10006274-1808599440-1808599440@kolami-tx.org
SUMMARY:✨ Havdalah
DESCRIPTION:Share this:\n				Share on Facebook (Opens in new window)\n				Facebook\n			\n				Share on X (Opens in new window)\n				X\n			\n				Email a link to a friend (Opens in new window)\n				Email\n			\n				Print (Opens in new window)\n				Print\n			Like this:Like Loading...
URL:https://kolami-tx.org/wp/event/%e2%9c%a8-havdalah-176/
LOCATION:Flower Mound
CATEGORIES:Holiday
END:VEVENT
BEGIN:VEVENT
DTSTART;VALUE=DATE:20270425
DTEND;VALUE=DATE:20270426
DTSTAMP:20260421T200332
CREATED:20251229T162531Z
LAST-MODIFIED:20251229T162531Z
UID:10006270-1808611200-1808697599@kolami-tx.org
SUMMARY:🫓 Pesach IV (CH’’M)
DESCRIPTION:Passover\, the Feast of Unleavened Bread. Also called Chag HaMatzot (the Festival of Matzah)\, it commemorates the Exodus and freedom of the Israelites from ancient Egypt\nTorah: Exodus 13:1-16; Numbers 28:19-25\nhttps://hebcal.com/h/pesach-2027?uc=ical-flower-mound-2027 \nShare this:\n				Share on Facebook (Opens in new window)\n				Facebook\n			\n				Share on X (Opens in new window)\n				X\n			\n				Email a link to a friend (Opens in new window)\n				Email\n			\n				Print (Opens in new window)\n				Print\n			Like this:Like Loading...
URL:https://kolami-tx.org/wp/event/%f0%9f%ab%93-pesach-iv-chm-4/
CATEGORIES:Holiday
END:VEVENT
BEGIN:VEVENT
DTSTART;VALUE=DATE:20270426
DTEND;VALUE=DATE:20270427
DTSTAMP:20260421T200332
CREATED:20251229T162530Z
LAST-MODIFIED:20251229T162530Z
UID:10006267-1808697600-1808783999@kolami-tx.org
SUMMARY:🫓 Pesach V (CH’’M)
DESCRIPTION:Passover\, the Feast of Unleavened Bread. Also called Chag HaMatzot (the Festival of Matzah)\, it commemorates the Exodus and freedom of the Israelites from ancient Egypt\nTorah: Exodus 22:24-23:19; Numbers 28:19-25\nhttps://hebcal.com/h/pesach-2027?uc=ical-flower-mound-2027 \nShare this:\n				Share on Facebook (Opens in new window)\n				Facebook\n			\n				Share on X (Opens in new window)\n				X\n			\n				Email a link to a friend (Opens in new window)\n				Email\n			\n				Print (Opens in new window)\n				Print\n			Like this:Like Loading...
URL:https://kolami-tx.org/wp/event/%f0%9f%ab%93-pesach-v-chm-4/
CATEGORIES:Holiday
END:VEVENT
BEGIN:VEVENT
DTSTART;VALUE=DATE:20270427
DTEND;VALUE=DATE:20270428
DTSTAMP:20260421T200332
CREATED:20251229T162550Z
LAST-MODIFIED:20251229T162550Z
UID:10006276-1808784000-1808870399@kolami-tx.org
SUMMARY:🫓 Pesach VI (CH’’M)
DESCRIPTION:Passover\, the Feast of Unleavened Bread. Also called Chag HaMatzot (the Festival of Matzah)\, it commemorates the Exodus and freedom of the Israelites from ancient Egypt\nTorah: Numbers 9:1-14\, 28:19-25\nhttps://hebcal.com/h/pesach-2027?uc=ical-flower-mound-2027 \nShare this:\n				Share on Facebook (Opens in new window)\n				Facebook\n			\n				Share on X (Opens in new window)\n				X\n			\n				Email a link to a friend (Opens in new window)\n				Email\n			\n				Print (Opens in new window)\n				Print\n			Like this:Like Loading...
URL:https://kolami-tx.org/wp/event/%f0%9f%ab%93-pesach-vi-chm-4/
CATEGORIES:Holiday
END:VEVENT
BEGIN:VEVENT
DTSTART;TZID=America/Chicago:20270427T194900
DTEND;TZID=America/Chicago:20270427T194900
DTSTAMP:20260421T200332
CREATED:20251229T162551Z
LAST-MODIFIED:20251229T162551Z
UID:10006278-1808855340-1808855340@kolami-tx.org
SUMMARY:🕯️ Candle lighting
DESCRIPTION:Share this:\n				Share on Facebook (Opens in new window)\n				Facebook\n			\n				Share on X (Opens in new window)\n				X\n			\n				Email a link to a friend (Opens in new window)\n				Email\n			\n				Print (Opens in new window)\n				Print\n			Like this:Like Loading...
URL:https://kolami-tx.org/wp/event/%f0%9f%95%af%ef%b8%8f-candle-lighting-203/
LOCATION:Flower Mound
CATEGORIES:Holiday
END:VEVENT
BEGIN:VEVENT
DTSTART;VALUE=DATE:20270428
DTEND;VALUE=DATE:20270429
DTSTAMP:20260421T200332
CREATED:20251229T162612Z
LAST-MODIFIED:20251229T162612Z
UID:10006287-1808870400-1808956799@kolami-tx.org
SUMMARY:🫓 Pesach VII
DESCRIPTION:Passover\, the Feast of Unleavened Bread. Also called Chag HaMatzot (the Festival of Matzah)\, it commemorates the Exodus and freedom of the Israelites from ancient Egypt\nTorah: Exodus 13:17-15:26; Numbers 28:19-25\nHaftarah: II Samuel 22:1-51\nhttps://hebcal.com/h/pesach-2027?uc=ical-flower-mound-2027 \nShare this:\n				Share on Facebook (Opens in new window)\n				Facebook\n			\n				Share on X (Opens in new window)\n				X\n			\n				Email a link to a friend (Opens in new window)\n				Email\n			\n				Print (Opens in new window)\n				Print\n			Like this:Like Loading...
URL:https://kolami-tx.org/wp/event/%f0%9f%ab%93-pesach-vii-4/
CATEGORIES:Holiday
END:VEVENT
BEGIN:VEVENT
DTSTART;TZID=America/Chicago:20270428T204700
DTEND;TZID=America/Chicago:20270428T204700
DTSTAMP:20260421T200332
CREATED:20251229T162612Z
LAST-MODIFIED:20251229T162612Z
UID:10006288-1808945220-1808945220@kolami-tx.org
SUMMARY:🕯️ Candle lighting
DESCRIPTION:Share this:\n				Share on Facebook (Opens in new window)\n				Facebook\n			\n				Share on X (Opens in new window)\n				X\n			\n				Email a link to a friend (Opens in new window)\n				Email\n			\n				Print (Opens in new window)\n				Print\n			Like this:Like Loading...
URL:https://kolami-tx.org/wp/event/%f0%9f%95%af%ef%b8%8f-candle-lighting-204/
LOCATION:Flower Mound
CATEGORIES:Holiday
END:VEVENT
BEGIN:VEVENT
DTSTART;VALUE=DATE:20270429
DTEND;VALUE=DATE:20270430
DTSTAMP:20260421T200332
CREATED:20251229T162551Z
LAST-MODIFIED:20251229T162551Z
UID:10006279-1808956800-1809043199@kolami-tx.org
SUMMARY:🫓 Pesach VIII
DESCRIPTION:Passover\, the Feast of Unleavened Bread. Also called Chag HaMatzot (the Festival of Matzah)\, it commemorates the Exodus and freedom of the Israelites from ancient Egypt\nTorah: Deuteronomy 15:19-16:17; Numbers 28:19-25\nHaftarah: Isaiah 10:32-12:6\nhttps://hebcal.com/h/pesach-2027?uc=ical-flower-mound-2027 \nShare this:\n				Share on Facebook (Opens in new window)\n				Facebook\n			\n				Share on X (Opens in new window)\n				X\n			\n				Email a link to a friend (Opens in new window)\n				Email\n			\n				Print (Opens in new window)\n				Print\n			Like this:Like Loading...
URL:https://kolami-tx.org/wp/event/%f0%9f%ab%93-pesach-viii-4/
CATEGORIES:Holiday
END:VEVENT
BEGIN:VEVENT
DTSTART;TZID=America/Chicago:20270429T204800
DTEND;TZID=America/Chicago:20270429T204800
DTSTAMP:20260421T200332
CREATED:20251229T162612Z
LAST-MODIFIED:20251229T162612Z
UID:10006289-1809031680-1809031680@kolami-tx.org
SUMMARY:✨ Havdalah
DESCRIPTION:Share this:\n				Share on Facebook (Opens in new window)\n				Facebook\n			\n				Share on X (Opens in new window)\n				X\n			\n				Email a link to a friend (Opens in new window)\n				Email\n			\n				Print (Opens in new window)\n				Print\n			Like this:Like Loading...
URL:https://kolami-tx.org/wp/event/%e2%9c%a8-havdalah-177/
LOCATION:Flower Mound
CATEGORIES:Holiday
END:VEVENT
BEGIN:VEVENT
DTSTART;TZID=America/Chicago:20270430T195100
DTEND;TZID=America/Chicago:20270430T195100
DTSTAMP:20260421T200332
CREATED:20251229T162612Z
LAST-MODIFIED:20251229T162612Z
UID:10006290-1809114660-1809114660@kolami-tx.org
SUMMARY:🕯️ Candle lighting
DESCRIPTION:Parashat Achrei Mot \nShare this:\n				Share on Facebook (Opens in new window)\n				Facebook\n			\n				Share on X (Opens in new window)\n				X\n			\n				Email a link to a friend (Opens in new window)\n				Email\n			\n				Print (Opens in new window)\n				Print\n			Like this:Like Loading...
URL:https://kolami-tx.org/wp/event/%f0%9f%95%af%ef%b8%8f-candle-lighting-205/
LOCATION:Flower Mound
CATEGORIES:Holiday
END:VEVENT
BEGIN:VEVENT
DTSTART;TZID=America/Chicago:20270501T205000
DTEND;TZID=America/Chicago:20270501T205000
DTSTAMP:20260421T200332
CREATED:20251229T162634Z
LAST-MODIFIED:20251229T162634Z
UID:10006295-1809204600-1809204600@kolami-tx.org
SUMMARY:✨ Havdalah
DESCRIPTION:Share this:\n				Share on Facebook (Opens in new window)\n				Facebook\n			\n				Share on X (Opens in new window)\n				X\n			\n				Email a link to a friend (Opens in new window)\n				Email\n			\n				Print (Opens in new window)\n				Print\n			Like this:Like Loading...
URL:https://kolami-tx.org/wp/event/%e2%9c%a8-havdalah-178/
LOCATION:Flower Mound
CATEGORIES:Holiday
END:VEVENT
BEGIN:VEVENT
DTSTART;VALUE=DATE:20270504
DTEND;VALUE=DATE:20270505
DTSTAMP:20260421T200332
CREATED:20251229T162658Z
LAST-MODIFIED:20251229T162658Z
UID:10006306-1809388800-1809475199@kolami-tx.org
SUMMARY:✡️ Yom HaShoah
DESCRIPTION:Holocaust Memorial Day\nhttps://hebcal.com/h/yom-hashoah-2027?uc=ical-flower-mound-2027 \nShare this:\n				Share on Facebook (Opens in new window)\n				Facebook\n			\n				Share on X (Opens in new window)\n				X\n			\n				Email a link to a friend (Opens in new window)\n				Email\n			\n				Print (Opens in new window)\n				Print\n			Like this:Like Loading...
URL:https://kolami-tx.org/wp/event/%e2%9c%a1%ef%b8%8f-yom-hashoah-4/
CATEGORIES:Holiday
END:VEVENT
BEGIN:VEVENT
DTSTART;VALUE=DATE:20270507
DTEND;VALUE=DATE:20270508
DTSTAMP:20260421T200332
CREATED:20251229T162658Z
LAST-MODIFIED:20251229T162658Z
UID:10006308-1809648000-1809734399@kolami-tx.org
SUMMARY:🌒 Rosh Chodesh Iyyar
DESCRIPTION:Start of month of Iyyar on the Hebrew calendar. אִיָּיר (transliterated Iyyar or Iyar) is the 8th month of the civil Hebrew year (9th on leap years) and the 2nd month of the biblical Hebrew year. It has 29 days and corresponds to April or May on the Gregorian calendar. רֹאשׁ חוֹדֶשׁ\, transliterated Rosh Chodesh or Rosh Hodesh\, is a minor holiday that occurs at the beginning of every month in the Hebrew calendar. It is marked by the birth of a new moon\nTorah: Numbers 28:1-15\nhttps://hebcal.com/h/rosh-chodesh-iyyar-2027?uc=ical-flower-mound-2027 \nShare this:\n				Share on Facebook (Opens in new window)\n				Facebook\n			\n				Share on X (Opens in new window)\n				X\n			\n				Email a link to a friend (Opens in new window)\n				Email\n			\n				Print (Opens in new window)\n				Print\n			Like this:Like Loading...
URL:https://kolami-tx.org/wp/event/%f0%9f%8c%92-rosh-chodesh-iyyar-7/
CATEGORIES:Holiday
END:VEVENT
BEGIN:VEVENT
DTSTART;TZID=America/Chicago:20270507T195600
DTEND;TZID=America/Chicago:20270507T195600
DTSTAMP:20260421T200332
CREATED:20251229T162658Z
LAST-MODIFIED:20251229T162658Z
UID:10006310-1809719760-1809719760@kolami-tx.org
SUMMARY:🕯️ Candle lighting
DESCRIPTION:Parashat Kedoshim \nShare this:\n				Share on Facebook (Opens in new window)\n				Facebook\n			\n				Share on X (Opens in new window)\n				X\n			\n				Email a link to a friend (Opens in new window)\n				Email\n			\n				Print (Opens in new window)\n				Print\n			Like this:Like Loading...
URL:https://kolami-tx.org/wp/event/%f0%9f%95%af%ef%b8%8f-candle-lighting-206/
LOCATION:Flower Mound
CATEGORIES:Holiday
END:VEVENT
BEGIN:VEVENT
DTSTART;VALUE=DATE:20270508
DTEND;VALUE=DATE:20270509
DTSTAMP:20260421T200332
CREATED:20251229T162718Z
LAST-MODIFIED:20251229T162718Z
UID:10006312-1809734400-1809820799@kolami-tx.org
SUMMARY:🌒 Rosh Chodesh Iyyar
DESCRIPTION:Start of month of Iyyar on the Hebrew calendar. אִיָּיר (transliterated Iyyar or Iyar) is the 8th month of the civil Hebrew year (9th on leap years) and the 2nd month of the biblical Hebrew year. It has 29 days and corresponds to April or May on the Gregorian calendar. רֹאשׁ חוֹדֶשׁ\, transliterated Rosh Chodesh or Rosh Hodesh\, is a minor holiday that occurs at the beginning of every month in the Hebrew calendar. It is marked by the birth of a new moon\nHaftarah: Isaiah 66:1-24\nhttps://hebcal.com/h/rosh-chodesh-iyyar-2027?uc=ical-flower-mound-2027 \nShare this:\n				Share on Facebook (Opens in new window)\n				Facebook\n			\n				Share on X (Opens in new window)\n				X\n			\n				Email a link to a friend (Opens in new window)\n				Email\n			\n				Print (Opens in new window)\n				Print\n			Like this:Like Loading...
URL:https://kolami-tx.org/wp/event/%f0%9f%8c%92-rosh-chodesh-iyyar-8/
CATEGORIES:Holiday
END:VEVENT
BEGIN:VEVENT
DTSTART;TZID=America/Chicago:20270508T205600
DTEND;TZID=America/Chicago:20270508T205600
DTSTAMP:20260421T200332
CREATED:20251229T162718Z
LAST-MODIFIED:20251229T162718Z
UID:10006315-1809809760-1809809760@kolami-tx.org
SUMMARY:✨ Havdalah
DESCRIPTION:Share this:\n				Share on Facebook (Opens in new window)\n				Facebook\n			\n				Share on X (Opens in new window)\n				X\n			\n				Email a link to a friend (Opens in new window)\n				Email\n			\n				Print (Opens in new window)\n				Print\n			Like this:Like Loading...
URL:https://kolami-tx.org/wp/event/%e2%9c%a8-havdalah-179/
LOCATION:Flower Mound
CATEGORIES:Holiday
END:VEVENT
BEGIN:VEVENT
DTSTART;VALUE=DATE:20270511
DTEND;VALUE=DATE:20270512
DTSTAMP:20260421T200332
CREATED:20251229T162718Z
LAST-MODIFIED:20251229T162718Z
UID:10006318-1809993600-1810079999@kolami-tx.org
SUMMARY:🇮🇱 Yom HaZikaron
DESCRIPTION:Israeli Memorial Day. Remembers those who died in the War of Independence and other wars in Israel. The full name of the holiday is Yom HaZikaron LeHalalei Ma’arakhot Yisrael ul’Nifge’ei Pe’ulot HaEivah (Hebrew: יוֹם הזִּכָּרוֹן לְחַלְלֵי מַעֲרָכוֹת יִשְׂרָאֵל וּלְנִפְגְעֵי פְּעֻלּוֹת הָאֵיבָה)\, Memorial Day for the Fallen Soldiers of the Wars of Israel and Victims of Actions of Terrorism. Although Yom Hazikaron is normally observed on the 4th of Iyyar\, it may be moved earlier or postponed if observance of the holiday (or Yom HaAtzma’ut\, which always follows it) would conflict with Shabbat\nhttps://hebcal.com/h/yom-hazikaron-2027?uc=ical-flower-mound-2027 \nShare this:\n				Share on Facebook (Opens in new window)\n				Facebook\n			\n				Share on X (Opens in new window)\n				X\n			\n				Email a link to a friend (Opens in new window)\n				Email\n			\n				Print (Opens in new window)\n				Print\n			Like this:Like Loading...
URL:https://kolami-tx.org/wp/event/%f0%9f%87%ae%f0%9f%87%b1-yom-hazikaron-4/
CATEGORIES:Holiday
END:VEVENT
BEGIN:VEVENT
DTSTART;VALUE=DATE:20270512
DTEND;VALUE=DATE:20270513
DTSTAMP:20260421T200332
CREATED:20251229T162740Z
LAST-MODIFIED:20251229T162740Z
UID:10006324-1810080000-1810166399@kolami-tx.org
SUMMARY:🇮🇱 Yom HaAtzma’ut
DESCRIPTION:Israeli Independence Day. Commemorates the declaration of independence of Israel in 1948. Although Yom HaAtzma’ut is normally observed on the 5th of Iyyar\, it may be moved earlier or postponed if observance of the holiday (or Yom HaZikaron\, which always precedes it) would conflict with Shabbat\nhttps://hebcal.com/h/yom-haatzmaut-2027?uc=ical-flower-mound-2027 \nShare this:\n				Share on Facebook (Opens in new window)\n				Facebook\n			\n				Share on X (Opens in new window)\n				X\n			\n				Email a link to a friend (Opens in new window)\n				Email\n			\n				Print (Opens in new window)\n				Print\n			Like this:Like Loading...
URL:https://kolami-tx.org/wp/event/%f0%9f%87%ae%f0%9f%87%b1-yom-haatzmaut-4/
CATEGORIES:Holiday
END:VEVENT
END:VCALENDAR