BEGIN:VCALENDAR
VERSION:2.0
PRODID:-//Congregation Kol Ami - ECPv6.15.20//NONSGML v1.0//EN
CALSCALE:GREGORIAN
METHOD:PUBLISH
X-WR-CALNAME:Congregation Kol Ami
X-ORIGINAL-URL:https://kolami-tx.org/wp
X-WR-CALDESC:Events for Congregation Kol Ami
REFRESH-INTERVAL;VALUE=DURATION:PT1H
X-Robots-Tag:noindex
X-PUBLISHED-TTL:PT1H
BEGIN:VTIMEZONE
TZID:America/Chicago
BEGIN:DAYLIGHT
TZOFFSETFROM:-0600
TZOFFSETTO:-0500
TZNAME:CDT
DTSTART:20260308T080000
END:DAYLIGHT
BEGIN:STANDARD
TZOFFSETFROM:-0500
TZOFFSETTO:-0600
TZNAME:CST
DTSTART:20261101T070000
END:STANDARD
BEGIN:DAYLIGHT
TZOFFSETFROM:-0600
TZOFFSETTO:-0500
TZNAME:CDT
DTSTART:20270314T080000
END:DAYLIGHT
BEGIN:STANDARD
TZOFFSETFROM:-0500
TZOFFSETTO:-0600
TZNAME:CST
DTSTART:20271107T070000
END:STANDARD
BEGIN:DAYLIGHT
TZOFFSETFROM:-0600
TZOFFSETTO:-0500
TZNAME:CDT
DTSTART:20280312T080000
END:DAYLIGHT
BEGIN:STANDARD
TZOFFSETFROM:-0500
TZOFFSETTO:-0600
TZNAME:CST
DTSTART:20281105T070000
END:STANDARD
END:VTIMEZONE
BEGIN:VEVENT
DTSTART;VALUE=DATE:20270508
DTEND;VALUE=DATE:20270509
DTSTAMP:20260424T081322
CREATED:20251229T162718Z
LAST-MODIFIED:20251229T162718Z
UID:10006313-1809734400-1809820799@kolami-tx.org
SUMMARY:Parashat Kedoshim
DESCRIPTION:Kedoshim (“Holy”) opens by instructing the Israelites to be holy. It details dozens of laws regulating all aspects of life\, including observing Shabbat\, loving one’s neighbor\, and leaving portions of a field for the poor. It ends by detailing punishments for certain types of idolatry and sexual misconduct.\nTorah: Leviticus 19:1-20:27; Numbers 28:9-15\nHaftarah: Isaiah 66:1-24 | Shabbat Rosh Chodesh\nhttps://hebcal.com/s/5787/30?uc=ical-flower-mound-2027 \nShare this:\n				Share on Facebook (Opens in new window)\n				Facebook\n			\n				Share on X (Opens in new window)\n				X\n			\n				Email a link to a friend (Opens in new window)\n				Email\n			\n				Print (Opens in new window)\n				Print\n			Like this:Like Loading...
URL:https://kolami-tx.org/wp/event/parashat-kedoshim/
CATEGORIES:Parsha
END:VEVENT
BEGIN:VEVENT
DTSTART;VALUE=DATE:20270508
DTEND;VALUE=DATE:20270509
DTSTAMP:20260424T081322
CREATED:20251229T162718Z
LAST-MODIFIED:20251229T162718Z
UID:10006314-1809734400-1809820799@kolami-tx.org
SUMMARY:16th day of the Omer ⑯
DESCRIPTION:Today is 16 days\, which is 2 weeks and 2 days of the Omer\nהַיּוֹם שִׁשָּׁה עָשָׂר יוֹם\, שֶׁהֵם שְׁנֵי שָׁבוּעוֹת וּשְׁנֵי יָמִים לָעֽוֹמֶר\nMight within Beauty\nגְּבוּרָה שֶׁבְּתִפְאֶֽרֶת\nGevurah sheb’Tiferet \nShare this:\n				Share on Facebook (Opens in new window)\n				Facebook\n			\n				Share on X (Opens in new window)\n				X\n			\n				Email a link to a friend (Opens in new window)\n				Email\n			\n				Print (Opens in new window)\n				Print\n			Like this:Like Loading...
URL:https://kolami-tx.org/wp/event/16th-day-of-the-omer-%e2%91%af-2/
LOCATION:Flower Mound
END:VEVENT
BEGIN:VEVENT
DTSTART;TZID=America/Chicago:20270508T100000
DTEND;TZID=America/Chicago:20270508T110000
DTSTAMP:20260424T081322
CREATED:20250512T190517Z
LAST-MODIFIED:20250512T190517Z
UID:10005731-1809770400-1809774000@kolami-tx.org
SUMMARY:Torah 'n' Tefilah
DESCRIPTION:Share this:\n				Share on Facebook (Opens in new window)\n				Facebook\n			\n				Share on X (Opens in new window)\n				X\n			\n				Email a link to a friend (Opens in new window)\n				Email\n			\n				Print (Opens in new window)\n				Print\n			Like this:Like Loading...
URL:https://kolami-tx.org/wp/event/torah-n-tefilah-219/
LOCATION:Congregation Kol Ami
END:VEVENT
BEGIN:VEVENT
DTSTART;TZID=America/Chicago:20270508T205600
DTEND;TZID=America/Chicago:20270508T205600
DTSTAMP:20260424T081322
CREATED:20251229T162718Z
LAST-MODIFIED:20251229T162718Z
UID:10006315-1809809760-1809809760@kolami-tx.org
SUMMARY:✨ Havdalah
DESCRIPTION:Share this:\n				Share on Facebook (Opens in new window)\n				Facebook\n			\n				Share on X (Opens in new window)\n				X\n			\n				Email a link to a friend (Opens in new window)\n				Email\n			\n				Print (Opens in new window)\n				Print\n			Like this:Like Loading...
URL:https://kolami-tx.org/wp/event/%e2%9c%a8-havdalah-179/
LOCATION:Flower Mound
CATEGORIES:Holiday
END:VEVENT
BEGIN:VEVENT
DTSTART;VALUE=DATE:20270509
DTEND;VALUE=DATE:20270510
DTSTAMP:20260424T081322
CREATED:20251229T162739Z
LAST-MODIFIED:20251229T162739Z
UID:10006321-1809820800-1809907199@kolami-tx.org
SUMMARY:17th day of the Omer ⑰
DESCRIPTION:Today is 17 days\, which is 2 weeks and 3 days of the Omer\nהַיּוֹם שִׁבְעָה עָשָׂר יוֹם\, שֶׁהֵם שְׁנֵי שָׁבוּעוֹת וּשְׁלוֹשָׁה יָמִים לָעֽוֹמֶר\nBeauty within Beauty\nתִּפְאֶֽרֶת שֶׁבְּתִפְאֶֽרֶת\nTiferet sheb’Tiferet \nShare this:\n				Share on Facebook (Opens in new window)\n				Facebook\n			\n				Share on X (Opens in new window)\n				X\n			\n				Email a link to a friend (Opens in new window)\n				Email\n			\n				Print (Opens in new window)\n				Print\n			Like this:Like Loading...
URL:https://kolami-tx.org/wp/event/17th-day-of-the-omer-%e2%91%b0-2/
LOCATION:Flower Mound
END:VEVENT
BEGIN:VEVENT
DTSTART;VALUE=DATE:20270509
DTEND;VALUE=DATE:20270510
DTSTAMP:20260424T081322
CREATED:20251229T162740Z
LAST-MODIFIED:20251229T162740Z
UID:10006322-1809820800-1809907199@kolami-tx.org
SUMMARY:2nd of Iyyar
DESCRIPTION:Share this:\n				Share on Facebook (Opens in new window)\n				Facebook\n			\n				Share on X (Opens in new window)\n				X\n			\n				Email a link to a friend (Opens in new window)\n				Email\n			\n				Print (Opens in new window)\n				Print\n			Like this:Like Loading...
URL:https://kolami-tx.org/wp/event/2nd-of-iyyar-4/
END:VEVENT
BEGIN:VEVENT
DTSTART;VALUE=DATE:20270510
DTEND;VALUE=DATE:20270511
DTSTAMP:20260424T081322
CREATED:20251229T162718Z
LAST-MODIFIED:20251229T162718Z
UID:10006319-1809907200-1809993599@kolami-tx.org
SUMMARY:3rd of Iyyar
DESCRIPTION:Share this:\n				Share on Facebook (Opens in new window)\n				Facebook\n			\n				Share on X (Opens in new window)\n				X\n			\n				Email a link to a friend (Opens in new window)\n				Email\n			\n				Print (Opens in new window)\n				Print\n			Like this:Like Loading...
URL:https://kolami-tx.org/wp/event/3rd-of-iyyar-4/
END:VEVENT
BEGIN:VEVENT
DTSTART;VALUE=DATE:20270510
DTEND;VALUE=DATE:20270511
DTSTAMP:20260424T081322
CREATED:20251229T162718Z
LAST-MODIFIED:20251229T162718Z
UID:10006320-1809907200-1809993599@kolami-tx.org
SUMMARY:18th day of the Omer ⑱
DESCRIPTION:Today is 18 days\, which is 2 weeks and 4 days of the Omer\nהַיּוֹם שְׁמוֹנָה עָשָׂר יוֹם\, שֶׁהֵם שְׁנֵי שָׁבוּעוֹת וְאַרְבָּעָה יָמִים לָעֽוֹמֶר\nEternity within Beauty\nנֶּֽצַח שֶׁבְּתִפְאֶֽרֶת\nNetzach sheb’Tiferet \nShare this:\n				Share on Facebook (Opens in new window)\n				Facebook\n			\n				Share on X (Opens in new window)\n				X\n			\n				Email a link to a friend (Opens in new window)\n				Email\n			\n				Print (Opens in new window)\n				Print\n			Like this:Like Loading...
URL:https://kolami-tx.org/wp/event/18th-day-of-the-omer-%e2%91%b1-2/
LOCATION:Flower Mound
END:VEVENT
BEGIN:VEVENT
DTSTART;VALUE=DATE:20270511
DTEND;VALUE=DATE:20270512
DTSTAMP:20260424T081322
CREATED:20251229T162718Z
LAST-MODIFIED:20251229T162718Z
UID:10006318-1809993600-1810079999@kolami-tx.org
SUMMARY:🇮🇱 Yom HaZikaron
DESCRIPTION:Israeli Memorial Day. Remembers those who died in the War of Independence and other wars in Israel. The full name of the holiday is Yom HaZikaron LeHalalei Ma’arakhot Yisrael ul’Nifge’ei Pe’ulot HaEivah (Hebrew: יוֹם הזִּכָּרוֹן לְחַלְלֵי מַעֲרָכוֹת יִשְׂרָאֵל וּלְנִפְגְעֵי פְּעֻלּוֹת הָאֵיבָה)\, Memorial Day for the Fallen Soldiers of the Wars of Israel and Victims of Actions of Terrorism. Although Yom Hazikaron is normally observed on the 4th of Iyyar\, it may be moved earlier or postponed if observance of the holiday (or Yom HaAtzma’ut\, which always follows it) would conflict with Shabbat\nhttps://hebcal.com/h/yom-hazikaron-2027?uc=ical-flower-mound-2027 \nShare this:\n				Share on Facebook (Opens in new window)\n				Facebook\n			\n				Share on X (Opens in new window)\n				X\n			\n				Email a link to a friend (Opens in new window)\n				Email\n			\n				Print (Opens in new window)\n				Print\n			Like this:Like Loading...
URL:https://kolami-tx.org/wp/event/%f0%9f%87%ae%f0%9f%87%b1-yom-hazikaron-4/
CATEGORIES:Holiday
END:VEVENT
BEGIN:VEVENT
DTSTART;VALUE=DATE:20270511
DTEND;VALUE=DATE:20270512
DTSTAMP:20260424T081322
CREATED:20251229T162718Z
LAST-MODIFIED:20251229T162718Z
UID:10006316-1809993600-1810079999@kolami-tx.org
SUMMARY:4th of Iyyar
DESCRIPTION:Share this:\n				Share on Facebook (Opens in new window)\n				Facebook\n			\n				Share on X (Opens in new window)\n				X\n			\n				Email a link to a friend (Opens in new window)\n				Email\n			\n				Print (Opens in new window)\n				Print\n			Like this:Like Loading...
URL:https://kolami-tx.org/wp/event/4th-of-iyyar-4/
END:VEVENT
BEGIN:VEVENT
DTSTART;VALUE=DATE:20270511
DTEND;VALUE=DATE:20270512
DTSTAMP:20260424T081322
CREATED:20251229T162718Z
LAST-MODIFIED:20251229T162718Z
UID:10006317-1809993600-1810079999@kolami-tx.org
SUMMARY:19th day of the Omer ⑲
DESCRIPTION:Today is 19 days\, which is 2 weeks and 5 days of the Omer\nהַיּוֹם תִּשְׁעָה עָשָׂר יוֹם\, שֶׁהֵם שְׁנֵי שָׁבוּעוֹת וַחֲמִשָּׁה יָמִים לָעֽוֹמֶר\nSplendor within Beauty\nהוֹד שֶׁבְּתִפְאֶֽרֶת\nHod sheb’Tiferet \nShare this:\n				Share on Facebook (Opens in new window)\n				Facebook\n			\n				Share on X (Opens in new window)\n				X\n			\n				Email a link to a friend (Opens in new window)\n				Email\n			\n				Print (Opens in new window)\n				Print\n			Like this:Like Loading...
URL:https://kolami-tx.org/wp/event/19th-day-of-the-omer-%e2%91%b2-2/
LOCATION:Flower Mound
END:VEVENT
BEGIN:VEVENT
DTSTART;VALUE=DATE:20270512
DTEND;VALUE=DATE:20270513
DTSTAMP:20260424T081322
CREATED:20251229T162740Z
LAST-MODIFIED:20251229T162740Z
UID:10006323-1810080000-1810166399@kolami-tx.org
SUMMARY:5th of Iyyar
DESCRIPTION:Share this:\n				Share on Facebook (Opens in new window)\n				Facebook\n			\n				Share on X (Opens in new window)\n				X\n			\n				Email a link to a friend (Opens in new window)\n				Email\n			\n				Print (Opens in new window)\n				Print\n			Like this:Like Loading...
URL:https://kolami-tx.org/wp/event/5th-of-iyyar-4/
END:VEVENT
BEGIN:VEVENT
DTSTART;VALUE=DATE:20270512
DTEND;VALUE=DATE:20270513
DTSTAMP:20260424T081322
CREATED:20251229T162740Z
LAST-MODIFIED:20251229T162740Z
UID:10006324-1810080000-1810166399@kolami-tx.org
SUMMARY:🇮🇱 Yom HaAtzma’ut
DESCRIPTION:Israeli Independence Day. Commemorates the declaration of independence of Israel in 1948. Although Yom HaAtzma’ut is normally observed on the 5th of Iyyar\, it may be moved earlier or postponed if observance of the holiday (or Yom HaZikaron\, which always precedes it) would conflict with Shabbat\nhttps://hebcal.com/h/yom-haatzmaut-2027?uc=ical-flower-mound-2027 \nShare this:\n				Share on Facebook (Opens in new window)\n				Facebook\n			\n				Share on X (Opens in new window)\n				X\n			\n				Email a link to a friend (Opens in new window)\n				Email\n			\n				Print (Opens in new window)\n				Print\n			Like this:Like Loading...
URL:https://kolami-tx.org/wp/event/%f0%9f%87%ae%f0%9f%87%b1-yom-haatzmaut-4/
CATEGORIES:Holiday
END:VEVENT
BEGIN:VEVENT
DTSTART;VALUE=DATE:20270512
DTEND;VALUE=DATE:20270513
DTSTAMP:20260424T081323
CREATED:20251229T162740Z
LAST-MODIFIED:20251229T162740Z
UID:10006325-1810080000-1810166399@kolami-tx.org
SUMMARY:20th day of the Omer ⑳
DESCRIPTION:Today is 20 days\, which is 2 weeks and 6 days of the Omer\nהַיּוֹם עֶשְׂרִים יוֹם\, שֶׁהֵם שְׁנֵי שָׁבוּעוֹת וְשִׁשָּׁה יָמִים לָעֽוֹמֶר\nFoundation within Beauty\nיְּסוֹד שֶׁבְּתִפְאֶֽרֶת\nYesod sheb’Tiferet \nShare this:\n				Share on Facebook (Opens in new window)\n				Facebook\n			\n				Share on X (Opens in new window)\n				X\n			\n				Email a link to a friend (Opens in new window)\n				Email\n			\n				Print (Opens in new window)\n				Print\n			Like this:Like Loading...
URL:https://kolami-tx.org/wp/event/20th-day-of-the-omer-%e2%91%b3-2/
LOCATION:Flower Mound
END:VEVENT
BEGIN:VEVENT
DTSTART;VALUE=DATE:20270513
DTEND;VALUE=DATE:20270514
DTSTAMP:20260424T081323
CREATED:20251229T162740Z
LAST-MODIFIED:20251229T162740Z
UID:10006326-1810166400-1810252799@kolami-tx.org
SUMMARY:6th of Iyyar
DESCRIPTION:Share this:\n				Share on Facebook (Opens in new window)\n				Facebook\n			\n				Share on X (Opens in new window)\n				X\n			\n				Email a link to a friend (Opens in new window)\n				Email\n			\n				Print (Opens in new window)\n				Print\n			Like this:Like Loading...
URL:https://kolami-tx.org/wp/event/6th-of-iyyar-4/
END:VEVENT
BEGIN:VEVENT
DTSTART;VALUE=DATE:20270513
DTEND;VALUE=DATE:20270514
DTSTAMP:20260424T081323
CREATED:20251229T162740Z
LAST-MODIFIED:20251229T162740Z
UID:10006327-1810166400-1810252799@kolami-tx.org
SUMMARY:21st day of the Omer ㉑
DESCRIPTION:Today is 21 days\, which is 3 weeks of the Omer\nהַיּוֹם אֶחָד וְעֶשְׂרִים יוֹם\, שֶׁהֵם שְׁלוֹשָׁה שָׁבוּעוֹת לָעֽוֹמֶר\nMajesty within Beauty\nמַלְכוּת שֶׁבְּתִפְאֶֽרֶת\nMalkhut sheb’Tiferet \nShare this:\n				Share on Facebook (Opens in new window)\n				Facebook\n			\n				Share on X (Opens in new window)\n				X\n			\n				Email a link to a friend (Opens in new window)\n				Email\n			\n				Print (Opens in new window)\n				Print\n			Like this:Like Loading...
URL:https://kolami-tx.org/wp/event/21st-day-of-the-omer-%e3%89%91-2/
LOCATION:Flower Mound
END:VEVENT
BEGIN:VEVENT
DTSTART;VALUE=DATE:20270514
DTEND;VALUE=DATE:20270515
DTSTAMP:20260424T081323
CREATED:20251229T162740Z
LAST-MODIFIED:20251229T162740Z
UID:10006328-1810252800-1810339199@kolami-tx.org
SUMMARY:7th of Iyyar
DESCRIPTION:Share this:\n				Share on Facebook (Opens in new window)\n				Facebook\n			\n				Share on X (Opens in new window)\n				X\n			\n				Email a link to a friend (Opens in new window)\n				Email\n			\n				Print (Opens in new window)\n				Print\n			Like this:Like Loading...
URL:https://kolami-tx.org/wp/event/7th-of-iyyar-4/
END:VEVENT
BEGIN:VEVENT
DTSTART;VALUE=DATE:20270514
DTEND;VALUE=DATE:20270515
DTSTAMP:20260424T081323
CREATED:20251229T162740Z
LAST-MODIFIED:20251229T162740Z
UID:10006329-1810252800-1810339199@kolami-tx.org
SUMMARY:22nd day of the Omer ㉒
DESCRIPTION:Today is 22 days\, which is 3 weeks and 1 day of the Omer\nהַיּוֹם שְׁנַיִם וְעֶשְׂרִים יוֹם\, שֶׁהֵם שְׁלוֹשָׁה שָׁבוּעוֹת וְיוֹם אֶחָד לָעֽוֹמֶר\nLovingkindness within Eternity\nחֶֽסֶד שֶׁבְּנֶֽצַח\nChesed sheb’Netzach \nShare this:\n				Share on Facebook (Opens in new window)\n				Facebook\n			\n				Share on X (Opens in new window)\n				X\n			\n				Email a link to a friend (Opens in new window)\n				Email\n			\n				Print (Opens in new window)\n				Print\n			Like this:Like Loading...
URL:https://kolami-tx.org/wp/event/22nd-day-of-the-omer-%e3%89%92-2/
LOCATION:Flower Mound
END:VEVENT
BEGIN:VEVENT
DTSTART;TZID=America/Chicago:20270514T193000
DTEND;TZID=America/Chicago:20270514T203000
DTSTAMP:20260424T081323
CREATED:20251119T161845Z
LAST-MODIFIED:20251119T161845Z
UID:10006112-1810323000-1810326600@kolami-tx.org
SUMMARY:Shabbat Service
DESCRIPTION:Share this:\n				Share on Facebook (Opens in new window)\n				Facebook\n			\n				Share on X (Opens in new window)\n				X\n			\n				Email a link to a friend (Opens in new window)\n				Email\n			\n				Print (Opens in new window)\n				Print\n			Like this:Like Loading...
URL:https://kolami-tx.org/wp/event/shabbat-service-327/
LOCATION:Congregation Kol Ami
END:VEVENT
BEGIN:VEVENT
DTSTART;TZID=America/Chicago:20270514T200200
DTEND;TZID=America/Chicago:20270514T200200
DTSTAMP:20260424T081323
CREATED:20251229T162741Z
LAST-MODIFIED:20251229T162741Z
UID:10006330-1810324920-1810324920@kolami-tx.org
SUMMARY:🕯️ Candle lighting
DESCRIPTION:Parashat Emor \nShare this:\n				Share on Facebook (Opens in new window)\n				Facebook\n			\n				Share on X (Opens in new window)\n				X\n			\n				Email a link to a friend (Opens in new window)\n				Email\n			\n				Print (Opens in new window)\n				Print\n			Like this:Like Loading...
URL:https://kolami-tx.org/wp/event/%f0%9f%95%af%ef%b8%8f-candle-lighting-207/
LOCATION:Flower Mound
CATEGORIES:Holiday
END:VEVENT
BEGIN:VEVENT
DTSTART;VALUE=DATE:20270515
DTEND;VALUE=DATE:20270516
DTSTAMP:20260424T081323
CREATED:20251229T162800Z
LAST-MODIFIED:20251229T162800Z
UID:10006331-1810339200-1810425599@kolami-tx.org
SUMMARY:8th of Iyyar
DESCRIPTION:Share this:\n				Share on Facebook (Opens in new window)\n				Facebook\n			\n				Share on X (Opens in new window)\n				X\n			\n				Email a link to a friend (Opens in new window)\n				Email\n			\n				Print (Opens in new window)\n				Print\n			Like this:Like Loading...
URL:https://kolami-tx.org/wp/event/8th-of-iyyar-4/
END:VEVENT
BEGIN:VEVENT
DTSTART;VALUE=DATE:20270515
DTEND;VALUE=DATE:20270516
DTSTAMP:20260424T081323
CREATED:20251229T162800Z
LAST-MODIFIED:20251229T162800Z
UID:10006332-1810339200-1810425599@kolami-tx.org
SUMMARY:Parashat Emor
DESCRIPTION:Emor (“Say”) opens with laws regulating priestly behavior\, working in the Mishkan (Tabernacle)\, and consuming sacrifices and priestly food. It describes the biblical holidays of Passover\, Shavuot\, Rosh Hashanah\, Yom Kippur\, and Sukkot\, and ends with a story about a blasphemer and his punishment.\nTorah: Leviticus 21:1-24:23\nHaftarah: Ezekiel 44:15-31\nhttps://hebcal.com/s/5787/31?uc=ical-flower-mound-2027 \nShare this:\n				Share on Facebook (Opens in new window)\n				Facebook\n			\n				Share on X (Opens in new window)\n				X\n			\n				Email a link to a friend (Opens in new window)\n				Email\n			\n				Print (Opens in new window)\n				Print\n			Like this:Like Loading...
URL:https://kolami-tx.org/wp/event/parashat-emor-4/
CATEGORIES:Parsha
END:VEVENT
BEGIN:VEVENT
DTSTART;VALUE=DATE:20270515
DTEND;VALUE=DATE:20270516
DTSTAMP:20260424T081323
CREATED:20251229T162800Z
LAST-MODIFIED:20251229T162800Z
UID:10006333-1810339200-1810425599@kolami-tx.org
SUMMARY:23rd day of the Omer ㉓
DESCRIPTION:Today is 23 days\, which is 3 weeks and 2 days of the Omer\nהַיּוֹם שְׁלוֹשָׁה וְעֶשְׂרִים יוֹם\, שֶׁהֵם שְׁלוֹשָׁה שָׁבוּעוֹת וּשְׁנֵי יָמִים לָעֽוֹמֶר\nMight within Eternity\nגְּבוּרָה שֶׁבְּנֶֽצַח\nGevurah sheb’Netzach \nShare this:\n				Share on Facebook (Opens in new window)\n				Facebook\n			\n				Share on X (Opens in new window)\n				X\n			\n				Email a link to a friend (Opens in new window)\n				Email\n			\n				Print (Opens in new window)\n				Print\n			Like this:Like Loading...
URL:https://kolami-tx.org/wp/event/23rd-day-of-the-omer-%e3%89%93-2/
LOCATION:Flower Mound
END:VEVENT
BEGIN:VEVENT
DTSTART;TZID=America/Chicago:20270515T100000
DTEND;TZID=America/Chicago:20270515T110000
DTSTAMP:20260424T081323
CREATED:20250530T201648Z
LAST-MODIFIED:20250530T201648Z
UID:10005774-1810375200-1810378800@kolami-tx.org
SUMMARY:Torah 'n' Tefilah
DESCRIPTION:Share this:\n				Share on Facebook (Opens in new window)\n				Facebook\n			\n				Share on X (Opens in new window)\n				X\n			\n				Email a link to a friend (Opens in new window)\n				Email\n			\n				Print (Opens in new window)\n				Print\n			Like this:Like Loading...
URL:https://kolami-tx.org/wp/event/torah-n-tefilah-220/
LOCATION:Congregation Kol Ami
END:VEVENT
BEGIN:VEVENT
DTSTART;TZID=America/Chicago:20270515T210200
DTEND;TZID=America/Chicago:20270515T210200
DTSTAMP:20260424T081323
CREATED:20251229T162801Z
LAST-MODIFIED:20251229T162801Z
UID:10006334-1810414920-1810414920@kolami-tx.org
SUMMARY:✨ Havdalah
DESCRIPTION:Share this:\n				Share on Facebook (Opens in new window)\n				Facebook\n			\n				Share on X (Opens in new window)\n				X\n			\n				Email a link to a friend (Opens in new window)\n				Email\n			\n				Print (Opens in new window)\n				Print\n			Like this:Like Loading...
URL:https://kolami-tx.org/wp/event/%e2%9c%a8-havdalah-180/
LOCATION:Flower Mound
CATEGORIES:Holiday
END:VEVENT
BEGIN:VEVENT
DTSTART;VALUE=DATE:20270516
DTEND;VALUE=DATE:20270517
DTSTAMP:20260424T081323
CREATED:20251229T162801Z
LAST-MODIFIED:20251229T162801Z
UID:10006339-1810425600-1810511999@kolami-tx.org
SUMMARY:9th of Iyyar
DESCRIPTION:Share this:\n				Share on Facebook (Opens in new window)\n				Facebook\n			\n				Share on X (Opens in new window)\n				X\n			\n				Email a link to a friend (Opens in new window)\n				Email\n			\n				Print (Opens in new window)\n				Print\n			Like this:Like Loading...
URL:https://kolami-tx.org/wp/event/9th-of-iyyar-4/
END:VEVENT
BEGIN:VEVENT
DTSTART;VALUE=DATE:20270516
DTEND;VALUE=DATE:20270517
DTSTAMP:20260424T081323
CREATED:20251229T162801Z
LAST-MODIFIED:20251229T162801Z
UID:10006340-1810425600-1810511999@kolami-tx.org
SUMMARY:24th day of the Omer ㉔
DESCRIPTION:Today is 24 days\, which is 3 weeks and 3 days of the Omer\nהַיּוֹם אַרְבָּעָה וְעֶשְׂרִים יוֹם\, שֶׁהֵם שְׁלוֹשָׁה שָׁבוּעוֹת וּשְׁלוֹשָׁה יָמִים לָעֽוֹמֶר\nBeauty within Eternity\nתִּפְאֶֽרֶת שֶׁבְּנֶֽצַח\nTiferet sheb’Netzach \nShare this:\n				Share on Facebook (Opens in new window)\n				Facebook\n			\n				Share on X (Opens in new window)\n				X\n			\n				Email a link to a friend (Opens in new window)\n				Email\n			\n				Print (Opens in new window)\n				Print\n			Like this:Like Loading...
URL:https://kolami-tx.org/wp/event/24th-day-of-the-omer-%e3%89%94-2/
LOCATION:Flower Mound
END:VEVENT
BEGIN:VEVENT
DTSTART;VALUE=DATE:20270517
DTEND;VALUE=DATE:20270518
DTSTAMP:20260424T081323
CREATED:20251229T162801Z
LAST-MODIFIED:20251229T162801Z
UID:10006337-1810512000-1810598399@kolami-tx.org
SUMMARY:10th of Iyyar
DESCRIPTION:Share this:\n				Share on Facebook (Opens in new window)\n				Facebook\n			\n				Share on X (Opens in new window)\n				X\n			\n				Email a link to a friend (Opens in new window)\n				Email\n			\n				Print (Opens in new window)\n				Print\n			Like this:Like Loading...
URL:https://kolami-tx.org/wp/event/10th-of-iyyar-4/
END:VEVENT
BEGIN:VEVENT
DTSTART;VALUE=DATE:20270517
DTEND;VALUE=DATE:20270518
DTSTAMP:20260424T081323
CREATED:20251229T162801Z
LAST-MODIFIED:20251229T162801Z
UID:10006338-1810512000-1810598399@kolami-tx.org
SUMMARY:25th day of the Omer ㉕
DESCRIPTION:Today is 25 days\, which is 3 weeks and 4 days of the Omer\nהַיּוֹם חֲמִשָּׁה וְעֶשְׂרִים יוֹם\, שֶׁהֵם שְׁלוֹשָׁה שָׁבוּעוֹת וְאַרְבָּעָה יָמִים לָעֽוֹמֶר\nEternity within Eternity\nנֶּֽצַח שֶׁבְּנֶֽצַח\nNetzach sheb’Netzach \nShare this:\n				Share on Facebook (Opens in new window)\n				Facebook\n			\n				Share on X (Opens in new window)\n				X\n			\n				Email a link to a friend (Opens in new window)\n				Email\n			\n				Print (Opens in new window)\n				Print\n			Like this:Like Loading...
URL:https://kolami-tx.org/wp/event/25th-day-of-the-omer-%e3%89%95-2/
LOCATION:Flower Mound
END:VEVENT
BEGIN:VEVENT
DTSTART;VALUE=DATE:20270518
DTEND;VALUE=DATE:20270519
DTSTAMP:20260424T081323
CREATED:20251229T162801Z
LAST-MODIFIED:20251229T162801Z
UID:10006335-1810598400-1810684799@kolami-tx.org
SUMMARY:26th day of the Omer ㉖
DESCRIPTION:Today is 26 days\, which is 3 weeks and 5 days of the Omer\nהַיּוֹם שִׁשָּׁה וְעֶשְׂרִים יוֹם\, שֶׁהֵם שְׁלוֹשָׁה שָׁבוּעוֹת וַחֲמִשָּׁה יָמִים לָעֽוֹמֶר\nSplendor within Eternity\nהוֹד שֶׁבְּנֶֽצַח\nHod sheb’Netzach \nShare this:\n				Share on Facebook (Opens in new window)\n				Facebook\n			\n				Share on X (Opens in new window)\n				X\n			\n				Email a link to a friend (Opens in new window)\n				Email\n			\n				Print (Opens in new window)\n				Print\n			Like this:Like Loading...
URL:https://kolami-tx.org/wp/event/26th-day-of-the-omer-%e3%89%96-2/
LOCATION:Flower Mound
END:VEVENT
END:VCALENDAR