BEGIN:VCALENDAR
VERSION:2.0
PRODID:-//Congregation Kol Ami - ECPv6.15.20//NONSGML v1.0//EN
CALSCALE:GREGORIAN
METHOD:PUBLISH
X-ORIGINAL-URL:https://kolami-tx.org/wp
X-WR-CALDESC:Events for Congregation Kol Ami
REFRESH-INTERVAL;VALUE=DURATION:PT1H
X-Robots-Tag:noindex
X-PUBLISHED-TTL:PT1H
BEGIN:VTIMEZONE
TZID:America/Chicago
BEGIN:DAYLIGHT
TZOFFSETFROM:-0600
TZOFFSETTO:-0500
TZNAME:CDT
DTSTART:20260308T080000
END:DAYLIGHT
BEGIN:STANDARD
TZOFFSETFROM:-0500
TZOFFSETTO:-0600
TZNAME:CST
DTSTART:20261101T070000
END:STANDARD
BEGIN:DAYLIGHT
TZOFFSETFROM:-0600
TZOFFSETTO:-0500
TZNAME:CDT
DTSTART:20270314T080000
END:DAYLIGHT
BEGIN:STANDARD
TZOFFSETFROM:-0500
TZOFFSETTO:-0600
TZNAME:CST
DTSTART:20271107T070000
END:STANDARD
BEGIN:DAYLIGHT
TZOFFSETFROM:-0600
TZOFFSETTO:-0500
TZNAME:CDT
DTSTART:20280312T080000
END:DAYLIGHT
BEGIN:STANDARD
TZOFFSETFROM:-0500
TZOFFSETTO:-0600
TZNAME:CST
DTSTART:20281105T070000
END:STANDARD
END:VTIMEZONE
BEGIN:VEVENT
DTSTART;TZID=America/Chicago:20270319T192100
DTEND;TZID=America/Chicago:20270319T192100
DTSTAMP:20260421T093026
CREATED:20251229T162331Z
LAST-MODIFIED:20251229T162331Z
UID:10006208-1805484060-1805484060@kolami-tx.org
SUMMARY:🕯️ Candle lighting
DESCRIPTION:Parashat Vayikra \nShare this:\n				Share on Facebook (Opens in new window)\n				Facebook\n			\n				Share on X (Opens in new window)\n				X\n			\n				Email a link to a friend (Opens in new window)\n				Email\n			\n				Print (Opens in new window)\n				Print\n			Like this:Like Loading...
URL:https://kolami-tx.org/wp/event/%f0%9f%95%af%ef%b8%8f-candle-lighting-195/
LOCATION:Flower Mound
CATEGORIES:Holiday
END:VEVENT
BEGIN:VEVENT
DTSTART;TZID=America/Chicago:20270319T193000
DTEND;TZID=America/Chicago:20270319T203000
DTSTAMP:20260421T093026
CREATED:20251119T161705Z
LAST-MODIFIED:20251119T161705Z
UID:10006104-1805484600-1805488200@kolami-tx.org
SUMMARY:Shabbat Service
DESCRIPTION:Share this:\n				Share on Facebook (Opens in new window)\n				Facebook\n			\n				Share on X (Opens in new window)\n				X\n			\n				Email a link to a friend (Opens in new window)\n				Email\n			\n				Print (Opens in new window)\n				Print\n			Like this:Like Loading...
URL:https://kolami-tx.org/wp/event/shabbat-service-319/
LOCATION:Congregation Kol Ami
END:VEVENT
BEGIN:VEVENT
DTSTART;VALUE=DATE:20270320
DTEND;VALUE=DATE:20270321
DTSTAMP:20260421T093026
CREATED:20251229T162331Z
LAST-MODIFIED:20251229T162331Z
UID:10006209-1805500800-1805587199@kolami-tx.org
SUMMARY:11th of Adar II
DESCRIPTION:Share this:\n				Share on Facebook (Opens in new window)\n				Facebook\n			\n				Share on X (Opens in new window)\n				X\n			\n				Email a link to a friend (Opens in new window)\n				Email\n			\n				Print (Opens in new window)\n				Print\n			Like this:Like Loading...
URL:https://kolami-tx.org/wp/event/11th-of-adar-ii/
END:VEVENT
BEGIN:VEVENT
DTSTART;VALUE=DATE:20270320
DTEND;VALUE=DATE:20270321
DTSTAMP:20260421T093026
CREATED:20251229T162331Z
LAST-MODIFIED:20251229T162331Z
UID:10006210-1805500800-1805587199@kolami-tx.org
SUMMARY:🕍 Shabbat Zachor
DESCRIPTION:Shabbat of Remembrance. Shabbat before Purim\nHaftarah: I Samuel 15:2-34\nHaftarah for Sephardim: I Samuel 15:1-34\nhttps://hebcal.com/h/shabbat-zachor-2027?uc=ical-flower-mound-2027 \nShare this:\n				Share on Facebook (Opens in new window)\n				Facebook\n			\n				Share on X (Opens in new window)\n				X\n			\n				Email a link to a friend (Opens in new window)\n				Email\n			\n				Print (Opens in new window)\n				Print\n			Like this:Like Loading...
URL:https://kolami-tx.org/wp/event/%f0%9f%95%8d-shabbat-zachor-4/
CATEGORIES:Holiday
END:VEVENT
BEGIN:VEVENT
DTSTART;VALUE=DATE:20270320
DTEND;VALUE=DATE:20270321
DTSTAMP:20260421T093026
CREATED:20251229T162349Z
LAST-MODIFIED:20251229T162349Z
UID:10006211-1805500800-1805587199@kolami-tx.org
SUMMARY:Parashat Vayikra
DESCRIPTION:In Vayikra (“He Called”)\, the first Torah portion in the Book of Leviticus\, God tells Moses about the sacrifices offered in the Mishkan (Tabernacle). Among these are sacrifices entirely burnt on the altar\, meal offerings made of flour and oil\, peace offerings\, and sacrifices brought for sinning inadvertently.\nTorah: Leviticus 1:1-5:26; Deuteronomy 25:17-19\nHaftarah: I Samuel 15:2-34 | Shabbat Zachor\nHaftarah for Sephardim: I Samuel 15:1-34\nhttps://hebcal.com/s/5787/24?uc=ical-flower-mound-2027 \nShare this:\n				Share on Facebook (Opens in new window)\n				Facebook\n			\n				Share on X (Opens in new window)\n				X\n			\n				Email a link to a friend (Opens in new window)\n				Email\n			\n				Print (Opens in new window)\n				Print\n			Like this:Like Loading...
URL:https://kolami-tx.org/wp/event/parashat-vayikra-4/
CATEGORIES:Parsha
END:VEVENT
BEGIN:VEVENT
DTSTART;TZID=America/Chicago:20270320T100000
DTEND;TZID=America/Chicago:20270320T110000
DTSTAMP:20260421T093026
CREATED:20250320T173011Z
LAST-MODIFIED:20250320T173011Z
UID:10005707-1805536800-1805540400@kolami-tx.org
SUMMARY:Torah 'n' Tefilah
DESCRIPTION:Share this:\n				Share on Facebook (Opens in new window)\n				Facebook\n			\n				Share on X (Opens in new window)\n				X\n			\n				Email a link to a friend (Opens in new window)\n				Email\n			\n				Print (Opens in new window)\n				Print\n			Like this:Like Loading...
URL:https://kolami-tx.org/wp/event/torah-n-tefilah-212/
LOCATION:Congregation Kol Ami
END:VEVENT
BEGIN:VEVENT
DTSTART;TZID=America/Chicago:20270320T201600
DTEND;TZID=America/Chicago:20270320T201600
DTSTAMP:20260421T093026
CREATED:20251229T162349Z
LAST-MODIFIED:20251229T162349Z
UID:10006212-1805573760-1805573760@kolami-tx.org
SUMMARY:✨ Havdalah
DESCRIPTION:Share this:\n				Share on Facebook (Opens in new window)\n				Facebook\n			\n				Share on X (Opens in new window)\n				X\n			\n				Email a link to a friend (Opens in new window)\n				Email\n			\n				Print (Opens in new window)\n				Print\n			Like this:Like Loading...
URL:https://kolami-tx.org/wp/event/%e2%9c%a8-havdalah-171/
LOCATION:Flower Mound
CATEGORIES:Holiday
END:VEVENT
BEGIN:VEVENT
DTSTART;VALUE=DATE:20270322
DTEND;VALUE=DATE:20270323
DTSTAMP:20260421T093026
CREATED:20251229T162349Z
LAST-MODIFIED:20251229T162349Z
UID:10006218-1805673600-1805759999@kolami-tx.org
SUMMARY:🎭️📜 Erev Purim
DESCRIPTION:Celebration of Jewish deliverance as told by Megilat Esther. It commemorates a time when the Jewish people living in Persia were saved from extermination\nTorah: Esther 1:1-10:3\nhttps://hebcal.com/h/purim-2027?uc=ical-flower-mound-2027 \nShare this:\n				Share on Facebook (Opens in new window)\n				Facebook\n			\n				Share on X (Opens in new window)\n				X\n			\n				Email a link to a friend (Opens in new window)\n				Email\n			\n				Print (Opens in new window)\n				Print\n			Like this:Like Loading...
URL:https://kolami-tx.org/wp/event/%f0%9f%8e%ad%ef%b8%8f%f0%9f%93%9c-erev-purim-4/
CATEGORIES:Holiday
END:VEVENT
BEGIN:VEVENT
DTSTART;VALUE=DATE:20270322
DTEND;VALUE=DATE:20270323
DTSTAMP:20260421T093026
CREATED:20251229T162349Z
LAST-MODIFIED:20251229T162349Z
UID:10006219-1805673600-1805759999@kolami-tx.org
SUMMARY:✡️ Ta’anit Esther
DESCRIPTION:Fast of Esther\nTorah: Exodus 32:11-14\, 34:1-10\nhttps://hebcal.com/h/taanit-esther-2027?uc=ical-flower-mound-2027 \nShare this:\n				Share on Facebook (Opens in new window)\n				Facebook\n			\n				Share on X (Opens in new window)\n				X\n			\n				Email a link to a friend (Opens in new window)\n				Email\n			\n				Print (Opens in new window)\n				Print\n			Like this:Like Loading...
URL:https://kolami-tx.org/wp/event/%e2%9c%a1%ef%b8%8f-taanit-esther-2/
CATEGORIES:Holiday
END:VEVENT
BEGIN:VEVENT
DTSTART;VALUE=DATE:20270322
DTEND;VALUE=DATE:20270323
DTSTAMP:20260421T093026
CREATED:20251229T162349Z
LAST-MODIFIED:20251229T162349Z
UID:10006220-1805673600-1805759999@kolami-tx.org
SUMMARY:13th of Adar II
DESCRIPTION:Share this:\n				Share on Facebook (Opens in new window)\n				Facebook\n			\n				Share on X (Opens in new window)\n				X\n			\n				Email a link to a friend (Opens in new window)\n				Email\n			\n				Print (Opens in new window)\n				Print\n			Like this:Like Loading...
URL:https://kolami-tx.org/wp/event/13th-of-adar-ii/
END:VEVENT
BEGIN:VEVENT
DTSTART;TZID=America/Chicago:20270322T061600
DTEND;TZID=America/Chicago:20270322T061600
DTSTAMP:20260421T093026
CREATED:20251229T162349Z
LAST-MODIFIED:20251229T162349Z
UID:10006213-1805696160-1805696160@kolami-tx.org
SUMMARY:Fast begins
DESCRIPTION:Ta’anit Esther \nShare this:\n				Share on Facebook (Opens in new window)\n				Facebook\n			\n				Share on X (Opens in new window)\n				X\n			\n				Email a link to a friend (Opens in new window)\n				Email\n			\n				Print (Opens in new window)\n				Print\n			Like this:Like Loading...
URL:https://kolami-tx.org/wp/event/fast-begins-12/
LOCATION:Flower Mound
END:VEVENT
BEGIN:VEVENT
DTSTART;TZID=America/Chicago:20270322T201100
DTEND;TZID=America/Chicago:20270322T201100
DTSTAMP:20260421T093027
CREATED:20251229T162406Z
LAST-MODIFIED:20251229T162406Z
UID:10006221-1805746260-1805746260@kolami-tx.org
SUMMARY:Fast ends
DESCRIPTION:Ta’anit Esther \nShare this:\n				Share on Facebook (Opens in new window)\n				Facebook\n			\n				Share on X (Opens in new window)\n				X\n			\n				Email a link to a friend (Opens in new window)\n				Email\n			\n				Print (Opens in new window)\n				Print\n			Like this:Like Loading...
URL:https://kolami-tx.org/wp/event/fast-ends-10/
LOCATION:Flower Mound
END:VEVENT
BEGIN:VEVENT
DTSTART;VALUE=DATE:20270323
DTEND;VALUE=DATE:20270324
DTSTAMP:20260421T093027
CREATED:20251229T162349Z
LAST-MODIFIED:20251229T162349Z
UID:10006214-1805760000-1805846399@kolami-tx.org
SUMMARY:14th of Adar II
DESCRIPTION:Share this:\n				Share on Facebook (Opens in new window)\n				Facebook\n			\n				Share on X (Opens in new window)\n				X\n			\n				Email a link to a friend (Opens in new window)\n				Email\n			\n				Print (Opens in new window)\n				Print\n			Like this:Like Loading...
URL:https://kolami-tx.org/wp/event/14th-of-adar-ii/
END:VEVENT
BEGIN:VEVENT
DTSTART;VALUE=DATE:20270323
DTEND;VALUE=DATE:20270324
DTSTAMP:20260421T093027
CREATED:20251229T162349Z
LAST-MODIFIED:20251229T162349Z
UID:10006217-1805760000-1805846399@kolami-tx.org
SUMMARY:🎭️📜 Purim
DESCRIPTION:Celebration of Jewish deliverance as told by Megilat Esther. It commemorates a time when the Jewish people living in Persia were saved from extermination\nTorah: Exodus 17:8-16; Esther 1:1-10:3\nhttps://hebcal.com/h/purim-2027?uc=ical-flower-mound-2027 \nShare this:\n				Share on Facebook (Opens in new window)\n				Facebook\n			\n				Share on X (Opens in new window)\n				X\n			\n				Email a link to a friend (Opens in new window)\n				Email\n			\n				Print (Opens in new window)\n				Print\n			Like this:Like Loading...
URL:https://kolami-tx.org/wp/event/%f0%9f%8e%ad%ef%b8%8f%f0%9f%93%9c-purim-4/
CATEGORIES:Holiday
END:VEVENT
BEGIN:VEVENT
DTSTART;VALUE=DATE:20270324
DTEND;VALUE=DATE:20270325
DTSTAMP:20260421T093027
CREATED:20251229T162349Z
LAST-MODIFIED:20251229T162349Z
UID:10006215-1805846400-1805932799@kolami-tx.org
SUMMARY:🎭️📜 Shushan Purim
DESCRIPTION:Purim celebrated in Jerusalem and walled cities\nhttps://hebcal.com/h/shushan-purim-2027?uc=ical-flower-mound-2027 \nShare this:\n				Share on Facebook (Opens in new window)\n				Facebook\n			\n				Share on X (Opens in new window)\n				X\n			\n				Email a link to a friend (Opens in new window)\n				Email\n			\n				Print (Opens in new window)\n				Print\n			Like this:Like Loading...
URL:https://kolami-tx.org/wp/event/%f0%9f%8e%ad%ef%b8%8f%f0%9f%93%9c-shushan-purim-4/
CATEGORIES:Holiday
END:VEVENT
BEGIN:VEVENT
DTSTART;VALUE=DATE:20270324
DTEND;VALUE=DATE:20270325
DTSTAMP:20260421T093027
CREATED:20251229T162349Z
LAST-MODIFIED:20251229T162349Z
UID:10006216-1805846400-1805932799@kolami-tx.org
SUMMARY:15th of Adar II
DESCRIPTION:Share this:\n				Share on Facebook (Opens in new window)\n				Facebook\n			\n				Share on X (Opens in new window)\n				X\n			\n				Email a link to a friend (Opens in new window)\n				Email\n			\n				Print (Opens in new window)\n				Print\n			Like this:Like Loading...
URL:https://kolami-tx.org/wp/event/15th-of-adar-ii/
END:VEVENT
BEGIN:VEVENT
DTSTART;VALUE=DATE:20270326
DTEND;VALUE=DATE:20270327
DTSTAMP:20260421T093027
CREATED:20251229T162406Z
LAST-MODIFIED:20251229T162406Z
UID:10006222-1806019200-1806105599@kolami-tx.org
SUMMARY:17th of Adar II
DESCRIPTION:Share this:\n				Share on Facebook (Opens in new window)\n				Facebook\n			\n				Share on X (Opens in new window)\n				X\n			\n				Email a link to a friend (Opens in new window)\n				Email\n			\n				Print (Opens in new window)\n				Print\n			Like this:Like Loading...
URL:https://kolami-tx.org/wp/event/17th-of-adar-ii/
END:VEVENT
BEGIN:VEVENT
DTSTART;TZID=America/Chicago:20270326T192600
DTEND;TZID=America/Chicago:20270326T192600
DTSTAMP:20260421T093027
CREATED:20251229T162406Z
LAST-MODIFIED:20251229T162406Z
UID:10006223-1806089160-1806089160@kolami-tx.org
SUMMARY:🕯️ Candle lighting
DESCRIPTION:Parashat Tzav \nShare this:\n				Share on Facebook (Opens in new window)\n				Facebook\n			\n				Share on X (Opens in new window)\n				X\n			\n				Email a link to a friend (Opens in new window)\n				Email\n			\n				Print (Opens in new window)\n				Print\n			Like this:Like Loading...
URL:https://kolami-tx.org/wp/event/%f0%9f%95%af%ef%b8%8f-candle-lighting-196/
LOCATION:Flower Mound
CATEGORIES:Holiday
END:VEVENT
BEGIN:VEVENT
DTSTART;TZID=America/Chicago:20270326T193000
DTEND;TZID=America/Chicago:20270326T203000
DTSTAMP:20260421T093027
CREATED:20251119T161705Z
LAST-MODIFIED:20251119T161705Z
UID:10006105-1806089400-1806093000@kolami-tx.org
SUMMARY:Shabbat Service
DESCRIPTION:Share this:\n				Share on Facebook (Opens in new window)\n				Facebook\n			\n				Share on X (Opens in new window)\n				X\n			\n				Email a link to a friend (Opens in new window)\n				Email\n			\n				Print (Opens in new window)\n				Print\n			Like this:Like Loading...
URL:https://kolami-tx.org/wp/event/shabbat-service-320/
LOCATION:Congregation Kol Ami
END:VEVENT
BEGIN:VEVENT
DTSTART;VALUE=DATE:20270327
DTEND;VALUE=DATE:20270328
DTSTAMP:20260421T093027
CREATED:20251229T162406Z
LAST-MODIFIED:20251229T162406Z
UID:10006224-1806105600-1806191999@kolami-tx.org
SUMMARY:18th of Adar II
DESCRIPTION:Share this:\n				Share on Facebook (Opens in new window)\n				Facebook\n			\n				Share on X (Opens in new window)\n				X\n			\n				Email a link to a friend (Opens in new window)\n				Email\n			\n				Print (Opens in new window)\n				Print\n			Like this:Like Loading...
URL:https://kolami-tx.org/wp/event/18th-of-adar-ii/
END:VEVENT
BEGIN:VEVENT
DTSTART;VALUE=DATE:20270327
DTEND;VALUE=DATE:20270328
DTSTAMP:20260421T093027
CREATED:20251229T162406Z
LAST-MODIFIED:20251229T162406Z
UID:10006225-1806105600-1806191999@kolami-tx.org
SUMMARY:🕍 Shabbat Parah
DESCRIPTION:Shabbat of the Red Heifer. Shabbat before Shabbat HaChodesh\, in preparation for Passover\nHaftarah: Ezekiel 36:16-38\nHaftarah for Sephardim: Ezekiel 36:16-36\nhttps://hebcal.com/h/shabbat-parah-2027?uc=ical-flower-mound-2027 \nShare this:\n				Share on Facebook (Opens in new window)\n				Facebook\n			\n				Share on X (Opens in new window)\n				X\n			\n				Email a link to a friend (Opens in new window)\n				Email\n			\n				Print (Opens in new window)\n				Print\n			Like this:Like Loading...
URL:https://kolami-tx.org/wp/event/%f0%9f%95%8d-shabbat-parah-4/
CATEGORIES:Holiday
END:VEVENT
BEGIN:VEVENT
DTSTART;VALUE=DATE:20270327
DTEND;VALUE=DATE:20270328
DTSTAMP:20260421T093027
CREATED:20251229T162406Z
LAST-MODIFIED:20251229T162406Z
UID:10006226-1806105600-1806191999@kolami-tx.org
SUMMARY:Parashat Tzav
DESCRIPTION:In Tzav (“Command”)\, God tells Moses about the sacrifices offered in the Mishkan (Tabernacle)\, including a meal offering brought by the high priest\, guilt offerings\, and offerings of thanks. Moses initiates Aaron and Aaron’s sons for priestly service in the Mishkan.\nTorah: Leviticus 6:1-8:36; Numbers 19:1-22\nHaftarah: Ezekiel 36:16-38 | Shabbat Parah\nHaftarah for Sephardim: Ezekiel 36:16-36\nhttps://hebcal.com/s/5787/25?uc=ical-flower-mound-2027 \nShare this:\n				Share on Facebook (Opens in new window)\n				Facebook\n			\n				Share on X (Opens in new window)\n				X\n			\n				Email a link to a friend (Opens in new window)\n				Email\n			\n				Print (Opens in new window)\n				Print\n			Like this:Like Loading...
URL:https://kolami-tx.org/wp/event/parashat-tzav-4/
CATEGORIES:Parsha
END:VEVENT
BEGIN:VEVENT
DTSTART;TZID=America/Chicago:20270327T100000
DTEND;TZID=America/Chicago:20270327T110000
DTSTAMP:20260421T093027
CREATED:20250416T154845Z
LAST-MODIFIED:20250416T154845Z
UID:10005716-1806141600-1806145200@kolami-tx.org
SUMMARY:Torah 'n' Tefilah
DESCRIPTION:Share this:\n				Share on Facebook (Opens in new window)\n				Facebook\n			\n				Share on X (Opens in new window)\n				X\n			\n				Email a link to a friend (Opens in new window)\n				Email\n			\n				Print (Opens in new window)\n				Print\n			Like this:Like Loading...
URL:https://kolami-tx.org/wp/event/torah-n-tefilah-213/
LOCATION:Congregation Kol Ami
END:VEVENT
BEGIN:VEVENT
DTSTART;TZID=America/Chicago:20270327T202200
DTEND;TZID=America/Chicago:20270327T202200
DTSTAMP:20260421T093027
CREATED:20251229T162406Z
LAST-MODIFIED:20251229T162406Z
UID:10006227-1806178920-1806178920@kolami-tx.org
SUMMARY:✨ Havdalah
DESCRIPTION:Share this:\n				Share on Facebook (Opens in new window)\n				Facebook\n			\n				Share on X (Opens in new window)\n				X\n			\n				Email a link to a friend (Opens in new window)\n				Email\n			\n				Print (Opens in new window)\n				Print\n			Like this:Like Loading...
URL:https://kolami-tx.org/wp/event/%e2%9c%a8-havdalah-172/
LOCATION:Flower Mound
CATEGORIES:Holiday
END:VEVENT
BEGIN:VEVENT
DTSTART;VALUE=DATE:20270402
DTEND;VALUE=DATE:20270403
DTSTAMP:20260421T093027
CREATED:20251229T162406Z
LAST-MODIFIED:20251229T162406Z
UID:10006228-1806624000-1806710399@kolami-tx.org
SUMMARY:24th of Adar II
DESCRIPTION:Share this:\n				Share on Facebook (Opens in new window)\n				Facebook\n			\n				Share on X (Opens in new window)\n				X\n			\n				Email a link to a friend (Opens in new window)\n				Email\n			\n				Print (Opens in new window)\n				Print\n			Like this:Like Loading...
URL:https://kolami-tx.org/wp/event/24th-of-adar-ii/
END:VEVENT
BEGIN:VEVENT
DTSTART;TZID=America/Chicago:20270402T193000
DTEND;TZID=America/Chicago:20270402T203000
DTSTAMP:20260421T093027
CREATED:20251119T161719Z
LAST-MODIFIED:20251119T161719Z
UID:10006106-1806694200-1806697800@kolami-tx.org
SUMMARY:Shabbat Service
DESCRIPTION:Share this:\n				Share on Facebook (Opens in new window)\n				Facebook\n			\n				Share on X (Opens in new window)\n				X\n			\n				Email a link to a friend (Opens in new window)\n				Email\n			\n				Print (Opens in new window)\n				Print\n			Like this:Like Loading...
URL:https://kolami-tx.org/wp/event/shabbat-service-321/
LOCATION:Congregation Kol Ami
END:VEVENT
BEGIN:VEVENT
DTSTART;TZID=America/Chicago:20270402T193100
DTEND;TZID=America/Chicago:20270402T193100
DTSTAMP:20260421T093027
CREATED:20251229T162406Z
LAST-MODIFIED:20251229T162406Z
UID:10006229-1806694260-1806694260@kolami-tx.org
SUMMARY:🕯️ Candle lighting
DESCRIPTION:Parashat Shmini \nShare this:\n				Share on Facebook (Opens in new window)\n				Facebook\n			\n				Share on X (Opens in new window)\n				X\n			\n				Email a link to a friend (Opens in new window)\n				Email\n			\n				Print (Opens in new window)\n				Print\n			Like this:Like Loading...
URL:https://kolami-tx.org/wp/event/%f0%9f%95%af%ef%b8%8f-candle-lighting-197/
LOCATION:Flower Mound
CATEGORIES:Holiday
END:VEVENT
BEGIN:VEVENT
DTSTART;VALUE=DATE:20270403
DTEND;VALUE=DATE:20270404
DTSTAMP:20260421T093027
CREATED:20251229T162406Z
LAST-MODIFIED:20251229T162406Z
UID:10006230-1806710400-1806796799@kolami-tx.org
SUMMARY:25th of Adar II
DESCRIPTION:Share this:\n				Share on Facebook (Opens in new window)\n				Facebook\n			\n				Share on X (Opens in new window)\n				X\n			\n				Email a link to a friend (Opens in new window)\n				Email\n			\n				Print (Opens in new window)\n				Print\n			Like this:Like Loading...
URL:https://kolami-tx.org/wp/event/25th-of-adar-ii/
END:VEVENT
BEGIN:VEVENT
DTSTART;VALUE=DATE:20270403
DTEND;VALUE=DATE:20270404
DTSTAMP:20260421T093027
CREATED:20251229T162426Z
LAST-MODIFIED:20251229T162426Z
UID:10006231-1806710400-1806796799@kolami-tx.org
SUMMARY:🕍 Shabbat HaChodesh
DESCRIPTION:Shabbat before Rosh Chodesh Nissan. Read in preparation for Passover\nHaftarah: Ezekiel 45:16-46:18\nHaftarah for Sephardim: Ezekiel 45:18-46:15\nhttps://hebcal.com/h/shabbat-hachodesh-2027?uc=ical-flower-mound-2027 \nShare this:\n				Share on Facebook (Opens in new window)\n				Facebook\n			\n				Share on X (Opens in new window)\n				X\n			\n				Email a link to a friend (Opens in new window)\n				Email\n			\n				Print (Opens in new window)\n				Print\n			Like this:Like Loading...
URL:https://kolami-tx.org/wp/event/%f0%9f%95%8d-shabbat-hachodesh-4/
CATEGORIES:Holiday
END:VEVENT
BEGIN:VEVENT
DTSTART;VALUE=DATE:20270403
DTEND;VALUE=DATE:20270404
DTSTAMP:20260421T093027
CREATED:20251229T162426Z
LAST-MODIFIED:20251229T162426Z
UID:10006232-1806710400-1806796799@kolami-tx.org
SUMMARY:Parashat Shmini
DESCRIPTION:Shemini (“Eighth”) opens with the consecration of the Mishkan (Tabernacle). Two of Aaron’s sons are consumed by a fire sent from God when they attempt to offer a “strange fire.” God describes the animals\, birds\, and fish that are permissible and prohibited for consumption\, as well as some laws of ritual purity.\nTorah: Leviticus 9:1-11:47; Exodus 12:1-20\nHaftarah: Ezekiel 45:16-46:18 | Shabbat HaChodesh\nHaftarah for Sephardim: Ezekiel 45:18-46:15\nhttps://hebcal.com/s/5787/26?uc=ical-flower-mound-2027 \nShare this:\n				Share on Facebook (Opens in new window)\n				Facebook\n			\n				Share on X (Opens in new window)\n				X\n			\n				Email a link to a friend (Opens in new window)\n				Email\n			\n				Print (Opens in new window)\n				Print\n			Like this:Like Loading...
URL:https://kolami-tx.org/wp/event/parashat-shmini-4/
CATEGORIES:Parsha
END:VEVENT
END:VCALENDAR