BEGIN:VCALENDAR
VERSION:2.0
PRODID:-//Congregation Kol Ami - ECPv6.15.20//NONSGML v1.0//EN
CALSCALE:GREGORIAN
METHOD:PUBLISH
X-WR-CALNAME:Congregation Kol Ami
X-ORIGINAL-URL:https://kolami-tx.org/wp
X-WR-CALDESC:Events for Congregation Kol Ami
REFRESH-INTERVAL;VALUE=DURATION:PT1H
X-Robots-Tag:noindex
X-PUBLISHED-TTL:PT1H
BEGIN:VTIMEZONE
TZID:America/Chicago
BEGIN:DAYLIGHT
TZOFFSETFROM:-0600
TZOFFSETTO:-0500
TZNAME:CDT
DTSTART:20260308T080000
END:DAYLIGHT
BEGIN:STANDARD
TZOFFSETFROM:-0500
TZOFFSETTO:-0600
TZNAME:CST
DTSTART:20261101T070000
END:STANDARD
BEGIN:DAYLIGHT
TZOFFSETFROM:-0600
TZOFFSETTO:-0500
TZNAME:CDT
DTSTART:20270314T080000
END:DAYLIGHT
BEGIN:STANDARD
TZOFFSETFROM:-0500
TZOFFSETTO:-0600
TZNAME:CST
DTSTART:20271107T070000
END:STANDARD
BEGIN:DAYLIGHT
TZOFFSETFROM:-0600
TZOFFSETTO:-0500
TZNAME:CDT
DTSTART:20280312T080000
END:DAYLIGHT
BEGIN:STANDARD
TZOFFSETFROM:-0500
TZOFFSETTO:-0600
TZNAME:CST
DTSTART:20281105T070000
END:STANDARD
END:VTIMEZONE
BEGIN:VEVENT
DTSTART;VALUE=DATE:20270327
DTEND;VALUE=DATE:20270328
DTSTAMP:20260421T123930
CREATED:20251229T162406Z
LAST-MODIFIED:20251229T162406Z
UID:10006225-1806105600-1806191999@kolami-tx.org
SUMMARY:🕍 Shabbat Parah
DESCRIPTION:Shabbat of the Red Heifer. Shabbat before Shabbat HaChodesh\, in preparation for Passover\nHaftarah: Ezekiel 36:16-38\nHaftarah for Sephardim: Ezekiel 36:16-36\nhttps://hebcal.com/h/shabbat-parah-2027?uc=ical-flower-mound-2027 \nShare this:\n				Share on Facebook (Opens in new window)\n				Facebook\n			\n				Share on X (Opens in new window)\n				X\n			\n				Email a link to a friend (Opens in new window)\n				Email\n			\n				Print (Opens in new window)\n				Print\n			Like this:Like Loading...
URL:https://kolami-tx.org/wp/event/%f0%9f%95%8d-shabbat-parah-4/
CATEGORIES:Holiday
END:VEVENT
BEGIN:VEVENT
DTSTART;VALUE=DATE:20270327
DTEND;VALUE=DATE:20270328
DTSTAMP:20260421T123930
CREATED:20251229T162406Z
LAST-MODIFIED:20251229T162406Z
UID:10006226-1806105600-1806191999@kolami-tx.org
SUMMARY:Parashat Tzav
DESCRIPTION:In Tzav (“Command”)\, God tells Moses about the sacrifices offered in the Mishkan (Tabernacle)\, including a meal offering brought by the high priest\, guilt offerings\, and offerings of thanks. Moses initiates Aaron and Aaron’s sons for priestly service in the Mishkan.\nTorah: Leviticus 6:1-8:36; Numbers 19:1-22\nHaftarah: Ezekiel 36:16-38 | Shabbat Parah\nHaftarah for Sephardim: Ezekiel 36:16-36\nhttps://hebcal.com/s/5787/25?uc=ical-flower-mound-2027 \nShare this:\n				Share on Facebook (Opens in new window)\n				Facebook\n			\n				Share on X (Opens in new window)\n				X\n			\n				Email a link to a friend (Opens in new window)\n				Email\n			\n				Print (Opens in new window)\n				Print\n			Like this:Like Loading...
URL:https://kolami-tx.org/wp/event/parashat-tzav-4/
CATEGORIES:Parsha
END:VEVENT
BEGIN:VEVENT
DTSTART;TZID=America/Chicago:20270327T100000
DTEND;TZID=America/Chicago:20270327T110000
DTSTAMP:20260421T123930
CREATED:20250416T154845Z
LAST-MODIFIED:20250416T154845Z
UID:10005716-1806141600-1806145200@kolami-tx.org
SUMMARY:Torah 'n' Tefilah
DESCRIPTION:Share this:\n				Share on Facebook (Opens in new window)\n				Facebook\n			\n				Share on X (Opens in new window)\n				X\n			\n				Email a link to a friend (Opens in new window)\n				Email\n			\n				Print (Opens in new window)\n				Print\n			Like this:Like Loading...
URL:https://kolami-tx.org/wp/event/torah-n-tefilah-213/
LOCATION:Congregation Kol Ami
END:VEVENT
BEGIN:VEVENT
DTSTART;TZID=America/Chicago:20270327T202200
DTEND;TZID=America/Chicago:20270327T202200
DTSTAMP:20260421T123930
CREATED:20251229T162406Z
LAST-MODIFIED:20251229T162406Z
UID:10006227-1806178920-1806178920@kolami-tx.org
SUMMARY:✨ Havdalah
DESCRIPTION:Share this:\n				Share on Facebook (Opens in new window)\n				Facebook\n			\n				Share on X (Opens in new window)\n				X\n			\n				Email a link to a friend (Opens in new window)\n				Email\n			\n				Print (Opens in new window)\n				Print\n			Like this:Like Loading...
URL:https://kolami-tx.org/wp/event/%e2%9c%a8-havdalah-172/
LOCATION:Flower Mound
CATEGORIES:Holiday
END:VEVENT
BEGIN:VEVENT
DTSTART;VALUE=DATE:20270402
DTEND;VALUE=DATE:20270403
DTSTAMP:20260421T123930
CREATED:20251229T162406Z
LAST-MODIFIED:20251229T162406Z
UID:10006228-1806624000-1806710399@kolami-tx.org
SUMMARY:24th of Adar II
DESCRIPTION:Share this:\n				Share on Facebook (Opens in new window)\n				Facebook\n			\n				Share on X (Opens in new window)\n				X\n			\n				Email a link to a friend (Opens in new window)\n				Email\n			\n				Print (Opens in new window)\n				Print\n			Like this:Like Loading...
URL:https://kolami-tx.org/wp/event/24th-of-adar-ii/
END:VEVENT
BEGIN:VEVENT
DTSTART;TZID=America/Chicago:20270402T193000
DTEND;TZID=America/Chicago:20270402T203000
DTSTAMP:20260421T123930
CREATED:20251119T161719Z
LAST-MODIFIED:20251119T161719Z
UID:10006106-1806694200-1806697800@kolami-tx.org
SUMMARY:Shabbat Service
DESCRIPTION:Share this:\n				Share on Facebook (Opens in new window)\n				Facebook\n			\n				Share on X (Opens in new window)\n				X\n			\n				Email a link to a friend (Opens in new window)\n				Email\n			\n				Print (Opens in new window)\n				Print\n			Like this:Like Loading...
URL:https://kolami-tx.org/wp/event/shabbat-service-321/
LOCATION:Congregation Kol Ami
END:VEVENT
BEGIN:VEVENT
DTSTART;TZID=America/Chicago:20270402T193100
DTEND;TZID=America/Chicago:20270402T193100
DTSTAMP:20260421T123930
CREATED:20251229T162406Z
LAST-MODIFIED:20251229T162406Z
UID:10006229-1806694260-1806694260@kolami-tx.org
SUMMARY:🕯️ Candle lighting
DESCRIPTION:Parashat Shmini \nShare this:\n				Share on Facebook (Opens in new window)\n				Facebook\n			\n				Share on X (Opens in new window)\n				X\n			\n				Email a link to a friend (Opens in new window)\n				Email\n			\n				Print (Opens in new window)\n				Print\n			Like this:Like Loading...
URL:https://kolami-tx.org/wp/event/%f0%9f%95%af%ef%b8%8f-candle-lighting-197/
LOCATION:Flower Mound
CATEGORIES:Holiday
END:VEVENT
BEGIN:VEVENT
DTSTART;VALUE=DATE:20270403
DTEND;VALUE=DATE:20270404
DTSTAMP:20260421T123930
CREATED:20251229T162406Z
LAST-MODIFIED:20251229T162406Z
UID:10006230-1806710400-1806796799@kolami-tx.org
SUMMARY:25th of Adar II
DESCRIPTION:Share this:\n				Share on Facebook (Opens in new window)\n				Facebook\n			\n				Share on X (Opens in new window)\n				X\n			\n				Email a link to a friend (Opens in new window)\n				Email\n			\n				Print (Opens in new window)\n				Print\n			Like this:Like Loading...
URL:https://kolami-tx.org/wp/event/25th-of-adar-ii/
END:VEVENT
BEGIN:VEVENT
DTSTART;VALUE=DATE:20270403
DTEND;VALUE=DATE:20270404
DTSTAMP:20260421T123930
CREATED:20251229T162426Z
LAST-MODIFIED:20251229T162426Z
UID:10006231-1806710400-1806796799@kolami-tx.org
SUMMARY:🕍 Shabbat HaChodesh
DESCRIPTION:Shabbat before Rosh Chodesh Nissan. Read in preparation for Passover\nHaftarah: Ezekiel 45:16-46:18\nHaftarah for Sephardim: Ezekiel 45:18-46:15\nhttps://hebcal.com/h/shabbat-hachodesh-2027?uc=ical-flower-mound-2027 \nShare this:\n				Share on Facebook (Opens in new window)\n				Facebook\n			\n				Share on X (Opens in new window)\n				X\n			\n				Email a link to a friend (Opens in new window)\n				Email\n			\n				Print (Opens in new window)\n				Print\n			Like this:Like Loading...
URL:https://kolami-tx.org/wp/event/%f0%9f%95%8d-shabbat-hachodesh-4/
CATEGORIES:Holiday
END:VEVENT
BEGIN:VEVENT
DTSTART;VALUE=DATE:20270403
DTEND;VALUE=DATE:20270404
DTSTAMP:20260421T123930
CREATED:20251229T162426Z
LAST-MODIFIED:20251229T162426Z
UID:10006232-1806710400-1806796799@kolami-tx.org
SUMMARY:Parashat Shmini
DESCRIPTION:Shemini (“Eighth”) opens with the consecration of the Mishkan (Tabernacle). Two of Aaron’s sons are consumed by a fire sent from God when they attempt to offer a “strange fire.” God describes the animals\, birds\, and fish that are permissible and prohibited for consumption\, as well as some laws of ritual purity.\nTorah: Leviticus 9:1-11:47; Exodus 12:1-20\nHaftarah: Ezekiel 45:16-46:18 | Shabbat HaChodesh\nHaftarah for Sephardim: Ezekiel 45:18-46:15\nhttps://hebcal.com/s/5787/26?uc=ical-flower-mound-2027 \nShare this:\n				Share on Facebook (Opens in new window)\n				Facebook\n			\n				Share on X (Opens in new window)\n				X\n			\n				Email a link to a friend (Opens in new window)\n				Email\n			\n				Print (Opens in new window)\n				Print\n			Like this:Like Loading...
URL:https://kolami-tx.org/wp/event/parashat-shmini-4/
CATEGORIES:Parsha
END:VEVENT
BEGIN:VEVENT
DTSTART;VALUE=DATE:20270403
DTEND;VALUE=DATE:20270404
DTSTAMP:20260421T123930
CREATED:20251229T162426Z
LAST-MODIFIED:20251229T162426Z
UID:10006233-1806710400-1806796799@kolami-tx.org
SUMMARY:Mevarchim Chodesh Nisan
DESCRIPTION:Molad Nisan: Tuesday\, 2:07pm and 8 chalakim \nShare this:\n				Share on Facebook (Opens in new window)\n				Facebook\n			\n				Share on X (Opens in new window)\n				X\n			\n				Email a link to a friend (Opens in new window)\n				Email\n			\n				Print (Opens in new window)\n				Print\n			Like this:Like Loading...
URL:https://kolami-tx.org/wp/event/mevarchim-chodesh-nisan-3/
END:VEVENT
BEGIN:VEVENT
DTSTART;TZID=America/Chicago:20270403T100000
DTEND;TZID=America/Chicago:20270403T110000
DTSTAMP:20260421T123930
CREATED:20250416T155203Z
LAST-MODIFIED:20250416T155203Z
UID:10005718-1806746400-1806750000@kolami-tx.org
SUMMARY:Torah 'n' Tefilah
DESCRIPTION:Share this:\n				Share on Facebook (Opens in new window)\n				Facebook\n			\n				Share on X (Opens in new window)\n				X\n			\n				Email a link to a friend (Opens in new window)\n				Email\n			\n				Print (Opens in new window)\n				Print\n			Like this:Like Loading...
URL:https://kolami-tx.org/wp/event/torah-n-tefilah-214/
LOCATION:Congregation Kol Ami
END:VEVENT
BEGIN:VEVENT
DTSTART;TZID=America/Chicago:20270403T202700
DTEND;TZID=America/Chicago:20270403T202700
DTSTAMP:20260421T123930
CREATED:20251229T162426Z
LAST-MODIFIED:20251229T162426Z
UID:10006234-1806784020-1806784020@kolami-tx.org
SUMMARY:✨ Havdalah
DESCRIPTION:Share this:\n				Share on Facebook (Opens in new window)\n				Facebook\n			\n				Share on X (Opens in new window)\n				X\n			\n				Email a link to a friend (Opens in new window)\n				Email\n			\n				Print (Opens in new window)\n				Print\n			Like this:Like Loading...
URL:https://kolami-tx.org/wp/event/%e2%9c%a8-havdalah-173/
LOCATION:Flower Mound
CATEGORIES:Holiday
END:VEVENT
BEGIN:VEVENT
DTSTART;VALUE=DATE:20270407
DTEND;VALUE=DATE:20270408
DTSTAMP:20260421T123930
CREATED:20251229T162426Z
LAST-MODIFIED:20251229T162426Z
UID:10006238-1807056000-1807142399@kolami-tx.org
SUMMARY:✡️ Yom Kippur Katan
DESCRIPTION:Minor Day of Atonement on the day preceeding Rosh Chodesh Nisan \nShare this:\n				Share on Facebook (Opens in new window)\n				Facebook\n			\n				Share on X (Opens in new window)\n				X\n			\n				Email a link to a friend (Opens in new window)\n				Email\n			\n				Print (Opens in new window)\n				Print\n			Like this:Like Loading...
URL:https://kolami-tx.org/wp/event/%e2%9c%a1%ef%b8%8f-yom-kippur-katan-4/
CATEGORIES:Holiday
END:VEVENT
BEGIN:VEVENT
DTSTART;VALUE=DATE:20270407
DTEND;VALUE=DATE:20270408
DTSTAMP:20260421T123930
CREATED:20251229T162426Z
LAST-MODIFIED:20251229T162426Z
UID:10006237-1807056000-1807142399@kolami-tx.org
SUMMARY:29th of Adar II
DESCRIPTION:Share this:\n				Share on Facebook (Opens in new window)\n				Facebook\n			\n				Share on X (Opens in new window)\n				X\n			\n				Email a link to a friend (Opens in new window)\n				Email\n			\n				Print (Opens in new window)\n				Print\n			Like this:Like Loading...
URL:https://kolami-tx.org/wp/event/29th-of-adar-ii/
END:VEVENT
BEGIN:VEVENT
DTSTART;TZID=America/Chicago:20270407T055300
DTEND;TZID=America/Chicago:20270407T055300
DTSTAMP:20260421T123930
CREATED:20251229T162426Z
LAST-MODIFIED:20251229T162426Z
UID:10006239-1807077180-1807077180@kolami-tx.org
SUMMARY:Fast begins
DESCRIPTION:Yom Kippur Katan Nisan \nShare this:\n				Share on Facebook (Opens in new window)\n				Facebook\n			\n				Share on X (Opens in new window)\n				X\n			\n				Email a link to a friend (Opens in new window)\n				Email\n			\n				Print (Opens in new window)\n				Print\n			Like this:Like Loading...
URL:https://kolami-tx.org/wp/event/fast-begins-13/
LOCATION:Flower Mound
END:VEVENT
BEGIN:VEVENT
DTSTART;TZID=America/Chicago:20270407T202300
DTEND;TZID=America/Chicago:20270407T202300
DTSTAMP:20260421T123930
CREATED:20251229T162426Z
LAST-MODIFIED:20251229T162426Z
UID:10006240-1807129380-1807129380@kolami-tx.org
SUMMARY:Fast ends
DESCRIPTION:Yom Kippur Katan Nisan \nShare this:\n				Share on Facebook (Opens in new window)\n				Facebook\n			\n				Share on X (Opens in new window)\n				X\n			\n				Email a link to a friend (Opens in new window)\n				Email\n			\n				Print (Opens in new window)\n				Print\n			Like this:Like Loading...
URL:https://kolami-tx.org/wp/event/fast-ends-11/
LOCATION:Flower Mound
END:VEVENT
BEGIN:VEVENT
DTSTART;VALUE=DATE:20270408
DTEND;VALUE=DATE:20270409
DTSTAMP:20260421T123930
CREATED:20251229T162426Z
LAST-MODIFIED:20251229T162426Z
UID:10006235-1807142400-1807228799@kolami-tx.org
SUMMARY:1st of Nisan\, 5787
DESCRIPTION:Share this:\n				Share on Facebook (Opens in new window)\n				Facebook\n			\n				Share on X (Opens in new window)\n				X\n			\n				Email a link to a friend (Opens in new window)\n				Email\n			\n				Print (Opens in new window)\n				Print\n			Like this:Like Loading...
URL:https://kolami-tx.org/wp/event/1st-of-nisan-5787/
END:VEVENT
BEGIN:VEVENT
DTSTART;VALUE=DATE:20270408
DTEND;VALUE=DATE:20270409
DTSTAMP:20260421T123930
CREATED:20251229T162426Z
LAST-MODIFIED:20251229T162426Z
UID:10006236-1807142400-1807228799@kolami-tx.org
SUMMARY:🌒 Rosh Chodesh Nisan
DESCRIPTION:Start of month of Nisan on the Hebrew calendar. נִיסָן (transliterated Nisan or Nissan) is the 7th month of the civil Hebrew year (8th on leap years) and the 1st month of the biblical Hebrew year. It has 30 days and corresponds to March or April on the Gregorian calendar. רֹאשׁ חוֹדֶשׁ\, transliterated Rosh Chodesh or Rosh Hodesh\, is a minor holiday that occurs at the beginning of every month in the Hebrew calendar. It is marked by the birth of a new moon\nTorah: Numbers 28:1-15\nhttps://hebcal.com/h/rosh-chodesh-nisan-2027?uc=ical-flower-mound-2027 \nShare this:\n				Share on Facebook (Opens in new window)\n				Facebook\n			\n				Share on X (Opens in new window)\n				X\n			\n				Email a link to a friend (Opens in new window)\n				Email\n			\n				Print (Opens in new window)\n				Print\n			Like this:Like Loading...
URL:https://kolami-tx.org/wp/event/%f0%9f%8c%92-rosh-chodesh-nisan-4/
CATEGORIES:Holiday
END:VEVENT
BEGIN:VEVENT
DTSTART;VALUE=DATE:20270409
DTEND;VALUE=DATE:20270410
DTSTAMP:20260421T123930
CREATED:20251229T162443Z
LAST-MODIFIED:20251229T162443Z
UID:10006241-1807228800-1807315199@kolami-tx.org
SUMMARY:2nd of Nisan
DESCRIPTION:Share this:\n				Share on Facebook (Opens in new window)\n				Facebook\n			\n				Share on X (Opens in new window)\n				X\n			\n				Email a link to a friend (Opens in new window)\n				Email\n			\n				Print (Opens in new window)\n				Print\n			Like this:Like Loading...
URL:https://kolami-tx.org/wp/event/2nd-of-nisan-4/
END:VEVENT
BEGIN:VEVENT
DTSTART;TZID=America/Chicago:20270409T193000
DTEND;TZID=America/Chicago:20270409T203000
DTSTAMP:20260421T123930
CREATED:20251119T161719Z
LAST-MODIFIED:20251119T161719Z
UID:10006107-1807299000-1807302600@kolami-tx.org
SUMMARY:Shabbat Service
DESCRIPTION:Share this:\n				Share on Facebook (Opens in new window)\n				Facebook\n			\n				Share on X (Opens in new window)\n				X\n			\n				Email a link to a friend (Opens in new window)\n				Email\n			\n				Print (Opens in new window)\n				Print\n			Like this:Like Loading...
URL:https://kolami-tx.org/wp/event/shabbat-service-322/
LOCATION:Congregation Kol Ami
END:VEVENT
BEGIN:VEVENT
DTSTART;TZID=America/Chicago:20270409T193600
DTEND;TZID=America/Chicago:20270409T193600
DTSTAMP:20260421T123930
CREATED:20251229T162443Z
LAST-MODIFIED:20251229T162443Z
UID:10006242-1807299360-1807299360@kolami-tx.org
SUMMARY:🕯️ Candle lighting
DESCRIPTION:Parashat Tazria \nShare this:\n				Share on Facebook (Opens in new window)\n				Facebook\n			\n				Share on X (Opens in new window)\n				X\n			\n				Email a link to a friend (Opens in new window)\n				Email\n			\n				Print (Opens in new window)\n				Print\n			Like this:Like Loading...
URL:https://kolami-tx.org/wp/event/%f0%9f%95%af%ef%b8%8f-candle-lighting-198/
LOCATION:Flower Mound
CATEGORIES:Holiday
END:VEVENT
BEGIN:VEVENT
DTSTART;VALUE=DATE:20270410
DTEND;VALUE=DATE:20270411
DTSTAMP:20260421T123930
CREATED:20251229T162443Z
LAST-MODIFIED:20251229T162443Z
UID:10006243-1807315200-1807401599@kolami-tx.org
SUMMARY:3rd of Nisan
DESCRIPTION:Share this:\n				Share on Facebook (Opens in new window)\n				Facebook\n			\n				Share on X (Opens in new window)\n				X\n			\n				Email a link to a friend (Opens in new window)\n				Email\n			\n				Print (Opens in new window)\n				Print\n			Like this:Like Loading...
URL:https://kolami-tx.org/wp/event/3rd-of-nisan-4/
END:VEVENT
BEGIN:VEVENT
DTSTART;VALUE=DATE:20270410
DTEND;VALUE=DATE:20270411
DTSTAMP:20260421T123930
CREATED:20251229T162443Z
LAST-MODIFIED:20251229T162443Z
UID:10006244-1807315200-1807401599@kolami-tx.org
SUMMARY:Parashat Tazria
DESCRIPTION:Tazria (“She Bears Seed”) opens by describing the purification process for a woman after childbirth. It then describes different forms of tzaraat\, a discoloration condition on skin or clothing\, and the requirement of an infected person to dwell alone outside the camp and be inspected by a priest.\nTorah: Leviticus 12:1-13:59\nHaftarah: II Kings 4:42-5:19\nhttps://hebcal.com/s/5787/27?uc=ical-flower-mound-2027 \nShare this:\n				Share on Facebook (Opens in new window)\n				Facebook\n			\n				Share on X (Opens in new window)\n				X\n			\n				Email a link to a friend (Opens in new window)\n				Email\n			\n				Print (Opens in new window)\n				Print\n			Like this:Like Loading...
URL:https://kolami-tx.org/wp/event/parashat-tazria/
CATEGORIES:Parsha
END:VEVENT
BEGIN:VEVENT
DTSTART;TZID=America/Chicago:20270410T100000
DTEND;TZID=America/Chicago:20270410T110000
DTSTAMP:20260421T123930
CREATED:20250416T155203Z
LAST-MODIFIED:20250416T155203Z
UID:10005720-1807351200-1807354800@kolami-tx.org
SUMMARY:Torah 'n' Tefilah
DESCRIPTION:Share this:\n				Share on Facebook (Opens in new window)\n				Facebook\n			\n				Share on X (Opens in new window)\n				X\n			\n				Email a link to a friend (Opens in new window)\n				Email\n			\n				Print (Opens in new window)\n				Print\n			Like this:Like Loading...
URL:https://kolami-tx.org/wp/event/torah-n-tefilah-215/
LOCATION:Congregation Kol Ami
END:VEVENT
BEGIN:VEVENT
DTSTART;TZID=America/Chicago:20270410T203200
DTEND;TZID=America/Chicago:20270410T203200
DTSTAMP:20260421T123930
CREATED:20251229T162443Z
LAST-MODIFIED:20251229T162443Z
UID:10006245-1807389120-1807389120@kolami-tx.org
SUMMARY:✨ Havdalah
DESCRIPTION:Share this:\n				Share on Facebook (Opens in new window)\n				Facebook\n			\n				Share on X (Opens in new window)\n				X\n			\n				Email a link to a friend (Opens in new window)\n				Email\n			\n				Print (Opens in new window)\n				Print\n			Like this:Like Loading...
URL:https://kolami-tx.org/wp/event/%e2%9c%a8-havdalah-174/
LOCATION:Flower Mound
CATEGORIES:Holiday
END:VEVENT
BEGIN:VEVENT
DTSTART;VALUE=DATE:20270416
DTEND;VALUE=DATE:20270417
DTSTAMP:20260421T123930
CREATED:20251229T162443Z
LAST-MODIFIED:20251229T162443Z
UID:10006246-1807833600-1807919999@kolami-tx.org
SUMMARY:9th of Nisan
DESCRIPTION:Share this:\n				Share on Facebook (Opens in new window)\n				Facebook\n			\n				Share on X (Opens in new window)\n				X\n			\n				Email a link to a friend (Opens in new window)\n				Email\n			\n				Print (Opens in new window)\n				Print\n			Like this:Like Loading...
URL:https://kolami-tx.org/wp/event/9th-of-nisan-4/
END:VEVENT
BEGIN:VEVENT
DTSTART;TZID=America/Chicago:20270416T193000
DTEND;TZID=America/Chicago:20270416T203000
DTSTAMP:20260421T123930
CREATED:20251119T161719Z
LAST-MODIFIED:20251119T161719Z
UID:10006108-1807903800-1807907400@kolami-tx.org
SUMMARY:Shabbat Service
DESCRIPTION:Share this:\n				Share on Facebook (Opens in new window)\n				Facebook\n			\n				Share on X (Opens in new window)\n				X\n			\n				Email a link to a friend (Opens in new window)\n				Email\n			\n				Print (Opens in new window)\n				Print\n			Like this:Like Loading...
URL:https://kolami-tx.org/wp/event/shabbat-service-323/
LOCATION:Congregation Kol Ami
END:VEVENT
BEGIN:VEVENT
DTSTART;TZID=America/Chicago:20270416T194100
DTEND;TZID=America/Chicago:20270416T194100
DTSTAMP:20260421T123930
CREATED:20251229T162443Z
LAST-MODIFIED:20251229T162443Z
UID:10006247-1807904460-1807904460@kolami-tx.org
SUMMARY:🕯️ Candle lighting
DESCRIPTION:Parashat Metzora \nShare this:\n				Share on Facebook (Opens in new window)\n				Facebook\n			\n				Share on X (Opens in new window)\n				X\n			\n				Email a link to a friend (Opens in new window)\n				Email\n			\n				Print (Opens in new window)\n				Print\n			Like this:Like Loading...
URL:https://kolami-tx.org/wp/event/%f0%9f%95%af%ef%b8%8f-candle-lighting-199/
LOCATION:Flower Mound
CATEGORIES:Holiday
END:VEVENT
BEGIN:VEVENT
DTSTART;VALUE=DATE:20270417
DTEND;VALUE=DATE:20270418
DTSTAMP:20260421T123930
CREATED:20251229T162444Z
LAST-MODIFIED:20251229T162444Z
UID:10006248-1807920000-1808006399@kolami-tx.org
SUMMARY:10th of Nisan
DESCRIPTION:Share this:\n				Share on Facebook (Opens in new window)\n				Facebook\n			\n				Share on X (Opens in new window)\n				X\n			\n				Email a link to a friend (Opens in new window)\n				Email\n			\n				Print (Opens in new window)\n				Print\n			Like this:Like Loading...
URL:https://kolami-tx.org/wp/event/10th-of-nisan-4/
END:VEVENT
END:VCALENDAR