BEGIN:VCALENDAR
VERSION:2.0
PRODID:-//Congregation Kol Ami - ECPv6.15.20//NONSGML v1.0//EN
CALSCALE:GREGORIAN
METHOD:PUBLISH
X-WR-CALNAME:Congregation Kol Ami
X-ORIGINAL-URL:https://kolami-tx.org/wp
X-WR-CALDESC:Events for Congregation Kol Ami
REFRESH-INTERVAL;VALUE=DURATION:PT1H
X-Robots-Tag:noindex
X-PUBLISHED-TTL:PT1H
BEGIN:VTIMEZONE
TZID:America/Chicago
BEGIN:DAYLIGHT
TZOFFSETFROM:-0600
TZOFFSETTO:-0500
TZNAME:CDT
DTSTART:20260308T080000
END:DAYLIGHT
BEGIN:STANDARD
TZOFFSETFROM:-0500
TZOFFSETTO:-0600
TZNAME:CST
DTSTART:20261101T070000
END:STANDARD
BEGIN:DAYLIGHT
TZOFFSETFROM:-0600
TZOFFSETTO:-0500
TZNAME:CDT
DTSTART:20270314T080000
END:DAYLIGHT
BEGIN:STANDARD
TZOFFSETFROM:-0500
TZOFFSETTO:-0600
TZNAME:CST
DTSTART:20271107T070000
END:STANDARD
BEGIN:DAYLIGHT
TZOFFSETFROM:-0600
TZOFFSETTO:-0500
TZNAME:CDT
DTSTART:20280312T080000
END:DAYLIGHT
BEGIN:STANDARD
TZOFFSETFROM:-0500
TZOFFSETTO:-0600
TZNAME:CST
DTSTART:20281105T070000
END:STANDARD
END:VTIMEZONE
BEGIN:VEVENT
DTSTART;VALUE=DATE:20270424
DTEND;VALUE=DATE:20270425
DTSTAMP:20260421T204144
CREATED:20251229T162550Z
LAST-MODIFIED:20251229T162550Z
UID:10006273-1808524800-1808611199@kolami-tx.org
SUMMARY:17th of Nisan
DESCRIPTION:Share this:\n				Share on Facebook (Opens in new window)\n				Facebook\n			\n				Share on X (Opens in new window)\n				X\n			\n				Email a link to a friend (Opens in new window)\n				Email\n			\n				Print (Opens in new window)\n				Print\n			Like this:Like Loading...
URL:https://kolami-tx.org/wp/event/17th-of-nisan-4/
END:VEVENT
BEGIN:VEVENT
DTSTART;TZID=America/Chicago:20270424T100000
DTEND;TZID=America/Chicago:20270424T110000
DTSTAMP:20260421T204144
CREATED:20250507T153637Z
LAST-MODIFIED:20250507T153637Z
UID:10005727-1808560800-1808564400@kolami-tx.org
SUMMARY:Torah 'n' Tefilah
DESCRIPTION:Share this:\n				Share on Facebook (Opens in new window)\n				Facebook\n			\n				Share on X (Opens in new window)\n				X\n			\n				Email a link to a friend (Opens in new window)\n				Email\n			\n				Print (Opens in new window)\n				Print\n			Like this:Like Loading...
URL:https://kolami-tx.org/wp/event/torah-n-tefilah-217/
LOCATION:Congregation Kol Ami
END:VEVENT
BEGIN:VEVENT
DTSTART;TZID=America/Chicago:20270424T204400
DTEND;TZID=America/Chicago:20270424T204400
DTSTAMP:20260421T204144
CREATED:20251229T162550Z
LAST-MODIFIED:20251229T162550Z
UID:10006274-1808599440-1808599440@kolami-tx.org
SUMMARY:✨ Havdalah
DESCRIPTION:Share this:\n				Share on Facebook (Opens in new window)\n				Facebook\n			\n				Share on X (Opens in new window)\n				X\n			\n				Email a link to a friend (Opens in new window)\n				Email\n			\n				Print (Opens in new window)\n				Print\n			Like this:Like Loading...
URL:https://kolami-tx.org/wp/event/%e2%9c%a8-havdalah-176/
LOCATION:Flower Mound
CATEGORIES:Holiday
END:VEVENT
BEGIN:VEVENT
DTSTART;VALUE=DATE:20270425
DTEND;VALUE=DATE:20270426
DTSTAMP:20260421T204144
CREATED:20251229T162530Z
LAST-MODIFIED:20251229T162530Z
UID:10006265-1808611200-1808697599@kolami-tx.org
SUMMARY:3rd day of the Omer ③
DESCRIPTION:Today is 3 days of the Omer\nהַיּוֹם שְׁלוֹשָׁה יָמִים לָעֽוֹמֶר\nBeauty within Lovingkindness\nתִּפְאֶֽרֶת שֶׁבְּחֶֽסֶד\nTiferet sheb’Chesed \nShare this:\n				Share on Facebook (Opens in new window)\n				Facebook\n			\n				Share on X (Opens in new window)\n				X\n			\n				Email a link to a friend (Opens in new window)\n				Email\n			\n				Print (Opens in new window)\n				Print\n			Like this:Like Loading...
URL:https://kolami-tx.org/wp/event/3rd-day-of-the-omer-%e2%91%a2-2/
LOCATION:Flower Mound
END:VEVENT
BEGIN:VEVENT
DTSTART;VALUE=DATE:20270425
DTEND;VALUE=DATE:20270426
DTSTAMP:20260421T204144
CREATED:20251229T162531Z
LAST-MODIFIED:20251229T162531Z
UID:10006270-1808611200-1808697599@kolami-tx.org
SUMMARY:🫓 Pesach IV (CH’’M)
DESCRIPTION:Passover\, the Feast of Unleavened Bread. Also called Chag HaMatzot (the Festival of Matzah)\, it commemorates the Exodus and freedom of the Israelites from ancient Egypt\nTorah: Exodus 13:1-16; Numbers 28:19-25\nhttps://hebcal.com/h/pesach-2027?uc=ical-flower-mound-2027 \nShare this:\n				Share on Facebook (Opens in new window)\n				Facebook\n			\n				Share on X (Opens in new window)\n				X\n			\n				Email a link to a friend (Opens in new window)\n				Email\n			\n				Print (Opens in new window)\n				Print\n			Like this:Like Loading...
URL:https://kolami-tx.org/wp/event/%f0%9f%ab%93-pesach-iv-chm-4/
CATEGORIES:Holiday
END:VEVENT
BEGIN:VEVENT
DTSTART;VALUE=DATE:20270425
DTEND;VALUE=DATE:20270426
DTSTAMP:20260421T204144
CREATED:20251229T162531Z
LAST-MODIFIED:20251229T162531Z
UID:10006269-1808611200-1808697599@kolami-tx.org
SUMMARY:18th of Nisan
DESCRIPTION:Share this:\n				Share on Facebook (Opens in new window)\n				Facebook\n			\n				Share on X (Opens in new window)\n				X\n			\n				Email a link to a friend (Opens in new window)\n				Email\n			\n				Print (Opens in new window)\n				Print\n			Like this:Like Loading...
URL:https://kolami-tx.org/wp/event/18th-of-nisan-4/
END:VEVENT
BEGIN:VEVENT
DTSTART;VALUE=DATE:20270426
DTEND;VALUE=DATE:20270427
DTSTAMP:20260421T204144
CREATED:20251229T162530Z
LAST-MODIFIED:20251229T162530Z
UID:10006266-1808697600-1808783999@kolami-tx.org
SUMMARY:4th day of the Omer ④
DESCRIPTION:Today is 4 days of the Omer\nהַיּוֹם אַרְבָּעָה יָמִים לָעֽוֹמֶר\nEternity within Lovingkindness\nנֶּֽצַח שֶׁבְּחֶֽסֶד\nNetzach sheb’Chesed \nShare this:\n				Share on Facebook (Opens in new window)\n				Facebook\n			\n				Share on X (Opens in new window)\n				X\n			\n				Email a link to a friend (Opens in new window)\n				Email\n			\n				Print (Opens in new window)\n				Print\n			Like this:Like Loading...
URL:https://kolami-tx.org/wp/event/4th-day-of-the-omer-%e2%91%a3-2/
LOCATION:Flower Mound
END:VEVENT
BEGIN:VEVENT
DTSTART;VALUE=DATE:20270426
DTEND;VALUE=DATE:20270427
DTSTAMP:20260421T204144
CREATED:20251229T162530Z
LAST-MODIFIED:20251229T162530Z
UID:10006267-1808697600-1808783999@kolami-tx.org
SUMMARY:🫓 Pesach V (CH’’M)
DESCRIPTION:Passover\, the Feast of Unleavened Bread. Also called Chag HaMatzot (the Festival of Matzah)\, it commemorates the Exodus and freedom of the Israelites from ancient Egypt\nTorah: Exodus 22:24-23:19; Numbers 28:19-25\nhttps://hebcal.com/h/pesach-2027?uc=ical-flower-mound-2027 \nShare this:\n				Share on Facebook (Opens in new window)\n				Facebook\n			\n				Share on X (Opens in new window)\n				X\n			\n				Email a link to a friend (Opens in new window)\n				Email\n			\n				Print (Opens in new window)\n				Print\n			Like this:Like Loading...
URL:https://kolami-tx.org/wp/event/%f0%9f%ab%93-pesach-v-chm-4/
CATEGORIES:Holiday
END:VEVENT
BEGIN:VEVENT
DTSTART;VALUE=DATE:20270426
DTEND;VALUE=DATE:20270427
DTSTAMP:20260421T204144
CREATED:20251229T162530Z
LAST-MODIFIED:20251229T162530Z
UID:10006268-1808697600-1808783999@kolami-tx.org
SUMMARY:19th of Nisan
DESCRIPTION:Share this:\n				Share on Facebook (Opens in new window)\n				Facebook\n			\n				Share on X (Opens in new window)\n				X\n			\n				Email a link to a friend (Opens in new window)\n				Email\n			\n				Print (Opens in new window)\n				Print\n			Like this:Like Loading...
URL:https://kolami-tx.org/wp/event/19th-of-nisan-4/
END:VEVENT
BEGIN:VEVENT
DTSTART;VALUE=DATE:20270427
DTEND;VALUE=DATE:20270428
DTSTAMP:20260421T204144
CREATED:20251229T162550Z
LAST-MODIFIED:20251229T162550Z
UID:10006275-1808784000-1808870399@kolami-tx.org
SUMMARY:20th of Nisan
DESCRIPTION:Share this:\n				Share on Facebook (Opens in new window)\n				Facebook\n			\n				Share on X (Opens in new window)\n				X\n			\n				Email a link to a friend (Opens in new window)\n				Email\n			\n				Print (Opens in new window)\n				Print\n			Like this:Like Loading...
URL:https://kolami-tx.org/wp/event/20th-of-nisan-4/
END:VEVENT
BEGIN:VEVENT
DTSTART;VALUE=DATE:20270427
DTEND;VALUE=DATE:20270428
DTSTAMP:20260421T204144
CREATED:20251229T162550Z
LAST-MODIFIED:20251229T162550Z
UID:10006276-1808784000-1808870399@kolami-tx.org
SUMMARY:🫓 Pesach VI (CH’’M)
DESCRIPTION:Passover\, the Feast of Unleavened Bread. Also called Chag HaMatzot (the Festival of Matzah)\, it commemorates the Exodus and freedom of the Israelites from ancient Egypt\nTorah: Numbers 9:1-14\, 28:19-25\nhttps://hebcal.com/h/pesach-2027?uc=ical-flower-mound-2027 \nShare this:\n				Share on Facebook (Opens in new window)\n				Facebook\n			\n				Share on X (Opens in new window)\n				X\n			\n				Email a link to a friend (Opens in new window)\n				Email\n			\n				Print (Opens in new window)\n				Print\n			Like this:Like Loading...
URL:https://kolami-tx.org/wp/event/%f0%9f%ab%93-pesach-vi-chm-4/
CATEGORIES:Holiday
END:VEVENT
BEGIN:VEVENT
DTSTART;VALUE=DATE:20270427
DTEND;VALUE=DATE:20270428
DTSTAMP:20260421T204144
CREATED:20251229T162551Z
LAST-MODIFIED:20251229T162551Z
UID:10006277-1808784000-1808870399@kolami-tx.org
SUMMARY:5th day of the Omer ⑤
DESCRIPTION:Today is 5 days of the Omer\nהַיּוֹם חֲמִשָּׁה יָמִים לָעֽוֹמֶר\nSplendor within Lovingkindness\nהוֹד שֶׁבְּחֶֽסֶד\nHod sheb’Chesed \nShare this:\n				Share on Facebook (Opens in new window)\n				Facebook\n			\n				Share on X (Opens in new window)\n				X\n			\n				Email a link to a friend (Opens in new window)\n				Email\n			\n				Print (Opens in new window)\n				Print\n			Like this:Like Loading...
URL:https://kolami-tx.org/wp/event/5th-day-of-the-omer-%e2%91%a4-2/
LOCATION:Flower Mound
END:VEVENT
BEGIN:VEVENT
DTSTART;TZID=America/Chicago:20270427T194900
DTEND;TZID=America/Chicago:20270427T194900
DTSTAMP:20260421T204144
CREATED:20251229T162551Z
LAST-MODIFIED:20251229T162551Z
UID:10006278-1808855340-1808855340@kolami-tx.org
SUMMARY:🕯️ Candle lighting
DESCRIPTION:Share this:\n				Share on Facebook (Opens in new window)\n				Facebook\n			\n				Share on X (Opens in new window)\n				X\n			\n				Email a link to a friend (Opens in new window)\n				Email\n			\n				Print (Opens in new window)\n				Print\n			Like this:Like Loading...
URL:https://kolami-tx.org/wp/event/%f0%9f%95%af%ef%b8%8f-candle-lighting-203/
LOCATION:Flower Mound
CATEGORIES:Holiday
END:VEVENT
BEGIN:VEVENT
DTSTART;VALUE=DATE:20270428
DTEND;VALUE=DATE:20270429
DTSTAMP:20260421T204144
CREATED:20251229T162612Z
LAST-MODIFIED:20251229T162612Z
UID:10006286-1808870400-1808956799@kolami-tx.org
SUMMARY:6th day of the Omer ⑥
DESCRIPTION:Today is 6 days of the Omer\nהַיּוֹם שִׁשָּׁה יָמִים לָעֽוֹמֶר\nFoundation within Lovingkindness\nיְּסוֹד שֶׁבְּחֶֽסֶד\nYesod sheb’Chesed \nShare this:\n				Share on Facebook (Opens in new window)\n				Facebook\n			\n				Share on X (Opens in new window)\n				X\n			\n				Email a link to a friend (Opens in new window)\n				Email\n			\n				Print (Opens in new window)\n				Print\n			Like this:Like Loading...
URL:https://kolami-tx.org/wp/event/6th-day-of-the-omer-%e2%91%a5-2/
LOCATION:Flower Mound
END:VEVENT
BEGIN:VEVENT
DTSTART;VALUE=DATE:20270428
DTEND;VALUE=DATE:20270429
DTSTAMP:20260421T204144
CREATED:20251229T162612Z
LAST-MODIFIED:20251229T162612Z
UID:10006287-1808870400-1808956799@kolami-tx.org
SUMMARY:🫓 Pesach VII
DESCRIPTION:Passover\, the Feast of Unleavened Bread. Also called Chag HaMatzot (the Festival of Matzah)\, it commemorates the Exodus and freedom of the Israelites from ancient Egypt\nTorah: Exodus 13:17-15:26; Numbers 28:19-25\nHaftarah: II Samuel 22:1-51\nhttps://hebcal.com/h/pesach-2027?uc=ical-flower-mound-2027 \nShare this:\n				Share on Facebook (Opens in new window)\n				Facebook\n			\n				Share on X (Opens in new window)\n				X\n			\n				Email a link to a friend (Opens in new window)\n				Email\n			\n				Print (Opens in new window)\n				Print\n			Like this:Like Loading...
URL:https://kolami-tx.org/wp/event/%f0%9f%ab%93-pesach-vii-4/
CATEGORIES:Holiday
END:VEVENT
BEGIN:VEVENT
DTSTART;VALUE=DATE:20270428
DTEND;VALUE=DATE:20270429
DTSTAMP:20260421T204144
CREATED:20251229T162612Z
LAST-MODIFIED:20251229T162612Z
UID:10006285-1808870400-1808956799@kolami-tx.org
SUMMARY:21st of Nisan
DESCRIPTION:Share this:\n				Share on Facebook (Opens in new window)\n				Facebook\n			\n				Share on X (Opens in new window)\n				X\n			\n				Email a link to a friend (Opens in new window)\n				Email\n			\n				Print (Opens in new window)\n				Print\n			Like this:Like Loading...
URL:https://kolami-tx.org/wp/event/21st-of-nisan-4/
END:VEVENT
BEGIN:VEVENT
DTSTART;TZID=America/Chicago:20270428T204700
DTEND;TZID=America/Chicago:20270428T204700
DTSTAMP:20260421T204144
CREATED:20251229T162612Z
LAST-MODIFIED:20251229T162612Z
UID:10006288-1808945220-1808945220@kolami-tx.org
SUMMARY:🕯️ Candle lighting
DESCRIPTION:Share this:\n				Share on Facebook (Opens in new window)\n				Facebook\n			\n				Share on X (Opens in new window)\n				X\n			\n				Email a link to a friend (Opens in new window)\n				Email\n			\n				Print (Opens in new window)\n				Print\n			Like this:Like Loading...
URL:https://kolami-tx.org/wp/event/%f0%9f%95%af%ef%b8%8f-candle-lighting-204/
LOCATION:Flower Mound
CATEGORIES:Holiday
END:VEVENT
BEGIN:VEVENT
DTSTART;VALUE=DATE:20270429
DTEND;VALUE=DATE:20270430
DTSTAMP:20260421T204144
CREATED:20251229T162551Z
LAST-MODIFIED:20251229T162551Z
UID:10006279-1808956800-1809043199@kolami-tx.org
SUMMARY:🫓 Pesach VIII
DESCRIPTION:Passover\, the Feast of Unleavened Bread. Also called Chag HaMatzot (the Festival of Matzah)\, it commemorates the Exodus and freedom of the Israelites from ancient Egypt\nTorah: Deuteronomy 15:19-16:17; Numbers 28:19-25\nHaftarah: Isaiah 10:32-12:6\nhttps://hebcal.com/h/pesach-2027?uc=ical-flower-mound-2027 \nShare this:\n				Share on Facebook (Opens in new window)\n				Facebook\n			\n				Share on X (Opens in new window)\n				X\n			\n				Email a link to a friend (Opens in new window)\n				Email\n			\n				Print (Opens in new window)\n				Print\n			Like this:Like Loading...
URL:https://kolami-tx.org/wp/event/%f0%9f%ab%93-pesach-viii-4/
CATEGORIES:Holiday
END:VEVENT
BEGIN:VEVENT
DTSTART;VALUE=DATE:20270429
DTEND;VALUE=DATE:20270430
DTSTAMP:20260421T204144
CREATED:20251229T162611Z
LAST-MODIFIED:20251229T162611Z
UID:10006282-1808956800-1809043199@kolami-tx.org
SUMMARY:🕯️ Yizkor
DESCRIPTION:Pesach VIII \nShare this:\n				Share on Facebook (Opens in new window)\n				Facebook\n			\n				Share on X (Opens in new window)\n				X\n			\n				Email a link to a friend (Opens in new window)\n				Email\n			\n				Print (Opens in new window)\n				Print\n			Like this:Like Loading...
URL:https://kolami-tx.org/wp/event/%f0%9f%95%af%ef%b8%8f-yizkor/
END:VEVENT
BEGIN:VEVENT
DTSTART;VALUE=DATE:20270429
DTEND;VALUE=DATE:20270430
DTSTAMP:20260421T204144
CREATED:20251229T162611Z
LAST-MODIFIED:20251229T162611Z
UID:10006283-1808956800-1809043199@kolami-tx.org
SUMMARY:7th day of the Omer ⑦
DESCRIPTION:Today is 7 days\, which is 1 week of the Omer\nהַיּוֹם שִׁבְעָה יָמִים\, שֶׁהֵם שָׁבֽוּעַ אֶחָד לָעֽוֹמֶר\nMajesty within Lovingkindness\nמַלְכוּת שֶׁבְּחֶֽסֶד\nMalkhut sheb’Chesed \nShare this:\n				Share on Facebook (Opens in new window)\n				Facebook\n			\n				Share on X (Opens in new window)\n				X\n			\n				Email a link to a friend (Opens in new window)\n				Email\n			\n				Print (Opens in new window)\n				Print\n			Like this:Like Loading...
URL:https://kolami-tx.org/wp/event/7th-day-of-the-omer-%e2%91%a6-2/
LOCATION:Flower Mound
END:VEVENT
BEGIN:VEVENT
DTSTART;VALUE=DATE:20270429
DTEND;VALUE=DATE:20270430
DTSTAMP:20260421T204145
CREATED:20251229T162611Z
LAST-MODIFIED:20251229T162611Z
UID:10006284-1808956800-1809043199@kolami-tx.org
SUMMARY:22nd of Nisan
DESCRIPTION:Share this:\n				Share on Facebook (Opens in new window)\n				Facebook\n			\n				Share on X (Opens in new window)\n				X\n			\n				Email a link to a friend (Opens in new window)\n				Email\n			\n				Print (Opens in new window)\n				Print\n			Like this:Like Loading...
URL:https://kolami-tx.org/wp/event/22nd-of-nisan-4/
END:VEVENT
BEGIN:VEVENT
DTSTART;TZID=America/Chicago:20270429T204800
DTEND;TZID=America/Chicago:20270429T204800
DTSTAMP:20260421T204145
CREATED:20251229T162612Z
LAST-MODIFIED:20251229T162612Z
UID:10006289-1809031680-1809031680@kolami-tx.org
SUMMARY:✨ Havdalah
DESCRIPTION:Share this:\n				Share on Facebook (Opens in new window)\n				Facebook\n			\n				Share on X (Opens in new window)\n				X\n			\n				Email a link to a friend (Opens in new window)\n				Email\n			\n				Print (Opens in new window)\n				Print\n			Like this:Like Loading...
URL:https://kolami-tx.org/wp/event/%e2%9c%a8-havdalah-177/
LOCATION:Flower Mound
CATEGORIES:Holiday
END:VEVENT
BEGIN:VEVENT
DTSTART;VALUE=DATE:20270430
DTEND;VALUE=DATE:20270501
DTSTAMP:20260421T204145
CREATED:20251229T162551Z
LAST-MODIFIED:20251229T162551Z
UID:10006280-1809043200-1809129599@kolami-tx.org
SUMMARY:8th day of the Omer ⑧
DESCRIPTION:Today is 8 days\, which is 1 week and 1 day of the Omer\nהַיּוֹם שְׁמוֹנָה יָמִים\, שֶׁהֵם שָׁבֽוּעַ אֶחָד וְיוֹם אֶחָד לָעֽוֹמֶר\nLovingkindness within Might\nחֶֽסֶד שֶׁבִּגְבוּרָה\nChesed shebiGevurah \nShare this:\n				Share on Facebook (Opens in new window)\n				Facebook\n			\n				Share on X (Opens in new window)\n				X\n			\n				Email a link to a friend (Opens in new window)\n				Email\n			\n				Print (Opens in new window)\n				Print\n			Like this:Like Loading...
URL:https://kolami-tx.org/wp/event/8th-day-of-the-omer-%e2%91%a7-2/
LOCATION:Flower Mound
END:VEVENT
BEGIN:VEVENT
DTSTART;VALUE=DATE:20270430
DTEND;VALUE=DATE:20270501
DTSTAMP:20260421T204145
CREATED:20251229T162611Z
LAST-MODIFIED:20251229T162611Z
UID:10006281-1809043200-1809129599@kolami-tx.org
SUMMARY:23rd of Nisan
DESCRIPTION:Share this:\n				Share on Facebook (Opens in new window)\n				Facebook\n			\n				Share on X (Opens in new window)\n				X\n			\n				Email a link to a friend (Opens in new window)\n				Email\n			\n				Print (Opens in new window)\n				Print\n			Like this:Like Loading...
URL:https://kolami-tx.org/wp/event/23rd-of-nisan-4/
END:VEVENT
BEGIN:VEVENT
DTSTART;TZID=America/Chicago:20270430T193000
DTEND;TZID=America/Chicago:20270430T203000
DTSTAMP:20260421T204145
CREATED:20251119T161830Z
LAST-MODIFIED:20251119T161830Z
UID:10006110-1809113400-1809117000@kolami-tx.org
SUMMARY:Shabbat Service
DESCRIPTION:Share this:\n				Share on Facebook (Opens in new window)\n				Facebook\n			\n				Share on X (Opens in new window)\n				X\n			\n				Email a link to a friend (Opens in new window)\n				Email\n			\n				Print (Opens in new window)\n				Print\n			Like this:Like Loading...
URL:https://kolami-tx.org/wp/event/shabbat-service-325/
LOCATION:Congregation Kol Ami
END:VEVENT
BEGIN:VEVENT
DTSTART;TZID=America/Chicago:20270430T195100
DTEND;TZID=America/Chicago:20270430T195100
DTSTAMP:20260421T204145
CREATED:20251229T162612Z
LAST-MODIFIED:20251229T162612Z
UID:10006290-1809114660-1809114660@kolami-tx.org
SUMMARY:🕯️ Candle lighting
DESCRIPTION:Parashat Achrei Mot \nShare this:\n				Share on Facebook (Opens in new window)\n				Facebook\n			\n				Share on X (Opens in new window)\n				X\n			\n				Email a link to a friend (Opens in new window)\n				Email\n			\n				Print (Opens in new window)\n				Print\n			Like this:Like Loading...
URL:https://kolami-tx.org/wp/event/%f0%9f%95%af%ef%b8%8f-candle-lighting-205/
LOCATION:Flower Mound
CATEGORIES:Holiday
END:VEVENT
BEGIN:VEVENT
DTSTART;VALUE=DATE:20270501
DTEND;VALUE=DATE:20270502
DTSTAMP:20260421T204145
CREATED:20251229T162633Z
LAST-MODIFIED:20251229T162633Z
UID:10006291-1809129600-1809215999@kolami-tx.org
SUMMARY:24th of Nisan
DESCRIPTION:Share this:\n				Share on Facebook (Opens in new window)\n				Facebook\n			\n				Share on X (Opens in new window)\n				X\n			\n				Email a link to a friend (Opens in new window)\n				Email\n			\n				Print (Opens in new window)\n				Print\n			Like this:Like Loading...
URL:https://kolami-tx.org/wp/event/24th-of-nisan-4/
END:VEVENT
BEGIN:VEVENT
DTSTART;VALUE=DATE:20270501
DTEND;VALUE=DATE:20270502
DTSTAMP:20260421T204145
CREATED:20251229T162634Z
LAST-MODIFIED:20251229T162634Z
UID:10006294-1809129600-1809215999@kolami-tx.org
SUMMARY:Mevarchim Chodesh Iyyar
DESCRIPTION:Molad Iyyar: Thursday\, 2:51am and 9 chalakim \nShare this:\n				Share on Facebook (Opens in new window)\n				Facebook\n			\n				Share on X (Opens in new window)\n				X\n			\n				Email a link to a friend (Opens in new window)\n				Email\n			\n				Print (Opens in new window)\n				Print\n			Like this:Like Loading...
URL:https://kolami-tx.org/wp/event/mevarchim-chodesh-iyyar-3/
END:VEVENT
BEGIN:VEVENT
DTSTART;VALUE=DATE:20270501
DTEND;VALUE=DATE:20270502
DTSTAMP:20260421T204145
CREATED:20251229T162634Z
LAST-MODIFIED:20251229T162634Z
UID:10006292-1809129600-1809215999@kolami-tx.org
SUMMARY:Parashat Achrei Mot
DESCRIPTION:Achrei Mot (“After The Death”) opens by describing the ritual service of Yom Kippur\, the Day of Atonement. It then details the prohibitions of offering sacrifices outside of the Mishkan (Tabernacle) and of eating animal blood\, and ends with a list of forbidden sexual relations.\nTorah: Leviticus 16:1-18:30\nHaftarah: Amos 9:7-15\nHaftarah for Sephardim: Ezekiel 22:1-16\nhttps://hebcal.com/s/5787/29?uc=ical-flower-mound-2027 \nShare this:\n				Share on Facebook (Opens in new window)\n				Facebook\n			\n				Share on X (Opens in new window)\n				X\n			\n				Email a link to a friend (Opens in new window)\n				Email\n			\n				Print (Opens in new window)\n				Print\n			Like this:Like Loading...
URL:https://kolami-tx.org/wp/event/parashat-achrei-mot/
CATEGORIES:Parsha
END:VEVENT
BEGIN:VEVENT
DTSTART;VALUE=DATE:20270501
DTEND;VALUE=DATE:20270502
DTSTAMP:20260421T204145
CREATED:20251229T162634Z
LAST-MODIFIED:20251229T162634Z
UID:10006293-1809129600-1809215999@kolami-tx.org
SUMMARY:9th day of the Omer ⑨
DESCRIPTION:Today is 9 days\, which is 1 week and 2 days of the Omer\nהַיּוֹם תִּשְׁעָה יָמִים\, שֶׁהֵם שָׁבֽוּעַ אֶחָד וּשְׁנֵי יָמִים לָעֽוֹמֶר\nMight within Might\nגְּבוּרָה שֶׁבִּגְבוּרָה\nGevurah shebiGevurah \nShare this:\n				Share on Facebook (Opens in new window)\n				Facebook\n			\n				Share on X (Opens in new window)\n				X\n			\n				Email a link to a friend (Opens in new window)\n				Email\n			\n				Print (Opens in new window)\n				Print\n			Like this:Like Loading...
URL:https://kolami-tx.org/wp/event/9th-day-of-the-omer-%e2%91%a8-2/
LOCATION:Flower Mound
END:VEVENT
END:VCALENDAR