BEGIN:VCALENDAR
VERSION:2.0
PRODID:-//Congregation Kol Ami - ECPv6.15.20//NONSGML v1.0//EN
CALSCALE:GREGORIAN
METHOD:PUBLISH
X-ORIGINAL-URL:https://kolami-tx.org/wp
X-WR-CALDESC:Events for Congregation Kol Ami
REFRESH-INTERVAL;VALUE=DURATION:PT1H
X-Robots-Tag:noindex
X-PUBLISHED-TTL:PT1H
BEGIN:VTIMEZONE
TZID:America/Chicago
BEGIN:DAYLIGHT
TZOFFSETFROM:-0600
TZOFFSETTO:-0500
TZNAME:CDT
DTSTART:20260308T080000
END:DAYLIGHT
BEGIN:STANDARD
TZOFFSETFROM:-0500
TZOFFSETTO:-0600
TZNAME:CST
DTSTART:20261101T070000
END:STANDARD
BEGIN:DAYLIGHT
TZOFFSETFROM:-0600
TZOFFSETTO:-0500
TZNAME:CDT
DTSTART:20270314T080000
END:DAYLIGHT
BEGIN:STANDARD
TZOFFSETFROM:-0500
TZOFFSETTO:-0600
TZNAME:CST
DTSTART:20271107T070000
END:STANDARD
BEGIN:DAYLIGHT
TZOFFSETFROM:-0600
TZOFFSETTO:-0500
TZNAME:CDT
DTSTART:20280312T080000
END:DAYLIGHT
BEGIN:STANDARD
TZOFFSETFROM:-0500
TZOFFSETTO:-0600
TZNAME:CST
DTSTART:20281105T070000
END:STANDARD
END:VTIMEZONE
BEGIN:VEVENT
DTSTART;VALUE=DATE:20270204
DTEND;VALUE=DATE:20270205
DTSTAMP:20260425T082333
CREATED:20251229T162200Z
LAST-MODIFIED:20251229T162200Z
UID:10006154-1801699200-1801785599@kolami-tx.org
SUMMARY:27th of Sh’vat
DESCRIPTION:Share this:\n				Share on Facebook (Opens in new window)\n				Facebook\n			\n				Share on X (Opens in new window)\n				X\n			\n				Email a link to a friend (Opens in new window)\n				Email\n			\n				Print (Opens in new window)\n				Print\n			Like this:Like Loading...
URL:https://kolami-tx.org/wp/event/27th-of-shvat-4/
END:VEVENT
BEGIN:VEVENT
DTSTART;VALUE=DATE:20270204
DTEND;VALUE=DATE:20270205
DTSTAMP:20260425T082333
CREATED:20251229T162200Z
LAST-MODIFIED:20251229T162200Z
UID:10006156-1801699200-1801785599@kolami-tx.org
SUMMARY:✡️ Yom Kippur Katan
DESCRIPTION:Minor Day of Atonement on the day preceeding Rosh Chodesh Adar I \nShare this:\n				Share on Facebook (Opens in new window)\n				Facebook\n			\n				Share on X (Opens in new window)\n				X\n			\n				Email a link to a friend (Opens in new window)\n				Email\n			\n				Print (Opens in new window)\n				Print\n			Like this:Like Loading...
URL:https://kolami-tx.org/wp/event/%e2%9c%a1%ef%b8%8f-yom-kippur-katan-2/
CATEGORIES:Holiday
END:VEVENT
BEGIN:VEVENT
DTSTART;TZID=America/Chicago:20270204T060600
DTEND;TZID=America/Chicago:20270204T060600
DTSTAMP:20260425T082333
CREATED:20251229T162200Z
LAST-MODIFIED:20251229T162200Z
UID:10006155-1801721160-1801721160@kolami-tx.org
SUMMARY:Fast begins
DESCRIPTION:Yom Kippur Katan Adar I \nShare this:\n				Share on Facebook (Opens in new window)\n				Facebook\n			\n				Share on X (Opens in new window)\n				X\n			\n				Email a link to a friend (Opens in new window)\n				Email\n			\n				Print (Opens in new window)\n				Print\n			Like this:Like Loading...
URL:https://kolami-tx.org/wp/event/fast-begins-10/
LOCATION:Flower Mound
END:VEVENT
BEGIN:VEVENT
DTSTART;TZID=America/Chicago:20270204T183400
DTEND;TZID=America/Chicago:20270204T183400
DTSTAMP:20260425T082333
CREATED:20251229T162200Z
LAST-MODIFIED:20251229T162200Z
UID:10006157-1801766040-1801766040@kolami-tx.org
SUMMARY:Fast ends
DESCRIPTION:Yom Kippur Katan Adar I \nShare this:\n				Share on Facebook (Opens in new window)\n				Facebook\n			\n				Share on X (Opens in new window)\n				X\n			\n				Email a link to a friend (Opens in new window)\n				Email\n			\n				Print (Opens in new window)\n				Print\n			Like this:Like Loading...
URL:https://kolami-tx.org/wp/event/fast-ends-8/
LOCATION:Flower Mound
END:VEVENT
BEGIN:VEVENT
DTSTART;VALUE=DATE:20270205
DTEND;VALUE=DATE:20270206
DTSTAMP:20260425T082333
CREATED:20251229T162200Z
LAST-MODIFIED:20251229T162200Z
UID:10006158-1801785600-1801871999@kolami-tx.org
SUMMARY:28th of Sh’vat
DESCRIPTION:Share this:\n				Share on Facebook (Opens in new window)\n				Facebook\n			\n				Share on X (Opens in new window)\n				X\n			\n				Email a link to a friend (Opens in new window)\n				Email\n			\n				Print (Opens in new window)\n				Print\n			Like this:Like Loading...
URL:https://kolami-tx.org/wp/event/28th-of-shvat-3/
END:VEVENT
BEGIN:VEVENT
DTSTART;TZID=America/Chicago:20270205T174600
DTEND;TZID=America/Chicago:20270205T174600
DTSTAMP:20260425T082333
CREATED:20251229T162200Z
LAST-MODIFIED:20251229T162200Z
UID:10006159-1801849560-1801849560@kolami-tx.org
SUMMARY:🕯️ Candle lighting
DESCRIPTION:Parashat Mishpatim \nShare this:\n				Share on Facebook (Opens in new window)\n				Facebook\n			\n				Share on X (Opens in new window)\n				X\n			\n				Email a link to a friend (Opens in new window)\n				Email\n			\n				Print (Opens in new window)\n				Print\n			Like this:Like Loading...
URL:https://kolami-tx.org/wp/event/%f0%9f%95%af%ef%b8%8f-candle-lighting-189/
LOCATION:Flower Mound
CATEGORIES:Holiday
END:VEVENT
BEGIN:VEVENT
DTSTART;TZID=America/Chicago:20270205T193000
DTEND;TZID=America/Chicago:20270205T203000
DTSTAMP:20260425T082333
CREATED:20251119T161408Z
LAST-MODIFIED:20251119T161408Z
UID:10006098-1801855800-1801859400@kolami-tx.org
SUMMARY:Shabbat Service
DESCRIPTION:Share this:\n				Share on Facebook (Opens in new window)\n				Facebook\n			\n				Share on X (Opens in new window)\n				X\n			\n				Email a link to a friend (Opens in new window)\n				Email\n			\n				Print (Opens in new window)\n				Print\n			Like this:Like Loading...
URL:https://kolami-tx.org/wp/event/shabbat-service-313/
LOCATION:Congregation Kol Ami
END:VEVENT
BEGIN:VEVENT
DTSTART;VALUE=DATE:20270206
DTEND;VALUE=DATE:20270207
DTSTAMP:20260425T082333
CREATED:20251229T162201Z
LAST-MODIFIED:20251229T162201Z
UID:10006160-1801872000-1801958399@kolami-tx.org
SUMMARY:29th of Sh’vat
DESCRIPTION:Share this:\n				Share on Facebook (Opens in new window)\n				Facebook\n			\n				Share on X (Opens in new window)\n				X\n			\n				Email a link to a friend (Opens in new window)\n				Email\n			\n				Print (Opens in new window)\n				Print\n			Like this:Like Loading...
URL:https://kolami-tx.org/wp/event/29th-of-shvat-3/
END:VEVENT
BEGIN:VEVENT
DTSTART;VALUE=DATE:20270206
DTEND;VALUE=DATE:20270207
DTSTAMP:20260425T082333
CREATED:20251229T162217Z
LAST-MODIFIED:20251229T162217Z
UID:10006161-1801872000-1801958399@kolami-tx.org
SUMMARY:Parashat Mishpatim
DESCRIPTION:Mishpatim (“Laws”) recounts a series of God’s laws that Moses gives to the Israelites. These include laws about treatment of slaves\, damages\, loans\, returning lost property\, the Sabbath\, the sabbatical year\, holidays\, and destroying idolatry. The portion ends as Moses ascends Mount Sinai for 40 days.\nTorah: Exodus 21:1-24:18\nHaftarah: I Samuel 20:18-42 | Shabbat Machar Chodesh\nhttps://hebcal.com/s/5787/18?uc=ical-flower-mound-2027 \nShare this:\n				Share on Facebook (Opens in new window)\n				Facebook\n			\n				Share on X (Opens in new window)\n				X\n			\n				Email a link to a friend (Opens in new window)\n				Email\n			\n				Print (Opens in new window)\n				Print\n			Like this:Like Loading...
URL:https://kolami-tx.org/wp/event/parashat-mishpatim-4/
CATEGORIES:Parsha
END:VEVENT
BEGIN:VEVENT
DTSTART;VALUE=DATE:20270206
DTEND;VALUE=DATE:20270207
DTSTAMP:20260425T082333
CREATED:20251229T162217Z
LAST-MODIFIED:20251229T162217Z
UID:10006162-1801872000-1801958399@kolami-tx.org
SUMMARY:Mevarchim Chodesh Adar I
DESCRIPTION:Molad Adar I: Saturday\, 12:39pm and 6 chalakim \nShare this:\n				Share on Facebook (Opens in new window)\n				Facebook\n			\n				Share on X (Opens in new window)\n				X\n			\n				Email a link to a friend (Opens in new window)\n				Email\n			\n				Print (Opens in new window)\n				Print\n			Like this:Like Loading...
URL:https://kolami-tx.org/wp/event/mevarchim-chodesh-adar-i/
END:VEVENT
BEGIN:VEVENT
DTSTART;TZID=America/Chicago:20270206T100000
DTEND;TZID=America/Chicago:20270206T110000
DTSTAMP:20260425T082333
CREATED:20250221T213008Z
LAST-MODIFIED:20250221T213008Z
UID:10005693-1801908000-1801911600@kolami-tx.org
SUMMARY:Torah 'n' Tefilah
DESCRIPTION:Share this:\n				Share on Facebook (Opens in new window)\n				Facebook\n			\n				Share on X (Opens in new window)\n				X\n			\n				Email a link to a friend (Opens in new window)\n				Email\n			\n				Print (Opens in new window)\n				Print\n			Like this:Like Loading...
URL:https://kolami-tx.org/wp/event/torah-n-tefilah-206/
LOCATION:Congregation Kol Ami
END:VEVENT
BEGIN:VEVENT
DTSTART;TZID=America/Chicago:20270206T184300
DTEND;TZID=America/Chicago:20270206T184300
DTSTAMP:20260425T082333
CREATED:20251229T162217Z
LAST-MODIFIED:20251229T162217Z
UID:10006163-1801939380-1801939380@kolami-tx.org
SUMMARY:✨ Havdalah
DESCRIPTION:Share this:\n				Share on Facebook (Opens in new window)\n				Facebook\n			\n				Share on X (Opens in new window)\n				X\n			\n				Email a link to a friend (Opens in new window)\n				Email\n			\n				Print (Opens in new window)\n				Print\n			Like this:Like Loading...
URL:https://kolami-tx.org/wp/event/%e2%9c%a8-havdalah-165/
LOCATION:Flower Mound
CATEGORIES:Holiday
END:VEVENT
END:VCALENDAR