BEGIN:VCALENDAR
VERSION:2.0
PRODID:-//Congregation Kol Ami - ECPv6.15.20//NONSGML v1.0//EN
CALSCALE:GREGORIAN
METHOD:PUBLISH
X-WR-CALNAME:Congregation Kol Ami
X-ORIGINAL-URL:https://kolami-tx.org/wp
X-WR-CALDESC:Events for Congregation Kol Ami
REFRESH-INTERVAL;VALUE=DURATION:PT1H
X-Robots-Tag:noindex
X-PUBLISHED-TTL:PT1H
BEGIN:VTIMEZONE
TZID:America/Chicago
BEGIN:DAYLIGHT
TZOFFSETFROM:-0600
TZOFFSETTO:-0500
TZNAME:CDT
DTSTART:20260308T080000
END:DAYLIGHT
BEGIN:STANDARD
TZOFFSETFROM:-0500
TZOFFSETTO:-0600
TZNAME:CST
DTSTART:20261101T070000
END:STANDARD
BEGIN:DAYLIGHT
TZOFFSETFROM:-0600
TZOFFSETTO:-0500
TZNAME:CDT
DTSTART:20270314T080000
END:DAYLIGHT
BEGIN:STANDARD
TZOFFSETFROM:-0500
TZOFFSETTO:-0600
TZNAME:CST
DTSTART:20271107T070000
END:STANDARD
BEGIN:DAYLIGHT
TZOFFSETFROM:-0600
TZOFFSETTO:-0500
TZNAME:CDT
DTSTART:20280312T080000
END:DAYLIGHT
BEGIN:STANDARD
TZOFFSETFROM:-0500
TZOFFSETTO:-0600
TZNAME:CST
DTSTART:20281105T070000
END:STANDARD
END:VTIMEZONE
BEGIN:VEVENT
DTSTART;VALUE=DATE:20270305
DTEND;VALUE=DATE:20270306
DTSTAMP:20260425T064438
CREATED:20251229T162255Z
LAST-MODIFIED:20251229T162255Z
UID:10006187-1804204800-1804291199@kolami-tx.org
SUMMARY:26th of Adar I
DESCRIPTION:Share this:\n				Share on Facebook (Opens in new window)\n				Facebook\n			\n				Share on X (Opens in new window)\n				X\n			\n				Email a link to a friend (Opens in new window)\n				Email\n			\n				Print (Opens in new window)\n				Print\n			Like this:Like Loading...
URL:https://kolami-tx.org/wp/event/26th-of-adar-i/
END:VEVENT
BEGIN:VEVENT
DTSTART;TZID=America/Chicago:20270305T181000
DTEND;TZID=America/Chicago:20270305T181000
DTSTAMP:20260425T064438
CREATED:20251229T162255Z
LAST-MODIFIED:20251229T162255Z
UID:10006190-1804270200-1804270200@kolami-tx.org
SUMMARY:🕯️ Candle lighting
DESCRIPTION:Parashat Vayakhel \nShare this:\n				Share on Facebook (Opens in new window)\n				Facebook\n			\n				Share on X (Opens in new window)\n				X\n			\n				Email a link to a friend (Opens in new window)\n				Email\n			\n				Print (Opens in new window)\n				Print\n			Like this:Like Loading...
URL:https://kolami-tx.org/wp/event/%f0%9f%95%af%ef%b8%8f-candle-lighting-193/
LOCATION:Flower Mound
CATEGORIES:Holiday
END:VEVENT
BEGIN:VEVENT
DTSTART;TZID=America/Chicago:20270305T193000
DTEND;TZID=America/Chicago:20270305T203000
DTSTAMP:20260425T064438
CREATED:20251119T161649Z
LAST-MODIFIED:20251119T161649Z
UID:10006102-1804275000-1804278600@kolami-tx.org
SUMMARY:Shabbat Service
DESCRIPTION:Share this:\n				Share on Facebook (Opens in new window)\n				Facebook\n			\n				Share on X (Opens in new window)\n				X\n			\n				Email a link to a friend (Opens in new window)\n				Email\n			\n				Print (Opens in new window)\n				Print\n			Like this:Like Loading...
URL:https://kolami-tx.org/wp/event/shabbat-service-317/
LOCATION:Congregation Kol Ami
END:VEVENT
BEGIN:VEVENT
DTSTART;VALUE=DATE:20270306
DTEND;VALUE=DATE:20270307
DTSTAMP:20260425T064438
CREATED:20251229T162255Z
LAST-MODIFIED:20251229T162255Z
UID:10006188-1804291200-1804377599@kolami-tx.org
SUMMARY:Parashat Vayakhel
DESCRIPTION:Vayakhel (“He Assembled”) opens as God commands the Israelites to observe the Sabbath. Moses asks for material donations for the building of the Mishkan (Tabernacle)\, and the people donate. A group of artisans designated by God begin building the Mishkan and its vessels.\nTorah: Exodus 35:1-38:20\, 30:11-16\nHaftarah: II Kings 12:1-17 | Shabbat Shekalim\nHaftarah for Sephardim: II Kings 11:17-12:17\nhttps://hebcal.com/s/5787/22?uc=ical-flower-mound-2027 \nShare this:\n				Share on Facebook (Opens in new window)\n				Facebook\n			\n				Share on X (Opens in new window)\n				X\n			\n				Email a link to a friend (Opens in new window)\n				Email\n			\n				Print (Opens in new window)\n				Print\n			Like this:Like Loading...
URL:https://kolami-tx.org/wp/event/parashat-vayakhel-2/
CATEGORIES:Parsha
END:VEVENT
BEGIN:VEVENT
DTSTART;VALUE=DATE:20270306
DTEND;VALUE=DATE:20270307
DTSTAMP:20260425T064438
CREATED:20251229T162255Z
LAST-MODIFIED:20251229T162255Z
UID:10006189-1804291200-1804377599@kolami-tx.org
SUMMARY:Mevarchim Chodesh Adar II
DESCRIPTION:Molad Adar II: Monday\, 1:23am and 7 chalakim \nShare this:\n				Share on Facebook (Opens in new window)\n				Facebook\n			\n				Share on X (Opens in new window)\n				X\n			\n				Email a link to a friend (Opens in new window)\n				Email\n			\n				Print (Opens in new window)\n				Print\n			Like this:Like Loading...
URL:https://kolami-tx.org/wp/event/mevarchim-chodesh-adar-ii/
END:VEVENT
BEGIN:VEVENT
DTSTART;VALUE=DATE:20270306
DTEND;VALUE=DATE:20270307
DTSTAMP:20260425T064438
CREATED:20251229T162315Z
LAST-MODIFIED:20251229T162315Z
UID:10006191-1804291200-1804377599@kolami-tx.org
SUMMARY:🕍 Shabbat Shekalim
DESCRIPTION:Shabbat before Rosh Chodesh Adar. Read in preparation for Purim\nHaftarah: II Kings 12:1-17\nHaftarah for Sephardim: II Kings 11:17-12:17\nhttps://hebcal.com/h/shabbat-shekalim-2027?uc=ical-flower-mound-2027 \nShare this:\n				Share on Facebook (Opens in new window)\n				Facebook\n			\n				Share on X (Opens in new window)\n				X\n			\n				Email a link to a friend (Opens in new window)\n				Email\n			\n				Print (Opens in new window)\n				Print\n			Like this:Like Loading...
URL:https://kolami-tx.org/wp/event/%f0%9f%95%8d-shabbat-shekalim-4/
CATEGORIES:Holiday
END:VEVENT
BEGIN:VEVENT
DTSTART;VALUE=DATE:20270306
DTEND;VALUE=DATE:20270307
DTSTAMP:20260425T064438
CREATED:20251229T162315Z
LAST-MODIFIED:20251229T162315Z
UID:10006192-1804291200-1804377599@kolami-tx.org
SUMMARY:27th of Adar I
DESCRIPTION:Share this:\n				Share on Facebook (Opens in new window)\n				Facebook\n			\n				Share on X (Opens in new window)\n				X\n			\n				Email a link to a friend (Opens in new window)\n				Email\n			\n				Print (Opens in new window)\n				Print\n			Like this:Like Loading...
URL:https://kolami-tx.org/wp/event/27th-of-adar-i/
END:VEVENT
BEGIN:VEVENT
DTSTART;TZID=America/Chicago:20270306T100000
DTEND;TZID=America/Chicago:20270306T110000
DTSTAMP:20260425T064438
CREATED:20250320T172955Z
LAST-MODIFIED:20250320T172955Z
UID:10005703-1804327200-1804330800@kolami-tx.org
SUMMARY:Torah 'n' Tefilah
DESCRIPTION:Share this:\n				Share on Facebook (Opens in new window)\n				Facebook\n			\n				Share on X (Opens in new window)\n				X\n			\n				Email a link to a friend (Opens in new window)\n				Email\n			\n				Print (Opens in new window)\n				Print\n			Like this:Like Loading...
URL:https://kolami-tx.org/wp/event/torah-n-tefilah-210/
LOCATION:Congregation Kol Ami
END:VEVENT
BEGIN:VEVENT
DTSTART;TZID=America/Chicago:20270306T190600
DTEND;TZID=America/Chicago:20270306T190600
DTSTAMP:20260425T064438
CREATED:20251229T162315Z
LAST-MODIFIED:20251229T162315Z
UID:10006193-1804359960-1804359960@kolami-tx.org
SUMMARY:✨ Havdalah
DESCRIPTION:Share this:\n				Share on Facebook (Opens in new window)\n				Facebook\n			\n				Share on X (Opens in new window)\n				X\n			\n				Email a link to a friend (Opens in new window)\n				Email\n			\n				Print (Opens in new window)\n				Print\n			Like this:Like Loading...
URL:https://kolami-tx.org/wp/event/%e2%9c%a8-havdalah-169/
LOCATION:Flower Mound
CATEGORIES:Holiday
END:VEVENT
END:VCALENDAR