BEGIN:VCALENDAR
VERSION:2.0
PRODID:-//Congregation Kol Ami - ECPv6.15.20//NONSGML v1.0//EN
CALSCALE:GREGORIAN
METHOD:PUBLISH
X-WR-CALNAME:Congregation Kol Ami
X-ORIGINAL-URL:https://kolami-tx.org/wp
X-WR-CALDESC:Events for Congregation Kol Ami
REFRESH-INTERVAL;VALUE=DURATION:PT1H
X-Robots-Tag:noindex
X-PUBLISHED-TTL:PT1H
BEGIN:VTIMEZONE
TZID:America/Chicago
BEGIN:DAYLIGHT
TZOFFSETFROM:-0600
TZOFFSETTO:-0500
TZNAME:CDT
DTSTART:20260308T080000
END:DAYLIGHT
BEGIN:STANDARD
TZOFFSETFROM:-0500
TZOFFSETTO:-0600
TZNAME:CST
DTSTART:20261101T070000
END:STANDARD
BEGIN:DAYLIGHT
TZOFFSETFROM:-0600
TZOFFSETTO:-0500
TZNAME:CDT
DTSTART:20270314T080000
END:DAYLIGHT
BEGIN:STANDARD
TZOFFSETFROM:-0500
TZOFFSETTO:-0600
TZNAME:CST
DTSTART:20271107T070000
END:STANDARD
BEGIN:DAYLIGHT
TZOFFSETFROM:-0600
TZOFFSETTO:-0500
TZNAME:CDT
DTSTART:20280312T080000
END:DAYLIGHT
BEGIN:STANDARD
TZOFFSETFROM:-0500
TZOFFSETTO:-0600
TZNAME:CST
DTSTART:20281105T070000
END:STANDARD
END:VTIMEZONE
BEGIN:VEVENT
DTSTART;VALUE=DATE:20270319
DTEND;VALUE=DATE:20270320
DTSTAMP:20260425T064437
CREATED:20251229T162331Z
LAST-MODIFIED:20251229T162331Z
UID:10006207-1805414400-1805500799@kolami-tx.org
SUMMARY:10th of Adar II
DESCRIPTION:Share this:\n				Share on Facebook (Opens in new window)\n				Facebook\n			\n				Share on X (Opens in new window)\n				X\n			\n				Email a link to a friend (Opens in new window)\n				Email\n			\n				Print (Opens in new window)\n				Print\n			Like this:Like Loading...
URL:https://kolami-tx.org/wp/event/10th-of-adar-ii/
END:VEVENT
BEGIN:VEVENT
DTSTART;TZID=America/Chicago:20270319T192100
DTEND;TZID=America/Chicago:20270319T192100
DTSTAMP:20260425T064437
CREATED:20251229T162331Z
LAST-MODIFIED:20251229T162331Z
UID:10006208-1805484060-1805484060@kolami-tx.org
SUMMARY:🕯️ Candle lighting
DESCRIPTION:Parashat Vayikra \nShare this:\n				Share on Facebook (Opens in new window)\n				Facebook\n			\n				Share on X (Opens in new window)\n				X\n			\n				Email a link to a friend (Opens in new window)\n				Email\n			\n				Print (Opens in new window)\n				Print\n			Like this:Like Loading...
URL:https://kolami-tx.org/wp/event/%f0%9f%95%af%ef%b8%8f-candle-lighting-195/
LOCATION:Flower Mound
CATEGORIES:Holiday
END:VEVENT
BEGIN:VEVENT
DTSTART;TZID=America/Chicago:20270319T193000
DTEND;TZID=America/Chicago:20270319T203000
DTSTAMP:20260425T064437
CREATED:20251119T161705Z
LAST-MODIFIED:20251119T161705Z
UID:10006104-1805484600-1805488200@kolami-tx.org
SUMMARY:Shabbat Service
DESCRIPTION:Share this:\n				Share on Facebook (Opens in new window)\n				Facebook\n			\n				Share on X (Opens in new window)\n				X\n			\n				Email a link to a friend (Opens in new window)\n				Email\n			\n				Print (Opens in new window)\n				Print\n			Like this:Like Loading...
URL:https://kolami-tx.org/wp/event/shabbat-service-319/
LOCATION:Congregation Kol Ami
END:VEVENT
BEGIN:VEVENT
DTSTART;VALUE=DATE:20270320
DTEND;VALUE=DATE:20270321
DTSTAMP:20260425T064437
CREATED:20251229T162331Z
LAST-MODIFIED:20251229T162331Z
UID:10006209-1805500800-1805587199@kolami-tx.org
SUMMARY:11th of Adar II
DESCRIPTION:Share this:\n				Share on Facebook (Opens in new window)\n				Facebook\n			\n				Share on X (Opens in new window)\n				X\n			\n				Email a link to a friend (Opens in new window)\n				Email\n			\n				Print (Opens in new window)\n				Print\n			Like this:Like Loading...
URL:https://kolami-tx.org/wp/event/11th-of-adar-ii/
END:VEVENT
BEGIN:VEVENT
DTSTART;VALUE=DATE:20270320
DTEND;VALUE=DATE:20270321
DTSTAMP:20260425T064437
CREATED:20251229T162331Z
LAST-MODIFIED:20251229T162331Z
UID:10006210-1805500800-1805587199@kolami-tx.org
SUMMARY:🕍 Shabbat Zachor
DESCRIPTION:Shabbat of Remembrance. Shabbat before Purim\nHaftarah: I Samuel 15:2-34\nHaftarah for Sephardim: I Samuel 15:1-34\nhttps://hebcal.com/h/shabbat-zachor-2027?uc=ical-flower-mound-2027 \nShare this:\n				Share on Facebook (Opens in new window)\n				Facebook\n			\n				Share on X (Opens in new window)\n				X\n			\n				Email a link to a friend (Opens in new window)\n				Email\n			\n				Print (Opens in new window)\n				Print\n			Like this:Like Loading...
URL:https://kolami-tx.org/wp/event/%f0%9f%95%8d-shabbat-zachor-4/
CATEGORIES:Holiday
END:VEVENT
BEGIN:VEVENT
DTSTART;VALUE=DATE:20270320
DTEND;VALUE=DATE:20270321
DTSTAMP:20260425T064437
CREATED:20251229T162349Z
LAST-MODIFIED:20251229T162349Z
UID:10006211-1805500800-1805587199@kolami-tx.org
SUMMARY:Parashat Vayikra
DESCRIPTION:In Vayikra (“He Called”)\, the first Torah portion in the Book of Leviticus\, God tells Moses about the sacrifices offered in the Mishkan (Tabernacle). Among these are sacrifices entirely burnt on the altar\, meal offerings made of flour and oil\, peace offerings\, and sacrifices brought for sinning inadvertently.\nTorah: Leviticus 1:1-5:26; Deuteronomy 25:17-19\nHaftarah: I Samuel 15:2-34 | Shabbat Zachor\nHaftarah for Sephardim: I Samuel 15:1-34\nhttps://hebcal.com/s/5787/24?uc=ical-flower-mound-2027 \nShare this:\n				Share on Facebook (Opens in new window)\n				Facebook\n			\n				Share on X (Opens in new window)\n				X\n			\n				Email a link to a friend (Opens in new window)\n				Email\n			\n				Print (Opens in new window)\n				Print\n			Like this:Like Loading...
URL:https://kolami-tx.org/wp/event/parashat-vayikra-4/
CATEGORIES:Parsha
END:VEVENT
BEGIN:VEVENT
DTSTART;TZID=America/Chicago:20270320T100000
DTEND;TZID=America/Chicago:20270320T110000
DTSTAMP:20260425T064437
CREATED:20250320T173011Z
LAST-MODIFIED:20250320T173011Z
UID:10005707-1805536800-1805540400@kolami-tx.org
SUMMARY:Torah 'n' Tefilah
DESCRIPTION:Share this:\n				Share on Facebook (Opens in new window)\n				Facebook\n			\n				Share on X (Opens in new window)\n				X\n			\n				Email a link to a friend (Opens in new window)\n				Email\n			\n				Print (Opens in new window)\n				Print\n			Like this:Like Loading...
URL:https://kolami-tx.org/wp/event/torah-n-tefilah-212/
LOCATION:Congregation Kol Ami
END:VEVENT
BEGIN:VEVENT
DTSTART;TZID=America/Chicago:20270320T201600
DTEND;TZID=America/Chicago:20270320T201600
DTSTAMP:20260425T064437
CREATED:20251229T162349Z
LAST-MODIFIED:20251229T162349Z
UID:10006212-1805573760-1805573760@kolami-tx.org
SUMMARY:✨ Havdalah
DESCRIPTION:Share this:\n				Share on Facebook (Opens in new window)\n				Facebook\n			\n				Share on X (Opens in new window)\n				X\n			\n				Email a link to a friend (Opens in new window)\n				Email\n			\n				Print (Opens in new window)\n				Print\n			Like this:Like Loading...
URL:https://kolami-tx.org/wp/event/%e2%9c%a8-havdalah-171/
LOCATION:Flower Mound
CATEGORIES:Holiday
END:VEVENT
END:VCALENDAR